{"text_format":"1","workbook":"xlsx","n_sheets":51,"sheets":["COVER","COVER FOR","COVER SUM","TP","TP PA","PA","SUMPA","RAPOR","TP PKN","PKN","SUMPKN","TP BI","BI","SUMBI","TP MAT","MAT","SUMMAT","TP IPAS","IPAS","SUMIPAS","TP MUSIK","MUSIK","SUMMUSIK","TP TARI","TARI","SUMTARI","TP KRIYA","KRIYA","SUMKRIYA","TP TEATER","TEATER","SUMTEATER","TP PJOK","PJOK","SUMPJOK","REKAPNA","TP BING","BING","SUMBING","TP MULOK1","MULOK1","SUMM1","TP MULOK2","MULOK2","SUMM2","IDENTITAS","EKSTRA","SAMPUL","Data Siswa","MUTASI","INDUK"],"not_rendered":{"charts":0,"images":10,"macros":1,"external_links":1,"defined_names":28,"comments":0,"pivot_tables":0},"unopened":[],"bounds":{"document_bytes":16777216,"sheet_cells":100000,"rows_first":2000,"rows_last":500,"rows_between":2000,"halvings":0,"cell_chars":16384,"cell_head_chars":4096},"cells_cut":0,"cells_raw":0,"read":"whole","date_system":"1900"}

{"sheet":"COVER","index":0,"n_rows":21,"n_cols":7,"rows_kept":21,"cut":false,"hidden":false,"merged":[[2,1,2,14],[3,1,3,14],[6,6,6,9],[5,6,5,9],[20,5,20,10]]}
[]
[]
[null,"PENILAIAN KURIKULUM"]
[null,"SEKOLAH PENGGERAK"]
[]
[null,null,null,null,null,null,"INPUT NILAI"]
[]
[]
[]
[]
[]
[]
[]
[]
[]
[]
[]
[]
[]
[]
[null,null,null,null,null,"Created by Ayu Chandra Astari - 088805566108"]

{"sheet":"COVER FOR","index":1,"n_rows":21,"n_cols":14,"rows_kept":21,"cut":false,"hidden":false,"merged":[[2,0,2,14],[4,1,4,14]]}
[]
[]
["INPUT NILAI ASESMEN FORMATIF"]
[]
[null,"Silahkan Input Nilai Asesmen Formatif Sesuai dengan Tujuan Pembelajaran yang dituliskan"]
[]
[]
[]
[]
[]
[]
[]
[]
[]
[]
[]
[]
[null,null,null,null,null,null,null,null,null,null,null,null,null,"kembali ke HOME"]
[]
[null,null,null,null,null,null,null,null,null,null,null,null,null,"kembali ke halaman"]
[null,null,null,null,null,null,null,null,null,null,null,null,null,"sebelumnya"]

{"sheet":"COVER SUM","index":2,"n_rows":21,"n_cols":13,"rows_kept":21,"cut":false,"hidden":false,"merged":[[2,0,2,14],[4,1,4,14]]}
[]
[]
["INPUT NILAI ASESMEN SUMATIF"]
[]
[null,"Silahkan Input Nilai Asesmen Sumatif Sesuai dengan Lingkup Materi yang diajarkan"]
[]
[]
[]
[]
[]
[]
[]
[]
[]
[]
[]
[]
[]
[null,null,null,null,null,null,null,null,null,null,null,null,"Kembali ke HOME"]
[]
[null,null,null,null,null,null,null,null,null,null,null,null,"Kembali ke  sebelumnya"]

{"sheet":"TP","index":3,"n_rows":22,"n_cols":13,"rows_kept":22,"cut":false,"hidden":false,"merged":[[2,0,2,14],[4,1,4,14],[5,1,5,14]]}
[]
[]
["TUJUAN PEMBELAJARAN"]
[]
[null,"Tuliskan Tujuan Pembelajaran di masing-masing kolom Mata Pelajaran yang tersedia"]
[null,"Tujuan Pembelajaran yang dituliskan akan menjadi deskripsi di Rapor"]
[]
[]
[]
[]
[]
[]
[]
[]
[]
[]
[]
[]
[]
[null,null,null,null,null,null,null,null,null,null,null,null,"Kembali ke halaman awal"]
[]
[null,null,null,null,null,null,null,null,null,null,null,null,"Kembali ke halaman sebelumnya"]

{"sheet":"TP PA","index":4,"n_rows":28,"n_cols":10,"rows_kept":28,"cut":false,"hidden":false,"merged":[[2,6,2,9],[2,0,2,5]]}
[]
[]
["ALUR TUJUAN PEMBELAJARAN ",null,null,null,null,null,"LINGKUP MATERI"]
[]
[null,"Mata Pelajaran",null,null,{"$f":"\": \"&IDENTITAS!$G$5","v":": Pendidikan Agama"},null,null,"Mata Pelajaran",null,{"$f":"\": \"&IDENTITAS!$G$5","v":": Pendidikan Agama"}]
[null,"Semester",null,null,{"$f":"\": \"&IDENTITAS!$D$21","v":": "},null,null,"Semester",null,{"$f":"\": \"&IDENTITAS!$D$21","v":": "}]
[]
[null,null,null,"No","Tujuan Pembelajaran",null,null,null,"No","Lingkup Materi"]
[null,null,null,1,null,null,null,null,1]
[null,null,null,2,null,null,null,null,2]
[null,null,null,3,null,null,null,null,3]
[null,null,null,4,null,null,null,null,4]
[null,null,null,5,null,null,null,null,5]
[null,null,null,6,null,null,null,null,6]
[null,null,null,7,null,null,null,"Catatan: Tuliskan lingkup materi pelajaran yang anda ajarkan. Contoh: Siklus Air"]
[null,null,null,8]
[null,null,null,9]
[null,null,null,10]
[null,null,null,11]
[null,null,null,12]
[null,null,null,13]
[null,null,null,14]
[null,null,null,15]
[null,null,null,16]
[null,null,null,17]
[null,null,null,18]
[null,null,null,19]
[null,null,null,20]

{"sheet":"PA","index":5,"n_rows":62,"n_cols":31,"rows_kept":62,"cut":false,"hidden":false,"merged":[[2,0,2,24],[9,28,9,30],[61,1,61,2],[8,3,8,22],[7,3,7,22],[7,1,10,1],[7,2,10,2],[7,23,10,23],[9,25,9,27]]}
[]
[]
["DAFTAR NILAI ASESMEN FORMATIF"]
[]
[null,null,"Mata Pelajaran",":","Pendidikan Agama"]
[]
[]
[null,"No","NAMA SISWA","Pendidikan Agama",null,null,null,null,null,null,null,null,null,null,null,null,null,null,null,null,null,null,null,"NILAI RAPOR"]
[null,null,null,"ASESMEN FORMATIF"]
[null,null,null,"TP 1","TP 2","TP 3","TP 4","TP 5","TP 6","TP 7","TP 8","TP 9","TP 10","TP 11","TP 12","TP 13","TP 14","TP 15","TP 16","TP 17","TP 18","TP 19","TP 20"]
[null,null,null,{"$f":"'TP PA'!E9","v":0},{"$f":"'TP PA'!E10","v":0},{"$f":"'TP PA'!E11","v":0},{"$f":"'TP PA'!E12","v":0},{"$f":"'TP PA'!E13","v":0},{"$f":"'TP PA'!E14","v":0},{"$f":"'TP PA'!E15","v":0},{"$f":"'TP PA'!E16","v":0},{"$f":"'TP PA'!E17","v":0},{"$f":"'TP PA'!E18","v":0},{"$f":"'TP PA'!E19","v":0},{"$f":"'TP PA'!E20","v":0},{"$f":"'TP PA'!E21","v":0},{"$f":"'TP PA'!E22","v":0},{"$f":"'TP PA'!E23","v":0},{"$f":"'TP PA'!E24","v":0},{"$f":"'TP PA'!E25","v":0},{"$f":"'TP PA'!E26","v":0},{"$f":"'TP PA'!E27","v":0},{"$f":"'TP PA'!E28","v":0},null,null,"TP","MAX","DESKRIPSI","TP","MIN","DESKRIPSI"]
[null,1,{"$f":"'Data Siswa'!D6","v":0},null,null,null,null,null,null,null,null,null,null,null,null,null,null,null,null,null,null,null,null,{"$f":"IFERROR(AVERAGE(D12:W12),0)","v":0},null,{"$f":"INDEX($D$11:$W$11,MATCH(AA12,D12:W12,0))","v":{"$error":"#N/A"}},{"$f":"MAX(D12:W12)","v":0},{"$f":"C12&\" sangat menguasai dalam \"&Z12","v":{"$error":"#N/A"}},{"$f":"INDEX($D$11:$W$11,MATCH(AD12,D12:W12,0))","v":{"$error":"#N/A"}},{"$f":"MIN(D12:W12)","v":0},{"$f":"C12&\" perlu bimbingan dalam \"&AC12","v":{"$error":"#N/A"}}]
[null,2,{"$f":"'Data Siswa'!D7","v":0},null,null,null,null,null,null,null,null,null,null,null,null,null,null,null,null,null,null,null,null,0,null,{"$f":"INDEX($D$11:$W$11,MATCH(AA13,D13:W13,0))","v":{"$error":"#N/A"}},{"$f":"MAX(D13:W13)","v":0},{"$f":"C13&\" sangat menguasai dalam \"&Z13","v":{"$error":"#N/A"}},{"$f":"INDEX($D$11:$W$11,MATCH(AD13,D13:W13,0))","v":{"$error":"#N/A"}},{"$f":"MIN(D13:W13)","v":0},{"$f":"C13&\" perlu bimbingan dalam \"&AC13","v":{"$error":"#N/A"}}]
[null,3,{"$f":"'Data Siswa'!D8","v":0},null,null,null,null,null,null,null,null,null,null,null,null,null,null,null,null,null,null,null,null,0,null,{"$error":"#N/A"},0,{"$error":"#N/A"},{"$error":"#N/A"},0,{"$error":"#N/A"}]
[null,4,{"$f":"'Data Siswa'!D9","v":0},null,null,null,null,null,null,null,null,null,null,null,null,null,null,null,null,null,null,null,null,0,null,{"$error":"#N/A"},0,{"$error":"#N/A"},{"$error":"#N/A"},0,{"$error":"#N/A"}]
[null,5,{"$f":"'Data Siswa'!D10","v":0},null,null,null,null,null,null,null,null,null,null,null,null,null,null,null,null,null,null,null,null,0,null,{"$error":"#N/A"},0,{"$error":"#N/A"},{"$error":"#N/A"},0,{"$error":"#N/A"}]
[null,6,{"$f":"'Data Siswa'!D11","v":0},null,null,null,null,null,null,null,null,null,null,null,null,null,null,null,null,null,null,null,null,0,null,{"$error":"#N/A"},0,{"$error":"#N/A"},{"$error":"#N/A"},0,{"$error":"#N/A"}]
[null,7,{"$f":"'Data Siswa'!D12","v":0},null,null,null,null,null,null,null,null,null,null,null,null,null,null,null,null,null,null,null,null,0,null,{"$error":"#N/A"},0,{"$error":"#N/A"},{"$error":"#N/A"},0,{"$error":"#N/A"}]
[null,8,{"$f":"'Data Siswa'!D13","v":0},null,null,null,null,null,null,null,null,null,null,null,null,null,null,null,null,null,null,null,null,0,null,{"$error":"#N/A"},0,{"$error":"#N/A"},{"$error":"#N/A"},0,{"$error":"#N/A"}]
[null,9,{"$f":"'Data Siswa'!D14","v":0},null,null,null,null,null,null,null,null,null,null,null,null,null,null,null,null,null,null,null,null,0,null,{"$error":"#N/A"},0,{"$error":"#N/A"},{"$error":"#N/A"},0,{"$error":"#N/A"}]
[null,10,{"$f":"'Data Siswa'!D15","v":0},null,null,null,null,null,null,null,null,null,null,null,null,null,null,null,null,null,null,null,null,0,null,{"$error":"#N/A"},0,{"$error":"#N/A"},{"$error":"#N/A"},0,{"$error":"#N/A"}]
[null,11,{"$f":"'Data Siswa'!D16","v":0},null,null,null,null,null,null,null,null,null,null,null,null,null,null,null,null,null,null,null,null,0,null,{"$error":"#N/A"},0,{"$error":"#N/A"},{"$error":"#N/A"},0,{"$error":"#N/A"}]
[null,12,{"$f":"'Data Siswa'!D17","v":0},null,null,null,null,null,null,null,null,null,null,null,null,null,null,null,null,null,null,null,null,0,null,{"$error":"#N/A"},0,{"$error":"#N/A"},{"$error":"#N/A"},0,{"$error":"#N/A"}]
[null,13,{"$f":"'Data Siswa'!D18","v":0},null,null,null,null,null,null,null,null,null,null,null,null,null,null,null,null,null,null,null,null,0,null,{"$error":"#N/A"},0,{"$error":"#N/A"},{"$error":"#N/A"},0,{"$error":"#N/A"}]
[null,14,{"$f":"'Data Siswa'!D19","v":0},null,null,null,null,null,null,null,null,null,null,null,null,null,null,null,null,null,null,null,null,0,null,{"$error":"#N/A"},0,{"$error":"#N/A"},{"$error":"#N/A"},0,{"$error":"#N/A"}]
[null,15,{"$f":"'Data Siswa'!D20","v":0},null,null,null,null,null,null,null,null,null,null,null,null,null,null,null,null,null,null,null,null,0,null,{"$error":"#N/A"},0,{"$error":"#N/A"},{"$error":"#N/A"},0,{"$error":"#N/A"}]
[null,16,{"$f":"'Data Siswa'!D21","v":0},null,null,null,null,null,null,null,null,null,null,null,null,null,null,null,null,null,null,null,null,0,null,{"$error":"#N/A"},0,{"$error":"#N/A"},{"$error":"#N/A"},0,{"$error":"#N/A"}]
[null,17,{"$f":"'Data Siswa'!D22","v":0},null,null,null,null,null,null,null,null,null,null,null,null,null,null,null,null,null,null,null,null,0,null,{"$error":"#N/A"},0,{"$error":"#N/A"},{"$error":"#N/A"},0,{"$error":"#N/A"}]
[null,18,{"$f":"'Data Siswa'!D23","v":0},null,null,null,null,null,null,null,null,null,null,null,null,null,null,null,null,null,null,null,null,0,null,{"$error":"#N/A"},0,{"$error":"#N/A"},{"$error":"#N/A"},0,{"$error":"#N/A"}]
[null,19,{"$f":"'Data Siswa'!D24","v":0},null,null,null,null,null,null,null,null,null,null,null,null,null,null,null,null,null,null,null,null,0,null,{"$error":"#N/A"},0,{"$error":"#N/A"},{"$error":"#N/A"},0,{"$error":"#N/A"}]
[null,20,{"$f":"'Data Siswa'!D25","v":0},null,null,null,null,null,null,null,null,null,null,null,null,null,null,null,null,null,null,null,null,0,null,{"$error":"#N/A"},0,{"$error":"#N/A"},{"$error":"#N/A"},0,{"$error":"#N/A"}]
[null,21,{"$f":"'Data Siswa'!D26","v":0},null,null,null,null,null,null,null,null,null,null,null,null,null,null,null,null,null,null,null,null,0,null,{"$error":"#N/A"},0,{"$error":"#N/A"},{"$error":"#N/A"},0,{"$error":"#N/A"}]
[null,22,{"$f":"'Data Siswa'!D27","v":0},null,null,null,null,null,null,null,null,null,null,null,null,null,null,null,null,null,null,null,null,0,null,{"$error":"#N/A"},0,{"$error":"#N/A"},{"$error":"#N/A"},0,{"$error":"#N/A"}]
[null,23,{"$f":"'Data Siswa'!D28","v":0},null,null,null,null,null,null,null,null,null,null,null,null,null,null,null,null,null,null,null,null,0,null,{"$error":"#N/A"},0,{"$error":"#N/A"},{"$error":"#N/A"},0,{"$error":"#N/A"}]
[null,24,{"$f":"'Data Siswa'!D29","v":0},null,null,null,null,null,null,null,null,null,null,null,null,null,null,null,null,null,null,null,null,0,null,{"$error":"#N/A"},0,{"$error":"#N/A"},{"$error":"#N/A"},0,{"$error":"#N/A"}]
[null,25,{"$f":"'Data Siswa'!D30","v":0},null,null,null,null,null,null,null,null,null,null,null,null,null,null,null,null,null,null,null,null,0,null,{"$error":"#N/A"},0,{"$error":"#N/A"},{"$error":"#N/A"},0,{"$error":"#N/A"}]
[null,26,{"$f":"'Data Siswa'!D31","v":0},null,null,null,null,null,null,null,null,null,null,null,null,null,null,null,null,null,null,null,null,0,null,{"$error":"#N/A"},0,{"$error":"#N/A"},{"$error":"#N/A"},0,{"$error":"#N/A"}]
[null,27,{"$f":"'Data Siswa'!D32","v":0},null,null,null,null,null,null,null,null,null,null,null,null,null,null,null,null,null,null,null,null,0,null,{"$error":"#N/A"},0,{"$error":"#N/A"},{"$error":"#N/A"},0,{"$error":"#N/A"}]
[null,28,{"$f":"'Data Siswa'!D33","v":0},null,null,null,null,null,null,null,null,null,null,null,null,null,null,null,null,null,null,null,null,0,null,{"$error":"#N/A"},0,{"$error":"#N/A"},{"$error":"#N/A"},0,{"$error":"#N/A"}]
[null,29,{"$f":"'Data Siswa'!D34","v":0},null,null,null,null,null,null,null,null,null,null,null,null,null,null,null,null,null,null,null,null,0,null,{"$error":"#N/A"},0,{"$error":"#N/A"},{"$error":"#N/A"},0,{"$error":"#N/A"}]
[null,30,{"$f":"'Data Siswa'!D35","v":0},null,null,null,null,null,null,null,null,null,null,null,null,null,null,null,null,null,null,null,null,0,null,{"$error":"#N/A"},0,{"$error":"#N/A"},{"$error":"#N/A"},0,{"$error":"#N/A"}]
[null,31,{"$f":"'Data Siswa'!D36","v":0},null,null,null,null,null,null,null,null,null,null,null,null,null,null,null,null,null,null,null,null,0,null,{"$error":"#N/A"},0,{"$error":"#N/A"},{"$error":"#N/A"},0,{"$error":"#N/A"}]
[null,32,{"$f":"'Data Siswa'!D37","v":0},null,null,null,null,null,null,null,null,null,null,null,null,null,null,null,null,null,null,null,null,0,null,{"$error":"#N/A"},0,{"$error":"#N/A"},{"$error":"#N/A"},0,{"$error":"#N/A"}]
[null,33,{"$f":"'Data Siswa'!D38","v":0},null,null,null,null,null,null,null,null,null,null,null,null,null,null,null,null,null,null,null,null,{"$f":"IFERROR(AVERAGE(D44:W44),0)","v":0},null,{"$error":"#N/A"},0,{"$error":"#N/A"},{"$error":"#N/A"},0,{"$error":"#N/A"}]
[null,34,{"$f":"'Data Siswa'!D39","v":0},null,null,null,null,null,null,null,null,null,null,null,null,null,null,null,null,null,null,null,null,0,null,{"$error":"#N/A"},0,{"$error":"#N/A"},{"$error":"#N/A"},0,{"$error":"#N/A"}]
[null,35,{"$f":"'Data Siswa'!D40","v":0},null,null,null,null,null,null,null,null,null,null,null,null,null,null,null,null,null,null,null,null,0,null,{"$error":"#N/A"},0,{"$error":"#N/A"},{"$error":"#N/A"},0,{"$error":"#N/A"}]
[null,36,{"$f":"'Data Siswa'!D41","v":0},null,null,null,null,null,null,null,null,null,null,null,null,null,null,null,null,null,null,null,null,0,null,{"$error":"#N/A"},0,{"$error":"#N/A"},{"$error":"#N/A"},0,{"$error":"#N/A"}]
[null,37,{"$f":"'Data Siswa'!D42","v":0},null,null,null,null,null,null,null,null,null,null,null,null,null,null,null,null,null,null,null,null,0,null,{"$error":"#N/A"},0,{"$error":"#N/A"},{"$error":"#N/A"},0,{"$error":"#N/A"}]
[null,38,{"$f":"'Data Siswa'!D43","v":0},null,null,null,null,null,null,null,null,null,null,null,null,null,null,null,null,null,null,null,null,0,null,{"$error":"#N/A"},0,{"$error":"#N/A"},{"$error":"#N/A"},0,{"$error":"#N/A"}]
[null,39,{"$f":"'Data Siswa'!D44","v":0},null,null,null,null,null,null,null,null,null,null,null,null,null,null,null,null,null,null,null,null,0,null,{"$error":"#N/A"},0,{"$error":"#N/A"},{"$error":"#N/A"},0,{"$error":"#N/A"}]
[null,40,{"$f":"'Data Siswa'!D45","v":0},null,null,null,null,null,null,null,null,null,null,null,null,null,null,null,null,null,null,null,null,0,null,{"$error":"#N/A"},0,{"$error":"#N/A"},{"$error":"#N/A"},0,{"$error":"#N/A"}]
[null,41,{"$f":"'Data Siswa'!D46","v":0},null,null,null,null,null,null,null,null,null,null,null,null,null,null,null,null,null,null,null,null,0,null,{"$error":"#N/A"},0,{"$error":"#N/A"},{"$error":"#N/A"},0,{"$error":"#N/A"}]
[null,42,{"$f":"'Data Siswa'!D47","v":0},null,null,null,null,null,null,null,null,null,null,null,null,null,null,null,null,null,null,null,null,0,null,{"$error":"#N/A"},0,{"$error":"#N/A"},{"$error":"#N/A"},0,{"$error":"#N/A"}]
[null,43,{"$f":"'Data Siswa'!D48","v":0},null,null,null,null,null,null,null,null,null,null,null,null,null,null,null,null,null,null,null,null,0,null,{"$error":"#N/A"},0,{"$error":"#N/A"},{"$error":"#N/A"},0,{"$error":"#N/A"}]
[null,44,{"$f":"'Data Siswa'!D49","v":0},null,null,null,null,null,null,null,null,null,null,null,null,null,null,null,null,null,null,null,null,0,null,{"$error":"#N/A"},0,{"$error":"#N/A"},{"$error":"#N/A"},0,{"$error":"#N/A"}]
[null,45,{"$f":"'Data Siswa'!D50","v":0},null,null,null,null,null,null,null,null,null,null,null,null,null,null,null,null,null,null,null,null,0,null,{"$error":"#N/A"},0,{"$error":"#N/A"},{"$error":"#N/A"},0,{"$error":"#N/A"}]
[null,46,{"$f":"'Data Siswa'!D51","v":0},null,null,null,null,null,null,null,null,null,null,null,null,null,null,null,null,null,null,null,null,0,null,{"$error":"#N/A"},0,{"$error":"#N/A"},{"$error":"#N/A"},0,{"$error":"#N/A"}]
[null,47,{"$f":"'Data Siswa'!D52","v":0},null,null,null,null,null,null,null,null,null,null,null,null,null,null,null,null,null,null,null,null,0,null,{"$error":"#N/A"},0,{"$error":"#N/A"},{"$error":"#N/A"},0,{"$error":"#N/A"}]
[null,48,{"$f":"'Data Siswa'!D53","v":0},null,null,null,null,null,null,null,null,null,null,null,null,null,null,null,null,null,null,null,null,0,null,{"$error":"#N/A"},0,{"$error":"#N/A"},{"$error":"#N/A"},0,{"$error":"#N/A"}]
[null,49,{"$f":"'Data Siswa'!D54","v":0},null,null,null,null,null,null,null,null,null,null,null,null,null,null,null,null,null,null,null,null,0,null,{"$error":"#N/A"},0,{"$error":"#N/A"},{"$error":"#N/A"},0,{"$error":"#N/A"}]
[null,50,{"$f":"'Data Siswa'!D55","v":0},null,null,null,null,null,null,null,null,null,null,null,null,null,null,null,null,null,null,null,null,0,null,{"$error":"#N/A"},0,{"$error":"#N/A"},{"$error":"#N/A"},0,{"$error":"#N/A"}]
[null,"RATA-RATA",null,{"$f":"IFERROR(AVERAGE(D12:D61),0)","v":0},{"$f":"IFERROR(AVERAGE(E12:E61),0)","v":0},0,0,0,0,0,0,0,0,0,0,0,0,0,0,0,0,0,0]

{"sheet":"SUMPA","index":6,"n_rows":62,"n_cols":35,"rows_kept":62,"cut":false,"hidden":false,"merged":[[7,3,7,26],[2,0,2,27],[7,1,10,1],[7,2,10,2],[7,27,10,27],[9,3,9,4],[9,5,9,6],[9,7,9,8],[9,9,9,10],[9,11,9,12],[9,13,9,14],[9,15,9,16],[9,17,9,18],[9,19,9,20],[9,21,9,22],[9,23,9,24],[9,29,9,31],[9,32,9,34],[61,1,61,2],[8,3,8,14],[8,15,8,26],[9,25,9,26]]}
[]
[]
["DAFTAR NILAI ASESMEN SUMATIF"]
[]
[null,null,"Mata Pelajaran",":",null,"Pendidikan Agama"]
[]
[]
[null,"No","NAMA SISWA","Pendidikan Agama",null,null,null,null,null,null,null,null,null,null,null,null,null,null,null,null,null,null,null,null,null,null,null,"NILAI RAPOR"]
[null,null,null,"ASESMEN SUMATIF AKHIR LINGKUP MATERI",null,null,null,null,null,null,null,null,null,null,null,"ASESMEN SUMATIF AKHIR SEMESTER *"]
[null,null,null,{"$f":"'TP PA'!J9","v":0},null,{"$f":"'TP PA'!J10","v":0},null,{"$f":"'TP PA'!J11","v":0},null,{"$f":"'TP PA'!J12","v":0},null,{"$f":"'TP PA'!J13","v":0},null,{"$f":"'TP PA'!J14","v":0},null,{"$f":"'TP PA'!J9","v":0},null,{"$f":"'TP PA'!J10","v":0},null,{"$f":"'TP PA'!J11","v":0},null,{"$f":"'TP PA'!J12","v":0},null,{"$f":"'TP PA'!H13","v":0},null,{"$f":"'TP PA'!J14","v":0}]
[null,null,null,"Tes","Non Tes","Tes","Non Tes","Tes","Non Tes","Tes","Non Tes","Tes","Non Tes","Tes","Non Tes","Tes","Non Tes","Tes","Non Tes","Tes","Non Tes","Tes","Non Tes","Tes","Non Tes","Tes","Non Tes",null,null,"TP","MAX","DESKRIPSI","TP","MIN","DESKRIPSI"]
[null,1,{"$f":"'Data Siswa'!D6","v":0},null,null,null,null,null,null,null,null,null,null,null,null,null,null,null,null,null,null,null,null,null,null,null,null,{"$f":"IFERROR(AVERAGE(D12:AA12),0)","v":0},null,{"$f":"INDEX($D$11:$AA$11,MATCH(AE12,D12:AA12,0))","v":{"$error":"#N/A"}},{"$f":"MAX(D12:AA12)","v":0},{"$f":"C12&\" sangat menguasai dalam \"&AD12","v":{"$error":"#N/A"}},{"$f":"INDEX($D$11:$AA$11,MATCH(AH12,D12:AA12,0))","v":{"$error":"#N/A"}},{"$f":"MIN(D12:AA12)","v":0},{"$f":"C12&\" perlu bimbingan dalam \"&AG12","v":{"$error":"#N/A"}}]
[null,2,{"$f":"'Data Siswa'!D7","v":0},null,null,null,null,null,null,null,null,null,null,null,null,null,null,null,null,null,null,null,null,null,null,null,null,{"$f":"IFERROR(AVERAGE(D13:AA13),0)","v":0},null,{"$error":"#N/A"},0,{"$error":"#N/A"},{"$error":"#N/A"},0,{"$error":"#N/A"}]
[null,3,{"$f":"'Data Siswa'!D8","v":0},null,null,null,null,null,null,null,null,null,null,null,null,null,null,null,null,null,null,null,null,null,null,null,null,0,null,{"$error":"#N/A"},0,{"$error":"#N/A"},{"$error":"#N/A"},0,{"$error":"#N/A"}]
[null,4,{"$f":"'Data Siswa'!D9","v":0},null,null,null,null,null,null,null,null,null,null,null,null,null,null,null,null,null,null,null,null,null,null,null,null,0,null,{"$error":"#N/A"},0,{"$error":"#N/A"},{"$error":"#N/A"},0,{"$error":"#N/A"}]
[null,5,{"$f":"'Data Siswa'!D10","v":0},null,null,null,null,null,null,null,null,null,null,null,null,null,null,null,null,null,null,null,null,null,null,null,null,0,null,{"$error":"#N/A"},0,{"$error":"#N/A"},{"$error":"#N/A"},0,{"$error":"#N/A"}]
[null,6,{"$f":"'Data Siswa'!D11","v":0},null,null,null,null,null,null,null,null,null,null,null,null,null,null,null,null,null,null,null,null,null,null,null,null,{"$f":"IFERROR(AVERAGE(D17:AA17),0)","v":0},null,{"$error":"#N/A"},0,{"$error":"#N/A"},{"$error":"#N/A"},0,{"$error":"#N/A"}]
[null,7,{"$f":"'Data Siswa'!D12","v":0},null,null,null,null,null,null,null,null,null,null,null,null,null,null,null,null,null,null,null,null,null,null,null,null,0,null,{"$error":"#N/A"},0,{"$error":"#N/A"},{"$error":"#N/A"},0,{"$error":"#N/A"}]
[null,8,{"$f":"'Data Siswa'!D13","v":0},null,null,null,null,null,null,null,null,null,null,null,null,null,null,null,null,null,null,null,null,null,null,null,null,0,null,{"$error":"#N/A"},0,{"$error":"#N/A"},{"$error":"#N/A"},0,{"$error":"#N/A"}]
[null,9,{"$f":"'Data Siswa'!D14","v":0},null,null,null,null,null,null,null,null,null,null,null,null,null,null,null,null,null,null,null,null,null,null,null,null,0,null,{"$error":"#N/A"},0,{"$error":"#N/A"},{"$error":"#N/A"},0,{"$error":"#N/A"}]
[null,10,{"$f":"'Data Siswa'!D15","v":0},null,null,null,null,null,null,null,null,null,null,null,null,null,null,null,null,null,null,null,null,null,null,null,null,0,null,{"$error":"#N/A"},0,{"$error":"#N/A"},{"$error":"#N/A"},0,{"$error":"#N/A"}]
[null,11,{"$f":"'Data Siswa'!D16","v":0},null,null,null,null,null,null,null,null,null,null,null,null,null,null,null,null,null,null,null,null,null,null,null,null,0,null,{"$error":"#N/A"},0,{"$error":"#N/A"},{"$error":"#N/A"},0,{"$error":"#N/A"}]
[null,12,{"$f":"'Data Siswa'!D17","v":0},null,null,null,null,null,null,null,null,null,null,null,null,null,null,null,null,null,null,null,null,null,null,null,null,0,null,{"$error":"#N/A"},0,{"$error":"#N/A"},{"$error":"#N/A"},0,{"$error":"#N/A"}]
[null,13,{"$f":"'Data Siswa'!D18","v":0},null,null,null,null,null,null,null,null,null,null,null,null,null,null,null,null,null,null,null,null,null,null,null,null,0,null,{"$error":"#N/A"},0,{"$error":"#N/A"},{"$error":"#N/A"},0,{"$error":"#N/A"}]
[null,14,{"$f":"'Data Siswa'!D19","v":0},null,null,null,null,null,null,null,null,null,null,null,null,null,null,null,null,null,null,null,null,null,null,null,null,0,null,{"$error":"#N/A"},0,{"$error":"#N/A"},{"$error":"#N/A"},0,{"$error":"#N/A"}]
[null,15,{"$f":"'Data Siswa'!D20","v":0},null,null,null,null,null,null,null,null,null,null,null,null,null,null,null,null,null,null,null,null,null,null,null,null,0,null,{"$error":"#N/A"},0,{"$error":"#N/A"},{"$error":"#N/A"},0,{"$error":"#N/A"}]
[null,16,{"$f":"'Data Siswa'!D21","v":0},null,null,null,null,null,null,null,null,null,null,null,null,null,null,null,null,null,null,null,null,null,null,null,null,0,null,{"$error":"#N/A"},0,{"$error":"#N/A"},{"$error":"#N/A"},0,{"$error":"#N/A"}]
[null,17,{"$f":"'Data Siswa'!D22","v":0},null,null,null,null,null,null,null,null,null,null,null,null,null,null,null,null,null,null,null,null,null,null,null,null,0,null,{"$error":"#N/A"},0,{"$error":"#N/A"},{"$error":"#N/A"},0,{"$error":"#N/A"}]
[null,18,{"$f":"'Data Siswa'!D23","v":0},null,null,null,null,null,null,null,null,null,null,null,null,null,null,null,null,null,null,null,null,null,null,null,null,0,null,{"$error":"#N/A"},0,{"$error":"#N/A"},{"$error":"#N/A"},0,{"$error":"#N/A"}]
[null,19,{"$f":"'Data Siswa'!D24","v":0},null,null,null,null,null,null,null,null,null,null,null,null,null,null,null,null,null,null,null,null,null,null,null,null,0,null,{"$error":"#N/A"},0,{"$error":"#N/A"},{"$error":"#N/A"},0,{"$error":"#N/A"}]
[null,20,{"$f":"'Data Siswa'!D25","v":0},null,null,null,null,null,null,null,null,null,null,null,null,null,null,null,null,null,null,null,null,null,null,null,null,0,null,{"$error":"#N/A"},0,{"$error":"#N/A"},{"$error":"#N/A"},0,{"$error":"#N/A"}]
[null,21,{"$f":"'Data Siswa'!D26","v":0},null,null,null,null,null,null,null,null,null,null,null,null,null,null,null,null,null,null,null,null,null,null,null,null,0,null,{"$error":"#N/A"},0,{"$error":"#N/A"},{"$error":"#N/A"},0,{"$error":"#N/A"}]
[null,22,{"$f":"'Data Siswa'!D27","v":0},null,null,null,null,null,null,null,null,null,null,null,null,null,null,null,null,null,null,null,null,null,null,null,null,0,null,{"$error":"#N/A"},0,{"$error":"#N/A"},{"$error":"#N/A"},0,{"$error":"#N/A"}]
[null,23,{"$f":"'Data Siswa'!D28","v":0},null,null,null,null,null,null,null,null,null,null,null,null,null,null,null,null,null,null,null,null,null,null,null,null,0,null,{"$error":"#N/A"},0,{"$error":"#N/A"},{"$error":"#N/A"},0,{"$error":"#N/A"}]
[null,24,{"$f":"'Data Siswa'!D29","v":0},null,null,null,null,null,null,null,null,null,null,null,null,null,null,null,null,null,null,null,null,null,null,null,null,0,null,{"$error":"#N/A"},0,{"$error":"#N/A"},{"$error":"#N/A"},0,{"$error":"#N/A"}]
[null,25,{"$f":"'Data Siswa'!D30","v":0},null,null,null,null,null,null,null,null,null,null,null,null,null,null,null,null,null,null,null,null,null,null,null,null,0,null,{"$error":"#N/A"},0,{"$error":"#N/A"},{"$error":"#N/A"},0,{"$error":"#N/A"}]
[null,26,{"$f":"'Data Siswa'!D31","v":0},null,null,null,null,null,null,null,null,null,null,null,null,null,null,null,null,null,null,null,null,null,null,null,null,0,null,{"$error":"#N/A"},0,{"$error":"#N/A"},{"$error":"#N/A"},0,{"$error":"#N/A"}]
[null,27,{"$f":"'Data Siswa'!D32","v":0},null,null,null,null,null,null,null,null,null,null,null,null,null,null,null,null,null,null,null,null,null,null,null,null,0,null,{"$error":"#N/A"},0,{"$error":"#N/A"},{"$error":"#N/A"},0,{"$error":"#N/A"}]
[null,28,{"$f":"'Data Siswa'!D33","v":0},null,null,null,null,null,null,null,null,null,null,null,null,null,null,null,null,null,null,null,null,null,null,null,null,0,null,{"$error":"#N/A"},0,{"$error":"#N/A"},{"$error":"#N/A"},0,{"$error":"#N/A"}]
[null,29,{"$f":"'Data Siswa'!D34","v":0},null,null,null,null,null,null,null,null,null,null,null,null,null,null,null,null,null,null,null,null,null,null,null,null,0,null,{"$error":"#N/A"},0,{"$error":"#N/A"},{"$error":"#N/A"},0,{"$error":"#N/A"}]
[null,30,{"$f":"'Data Siswa'!D35","v":0},null,null,null,null,null,null,null,null,null,null,null,null,null,null,null,null,null,null,null,null,null,null,null,null,0,null,{"$error":"#N/A"},0,{"$error":"#N/A"},{"$error":"#N/A"},0,{"$error":"#N/A"}]
[null,31,{"$f":"'Data Siswa'!D36","v":0},null,null,null,null,null,null,null,null,null,null,null,null,null,null,null,null,null,null,null,null,null,null,null,null,0,null,{"$error":"#N/A"},0,{"$error":"#N/A"},{"$error":"#N/A"},0,{"$error":"#N/A"}]
[null,32,{"$f":"'Data Siswa'!D37","v":0},null,null,null,null,null,null,null,null,null,null,null,null,null,null,null,null,null,null,null,null,null,null,null,null,0,null,{"$error":"#N/A"},0,{"$error":"#N/A"},{"$error":"#N/A"},0,{"$error":"#N/A"}]
[null,33,{"$f":"'Data Siswa'!D38","v":0},null,null,null,null,null,null,null,null,null,null,null,null,null,null,null,null,null,null,null,null,null,null,null,null,{"$f":"IFERROR(AVERAGE(D44:AA44),0)","v":0},null,{"$f":"INDEX($D$11:$AA$11,MATCH(AE44,D44:AA44,0))","v":{"$error":"#N/A"}},{"$f":"MAX(D44:AA44)","v":0},{"$f":"C44&\" sangat menguasai dalam \"&AD44","v":{"$error":"#N/A"}},{"$f":"INDEX($D$11:$AA$11,MATCH(AH44,D44:AA44,0))","v":{"$error":"#N/A"}},{"$f":"MIN(D44:AA44)","v":0},{"$f":"C44&\" perlu bimbingan dalam \"&AG44","v":{"$error":"#N/A"}}]
[null,34,{"$f":"'Data Siswa'!D39","v":0},null,null,null,null,null,null,null,null,null,null,null,null,null,null,null,null,null,null,null,null,null,null,null,null,0,null,{"$error":"#N/A"},0,{"$error":"#N/A"},{"$error":"#N/A"},0,{"$error":"#N/A"}]
[null,35,{"$f":"'Data Siswa'!D40","v":0},null,null,null,null,null,null,null,null,null,null,null,null,null,null,null,null,null,null,null,null,null,null,null,null,0,null,{"$error":"#N/A"},0,{"$error":"#N/A"},{"$error":"#N/A"},0,{"$error":"#N/A"}]
[null,36,{"$f":"'Data Siswa'!D41","v":0},null,null,null,null,null,null,null,null,null,null,null,null,null,null,null,null,null,null,null,null,null,null,null,null,0,null,{"$error":"#N/A"},0,{"$error":"#N/A"},{"$error":"#N/A"},0,{"$error":"#N/A"}]
[null,37,{"$f":"'Data Siswa'!D42","v":0},null,null,null,null,null,null,null,null,null,null,null,null,null,null,null,null,null,null,null,null,null,null,null,null,0,null,{"$error":"#N/A"},0,{"$error":"#N/A"},{"$error":"#N/A"},0,{"$error":"#N/A"}]
[null,38,{"$f":"'Data Siswa'!D43","v":0},null,null,null,null,null,null,null,null,null,null,null,null,null,null,null,null,null,null,null,null,null,null,null,null,0,null,{"$error":"#N/A"},0,{"$error":"#N/A"},{"$error":"#N/A"},0,{"$error":"#N/A"}]
[null,39,{"$f":"'Data Siswa'!D44","v":0},null,null,null,null,null,null,null,null,null,null,null,null,null,null,null,null,null,null,null,null,null,null,null,null,0,null,{"$error":"#N/A"},0,{"$error":"#N/A"},{"$error":"#N/A"},0,{"$error":"#N/A"}]
[null,40,{"$f":"'Data Siswa'!D45","v":0},null,null,null,null,null,null,null,null,null,null,null,null,null,null,null,null,null,null,null,null,null,null,null,null,0,null,{"$error":"#N/A"},0,{"$error":"#N/A"},{"$error":"#N/A"},0,{"$error":"#N/A"}]
[null,41,{"$f":"'Data Siswa'!D46","v":0},null,null,null,null,null,null,null,null,null,null,null,null,null,null,null,null,null,null,null,null,null,null,null,null,0,null,{"$error":"#N/A"},0,{"$error":"#N/A"},{"$error":"#N/A"},0,{"$error":"#N/A"}]
[null,42,{"$f":"'Data Siswa'!D47","v":0},null,null,null,null,null,null,null,null,null,null,null,null,null,null,null,null,null,null,null,null,null,null,null,null,0,null,{"$error":"#N/A"},0,{"$error":"#N/A"},{"$error":"#N/A"},0,{"$error":"#N/A"}]
[null,43,{"$f":"'Data Siswa'!D48","v":0},null,null,null,null,null,null,null,null,null,null,null,null,null,null,null,null,null,null,null,null,null,null,null,null,0,null,{"$error":"#N/A"},0,{"$error":"#N/A"},{"$error":"#N/A"},0,{"$error":"#N/A"}]
[null,44,{"$f":"'Data Siswa'!D49","v":0},null,null,null,null,null,null,null,null,null,null,null,null,null,null,null,null,null,null,null,null,null,null,null,null,0,null,{"$error":"#N/A"},0,{"$error":"#N/A"},{"$error":"#N/A"},0,{"$error":"#N/A"}]
[null,45,{"$f":"'Data Siswa'!D50","v":0},null,null,null,null,null,null,null,null,null,null,null,null,null,null,null,null,null,null,null,null,null,null,null,null,0,null,{"$error":"#N/A"},0,{"$error":"#N/A"},{"$error":"#N/A"},0,{"$error":"#N/A"}]
[null,46,{"$f":"'Data Siswa'!D51","v":0},null,null,null,null,null,null,null,null,null,null,null,null,null,null,null,null,null,null,null,null,null,null,null,null,0,null,{"$error":"#N/A"},0,{"$error":"#N/A"},{"$error":"#N/A"},0,{"$error":"#N/A"}]
[null,47,{"$f":"'Data Siswa'!D52","v":0},null,null,null,null,null,null,null,null,null,null,null,null,null,null,null,null,null,null,null,null,null,null,null,null,0,null,{"$error":"#N/A"},0,{"$error":"#N/A"},{"$error":"#N/A"},0,{"$error":"#N/A"}]
[null,48,{"$f":"'Data Siswa'!D53","v":0},null,null,null,null,null,null,null,null,null,null,null,null,null,null,null,null,null,null,null,null,null,null,null,null,0,null,{"$error":"#N/A"},0,{"$error":"#N/A"},{"$error":"#N/A"},0,{"$error":"#N/A"}]
[null,49,{"$f":"'Data Siswa'!D54","v":0},null,null,null,null,null,null,null,null,null,null,null,null,null,null,null,null,null,null,null,null,null,null,null,null,0,null,{"$error":"#N/A"},0,{"$error":"#N/A"},{"$error":"#N/A"},0,{"$error":"#N/A"}]
[null,50,{"$f":"'Data Siswa'!D55","v":0},null,null,null,null,null,null,null,null,null,null,null,null,null,null,null,null,null,null,null,null,null,null,null,null,0,null,{"$error":"#N/A"},0,{"$error":"#N/A"},{"$error":"#N/A"},0,{"$error":"#N/A"}]
[null,"RATA-RATA",null,{"$f":"IFERROR(AVERAGE(D12:D61),0)","v":0},{"$f":"IFERROR(AVERAGE(E12:E61),0)","v":0},0,0,0,0,0,0,0,0,0,0,0,0,0,0,0,0,0,0,0,0,0,0]

{"sheet":"RAPOR","index":7,"n_rows":69,"n_cols":18,"rows_kept":69,"cut":false,"hidden":false,"merged":[[61,4,61,6],[62,4,62,6],[67,4,67,6],[68,4,68,6],[59,7,59,10],[60,7,60,10],[53,7,53,10],[54,7,54,10],[41,3,42,3],[41,4,41,10],[42,4,42,10],[44,4,44,10],[45,4,45,10],[46,4,46,10],[47,4,47,10],[49,2,49,4],[2,1,2,10],[3,1,3,10],[24,1,25,1],[26,1,27,1],[28,1,29,1],[26,3,27,3],[26,4,26,10],[27,4,27,10],[28,3,29,3],[19,3,20,3],[19,4,19,10],[20,4,20,10],[28,4,28,10],[29,4,29,10],[21,3,22,3],[21,4,21,10],[39,3,40,3],[39,4,39,10],[40,4,40,10],[30,3,31,3],[30,4,30,10],[31,4,31,10],[33,3,34,3],[33,4,33,10],[34,4,34,10],[37,1,37,10],[38,4,38,10],[30,1,31,1],[32,4,32,10],[35,3,36,3],[35,4,35,10],[36,4,36,10],[22,4,22,10],[24,3,25,3],[24,4,24,10],[25,4,25,10],[23,2,23,10],[39,1,40,1],[39,2,40,2],[41,1,42,1],[41,2,42,2],[13,4,13,10],[14,4,14,10],[13,3,14,3],[15,3,16,3],[15,4,15,10],[16,4,16,10],[26,2,27,2],[28,2,29,2],[30,2,31,2],[33,2,34,2],[33,1,34,1],[35,1,36,1],[12,4,12,10],[13,1,14,1],[13,2,14,2],[35,2,36,2],[21,1,22,1],[21,2,22,2],[24,2,25,2],[15,1,16,1],[15,2,16,2],[17,1,18,1],[17,2,18,2],[19,1,20,1],[19,2,20,2],[17,4,17,10],[18,4,18,10],[17,3,18,3]]}
[]
[null,null,null,null,null,null,null,null,null,null,null,1]
[null,"LAPORAN HASIL BELAJAR",null,null,null,null,null,null,null,null,null,null,null,null,null,null,"●","Untuk melihat hasil sebelum di print Klik Print Preview"]
[null,"(RAPOR)",null,null,null,null,null,null,null,null,null,null,null,null,null,null,"●","Untuk mencetak rapor, klik Print Out"]
[null,null,null,null,null,null,null,null,null,null,null,null,null,null,null,null,"●","Jika tombol tidak berfungsi, cek di bagian atas biasanya "]
[null,null,null,null,null,null,null,null,null,null,null,null,null,null,null,null,null,"ada Security Warning Macros have been disabled. "]
[null,"Nama Peserta Didik",null,{"$f":"\": \"&VLOOKUP($L$2,'Data Siswa'!$A$6:$D$55,4,FALSE)","v":": "},null,null,null,"Kelas",null,{"$f":"\": \"&IDENTITAS!D19","v":": "},null,null,null,null,null,null,null,"Untuk mengaktifkannya, klik Enable Content di sebelah"]
[null,"NISN",null,{"$f":"\": \"&VLOOKUP($L$2,'Data Siswa'!$A$6:$D$55,3,FALSE)","v":": "},null,null,null,"Fase",null,{"$f":"\": \"&IDENTITAS!D20","v":": "},null,null,null,null,null,null,null,"pesan tersebut."]
[null,"Sekolah",null,{"$f":"\": \"&IDENTITAS!D4","v":": "},null,null,null,"Semester",null,{"$f":"\": \"&IDENTITAS!D21","v":": "}]
[null,"Alamat",null,{"$f":"\": \"&IDENTITAS!D7","v":": "},null,null,null,"Tahun Pelajaran",null,{"$f":"\": \"&IDENTITAS!D22","v":": "}]
[]
[]
[null,"No","Muatan Pelajaran","Nilai   Akhir","Capaian Kompetensi"]
[null,1,{"$f":"IDENTITAS!G5","v":"Pendidikan Agama"},{"$f":"IFERROR(VLOOKUP($L$2,REKAPNA!$B$10:$P$59,3,FALSE),\"-\")","v":0},{"$f":"IFERROR(\"Ananda \"&VLOOKUP($L$2,PA!$B$12:$AE$61,27,FALSE),\"-\")","v":"-"}]
[null,null,null,null,{"$f":"IFERROR(\"Ananda \"&VLOOKUP($L$2,PA!$B$12:$AE$61,30,FALSE),\"-\")","v":"-"}]
[null,2,{"$f":"IDENTITAS!G6","v":"Pendidikan Pancasila dan Kewarganegaraan"},{"$f":"IFERROR(VLOOKUP($L$2,REKAPNA!$B$10:$P$59,4,FALSE),\"-\")","v":0},{"$f":"IFERROR(\"Ananda \"&VLOOKUP($L$2,PKN!$B$12:$AE$61,27,FALSE),\"-\")","v":"-"}]
[null,null,null,null,{"$f":"IFERROR(\"Ananda \"&VLOOKUP($L$2,PKN!$B$12:$AE$61,30,FALSE),\"-\")","v":"-"}]
[null,3,{"$f":"IDENTITAS!G7","v":"Bahasa Indonesia"},{"$f":"IFERROR(VLOOKUP($L$2,REKAPNA!$B$10:$P$59,5,FALSE),\"-\")","v":0},{"$f":"IFERROR(\"Ananda \"&VLOOKUP($L$2,BI!$B$12:$AE$61,27,FALSE),\"-\")","v":"-"}]
[null,null,null,null,{"$f":"IFERROR(\"Ananda \"&VLOOKUP($L$2,BI!$B$12:$AE$61,30,FALSE),\"-\")","v":"-"}]
[null,4,{"$f":"IDENTITAS!G8","v":"Matematika"},{"$f":"IFERROR(VLOOKUP($L$2,REKAPNA!$B$10:$P$59,6,FALSE),\"-\")","v":0},{"$f":"IFERROR(\"Ananda \"&VLOOKUP($L$2,MAT!$B$12:$AE$61,27,FALSE),\"-\")","v":"-"}]
[null,null,null,null,{"$f":"IFERROR(\"Ananda \"&VLOOKUP($L$2,MAT!$B$12:$AE$61,30,FALSE),\"-\")","v":"-"}]
[null,5,{"$f":"IDENTITAS!G9","v":"Ilmu Pengetahuan Alam dan Sosial"},{"$f":"IFERROR(VLOOKUP($L$2,REKAPNA!$B$10:$P$59,7,FALSE),\"-\")","v":0},{"$f":"IFERROR(\"Ananda \"&VLOOKUP($L$2,IPAS!$B$12:$AE$61,27,FALSE),\"-\")","v":"-"}]
[null,null,null,null,{"$f":"IFERROR(\"Ananda \"&VLOOKUP($L$2,IPAS!$B$12:$AE$61,30,FALSE),\"-\")","v":"-"}]
[null,6,{"$f":"IDENTITAS!G10","v":"Seni (Pilihan)"}]
[null,"a",{"$f":"IDENTITAS!G11","v":"Seni Musik"},{"$f":"IFERROR(VLOOKUP($L$2,REKAPNA!$B$10:$P$59,8,FALSE),\"-\")","v":0},{"$f":"IFERROR(\"Ananda \"&VLOOKUP($L$2,MUSIK!$B$12:$AE$61,27,FALSE),\"-\")","v":"-"}]
[null,null,null,null,{"$f":"IFERROR(\"Ananda \"&VLOOKUP($L$2,MUSIK!$B$12:$AE$61,30,FALSE),\"-\")","v":"-"}]
[null,"b",{"$f":"IDENTITAS!G12","v":"Seni Tari"},{"$f":"IFERROR(VLOOKUP($L$2,REKAPNA!$B$10:$P$59,9,FALSE),\"-\")","v":0},{"$f":"IFERROR(\"Ananda \"&VLOOKUP($L$2,TARI!$B$12:$AE$61,27,FALSE),\"-\")","v":"-"}]
[null,null,null,null,{"$f":"IFERROR(\"Ananda \"&VLOOKUP($L$2,TARI!$B$12:$AE$61,30,FALSE),\"-\")","v":"-"}]
[null,"c",{"$f":"IDENTITAS!G13","v":"Seni Rupa"},{"$f":"IFERROR(VLOOKUP($L$2,REKAPNA!$B$10:$P$59,10,FALSE),\"-\")","v":0},{"$f":"IFERROR(\"Ananda \"&VLOOKUP($L$2,KRIYA!$B$12:$AE$61,27,FALSE),\"-\")","v":"-"}]
[null,null,null,null,{"$f":"IFERROR(\"Ananda \"&VLOOKUP($L$2,KRIYA!$B$12:$AE$61,30,FALSE),\"-\")","v":"-"}]
[null,"d",{"$f":"IDENTITAS!G14","v":"Seni Teater"},{"$f":"IFERROR(VLOOKUP($L$2,REKAPNA!$B$10:$P$59,11,FALSE),\"-\")","v":0},{"$f":"IFERROR(\"Ananda \"&VLOOKUP($L$2,TEATER!$B$12:$AE$61,27,FALSE),\"-\")","v":"-"}]
[null,null,null,null,{"$f":"IFERROR(\"Ananda \"&VLOOKUP($L$2,TEATER!$B$12:$AE$61,30,FALSE),\"-\")","v":"-"}]
[null,"No","Muatan Pelajaran","Nilai   Akhir","Capaian Kompetensi"]
[null,7,{"$f":"IDENTITAS!G15","v":"Pendidikan Jasmani dan Olahraga"},{"$f":"IFERROR(VLOOKUP($L$2,REKAPNA!$B$10:$P$59,12,FALSE),\"-\")","v":0},{"$f":"IFERROR(\"Ananda \"&VLOOKUP($L$2,PJOK!$B$12:$AE$61,27,FALSE),\"-\")","v":"-"}]
[null,null,null,null,{"$f":"IFERROR(\"Ananda \"&VLOOKUP($L$2,PJOK!$B$12:$AE$61,30,FALSE),\"-\")","v":"-"}]
[null,8,{"$f":"IDENTITAS!G16","v":"Bahasa Inggris *"},{"$f":"IFERROR(VLOOKUP($L$2,REKAPNA!$B$10:$P$59,13,FALSE),\"-\")","v":0},{"$f":"IFERROR(\"Ananda \"&VLOOKUP($L$2,BING!$B$12:$AE$61,27,FALSE),\"-\")","v":"-"}]
[null,null,null,null,{"$f":"IFERROR(\"Ananda \"&VLOOKUP($L$2,BING!$B$12:$AE$61,30,FALSE),\"-\")","v":"-"}]
[null,"MUATAN LOKAL"]
[null,"No","Muatan Pelajaran","Nilai   Akhir","Capaian Kompetensi"]
[null,9,{"$f":"IDENTITAS!G21","v":0},{"$f":"IFERROR(VLOOKUP($L$2,REKAPNA!$B$10:$P$59,14,FALSE),\"-\")","v":0},{"$f":"IFERROR(\"Ananda \"&VLOOKUP($L$2,MULOK1!$B$12:$AE$61,27,FALSE),\"-\")","v":"-"}]
[null,null,null,null,{"$f":"IFERROR(\"Ananda \"&VLOOKUP($L$2,MULOK1!$B$12:$AE$61,30,FALSE),\"-\")","v":"-"}]
[null,10,{"$f":"IDENTITAS!G22","v":0},{"$f":"IFERROR(VLOOKUP($L$2,REKAPNA!$B$10:$P$59,15,FALSE),\"-\")","v":0},{"$f":"IFERROR(\"Ananda \"&VLOOKUP($L$2,MULOK2!$B$12:$AE$61,27,FALSE),\"-\")","v":"-"}]
[null,null,null,null,{"$f":"IFERROR(\"Ananda \"&VLOOKUP($L$2,MULOK2!$B$12:$AE$61,30,FALSE),\"-\")","v":"-"}]
[]
[null,"No","Ekstrakurikuler","Predikat","Keterangan"]
[null,1,{"$f":"IDENTITAS!J5","v":0},{"$f":"VLOOKUP($L$2,EKSTRA!$A$6:$K$55,6,FALSE)","v":0},{"$f":"VLOOKUP($L$2,EKSTRA!$A$6:$K$55,7,FALSE)","v":0}]
[null,2,{"$f":"IDENTITAS!J6","v":0},{"$f":"VLOOKUP($L$2,EKSTRA!$A$6:$K$55,8,FALSE)","v":0},{"$f":"VLOOKUP($L$2,EKSTRA!$A$6:$K$55,9,FALSE)","v":0}]
[null,3,{"$f":"IDENTITAS!J7","v":0},{"$f":"VLOOKUP($L$2,EKSTRA!$A$6:$K$55,10,FALSE)","v":0},{"$f":"VLOOKUP($L$2,EKSTRA!$A$6:$K$55,11,FALSE)","v":0}]
[]
[null,null,"Ketidakhadiran"]
[null,null,"Sakit",{"$f":"VLOOKUP($L$2,'Data Siswa'!$A$6:$AP$55,39,FALSE)","v":0},"hari"]
[null,null,"Izin",{"$f":"VLOOKUP($L$2,'Data Siswa'!$A$6:$AP$55,40,FALSE)","v":0},"hari"]
[null,null,"Tanpa Keterangan",{"$f":"VLOOKUP($L$2,'Data Siswa'!$A$6:$AP$55,41,FALSE)","v":0},"hari"]
[null,null,null,null,null,null,null,{"$f":"IDENTITAS!D23","v":0}]
[null,null,"Orang Tua,",null,null,null,null,{"$f":"\"Wali Kelas \"&IDENTITAS!D19","v":"Wali Kelas "}]
[]
[]
[]
[]
[null,null,"…………………………………………………..",null,null,null,null,{"$f":"IDENTITAS!D17","v":0}]
[null,null,null,null,null,null,null,{"$f":"\"NIP. \"&IDENTITAS!D18","v":"NIP. "}]
[null,null,null,null,"Mengetahui,"]
[null,null,null,null,"Kepala Sekolah"]
[]
[]
[]
[]
[null,null,null,null,{"$f":"IDENTITAS!D15","v":0}]
[null,null,null,null,{"$f":"\"NIP. \"&IDENTITAS!D16","v":"NIP. "}]

{"sheet":"TP PKN","index":8,"n_rows":28,"n_cols":10,"rows_kept":28,"cut":false,"hidden":false,"merged":[[2,0,2,5],[2,6,2,9]]}
[]
[]
["ALUR TUJUAN PEMBELAJARAN ",null,null,null,null,null,"LINGKUP MATERI"]
[]
[null,"Mata Pelajaran",null,null,{"$f":"\": \"&IDENTITAS!$G$6","v":": Pendidikan Pancasila dan Kewarganegaraan"},null,null,"Mata Pelajaran",null,{"$f":"\": \"&IDENTITAS!$G$6","v":": Pendidikan Pancasila dan Kewarganegaraan"}]
[null,"Semester",null,null,{"$f":"\": \"&IDENTITAS!$D$21","v":": "},null,null,"Semester",null,{"$f":"\": \"&IDENTITAS!$D$21","v":": "}]
[]
[null,null,null,"No","Tujuan Pembelajaran",null,null,null,"No","Lingkup Materi"]
[null,null,null,1,null,null,null,null,1]
[null,null,null,2,null,null,null,null,2]
[null,null,null,3,null,null,null,null,3]
[null,null,null,4,null,null,null,null,4]
[null,null,null,5,null,null,null,null,5]
[null,null,null,6,null,null,null,null,6]
[null,null,null,7,null,null,null,null,"Catatan: Tuliskan lingkup materi pelajaran yang anda ajarkan. Contoh: Siklus Air"]
[null,null,null,8]
[null,null,null,9]
[null,null,null,10]
[null,null,null,11]
[null,null,null,12]
[null,null,null,13]
[null,null,null,14]
[null,null,null,15]
[null,null,null,16]
[null,null,null,17]
[null,null,null,18]
[null,null,null,19]
[null,null,null,20]

{"sheet":"PKN","index":9,"n_rows":62,"n_cols":31,"rows_kept":62,"cut":false,"hidden":false,"merged":[[9,25,9,27],[9,28,9,30],[61,1,61,2],[2,0,2,23],[7,1,10,1],[7,2,10,2],[7,3,7,22],[7,23,10,23],[8,3,8,22]]}
[]
[]
["DAFTAR NILAI ASESMEN FORMATIF"]
[]
[null,null,"Mata Pelajaran",":","Pendidikan Pancasila dan Kewarganegaraan"]
[]
[]
[null,"No","NAMA SISWA","Pendidikan Pancasila dan Kewarganegaraan",null,null,null,null,null,null,null,null,null,null,null,null,null,null,null,null,null,null,null,"NILAI RAPOR"]
[null,null,null,"ASESMEN FORMATIF"]
[null,null,null,"TP 1","TP 2","TP 3","TP 4","TP 5","TP 6","TP 7","TP 8","TP 9","TP 10","TP 11","TP 12","TP 13","TP 14","TP 15","TP 16","TP 17","TP 18","TP 19","TP 20"]
[null,null,null,{"$f":"'TP PKN'!E9","v":0},{"$f":"'TP PKN'!E10","v":0},{"$f":"'TP PKN'!E11","v":0},{"$f":"'TP PKN'!E12","v":0},{"$f":"'TP PKN'!E13","v":0},{"$f":"'TP PKN'!E14","v":0},{"$f":"'TP PKN'!E15","v":0},{"$f":"'TP PKN'!E16","v":0},{"$f":"'TP PKN'!E17","v":0},{"$f":"'TP PKN'!E18","v":0},{"$f":"'TP PKN'!E19","v":0},{"$f":"'TP PKN'!E20","v":0},{"$f":"'TP PKN'!E21","v":0},{"$f":"'TP PKN'!E22","v":0},{"$f":"'TP PKN'!E23","v":0},{"$f":"'TP PKN'!E24","v":0},{"$f":"'TP PKN'!E25","v":0},{"$f":"'TP PKN'!E26","v":0},{"$f":"'TP PKN'!E27","v":0},{"$f":"'TP PKN'!E28","v":0},null,null,"TP","MAX","DESKRIPSI","TP","MIN","DESKRIPSI"]
[null,1,{"$f":"'Data Siswa'!D6","v":0},null,null,null,null,null,null,null,null,null,null,null,null,null,null,null,null,null,null,null,null,{"$f":"IFERROR(AVERAGE(D12:W12),0)","v":0},null,{"$f":"INDEX($D$11:$W$11,MATCH(AA12,D12:W12,0))","v":{"$error":"#N/A"}},{"$f":"MAX(D12:W12)","v":0},{"$f":"C12&\" sangat menguasai dalam \"&Z12","v":{"$error":"#N/A"}},{"$f":"INDEX($D$11:$W$11,MATCH(AD12,D12:W12,0))","v":{"$error":"#N/A"}},{"$f":"MIN(D12:W12)","v":0},{"$f":"C12&\" perlu bimbingan dalam \"&AC12","v":{"$error":"#N/A"}}]
[null,2,{"$f":"'Data Siswa'!D7","v":0},null,null,null,null,null,null,null,null,null,null,null,null,null,null,null,null,null,null,null,null,0,null,{"$f":"INDEX($D$11:$W$11,MATCH(AA13,D13:W13,0))","v":{"$error":"#N/A"}},{"$f":"MAX(D13:W13)","v":0},{"$f":"C13&\" sangat menguasai dalam \"&Z13","v":{"$error":"#N/A"}},{"$f":"INDEX($D$11:$W$11,MATCH(AD13,D13:W13,0))","v":{"$error":"#N/A"}},{"$f":"MIN(D13:W13)","v":0},{"$f":"C13&\" perlu bimbingan dalam \"&AC13","v":{"$error":"#N/A"}}]
[null,3,{"$f":"'Data Siswa'!D8","v":0},null,null,null,null,null,null,null,null,null,null,null,null,null,null,null,null,null,null,null,null,0,null,{"$error":"#N/A"},0,{"$error":"#N/A"},{"$error":"#N/A"},0,{"$error":"#N/A"}]
[null,4,{"$f":"'Data Siswa'!D9","v":0},null,null,null,null,null,null,null,null,null,null,null,null,null,null,null,null,null,null,null,null,0,null,{"$error":"#N/A"},0,{"$error":"#N/A"},{"$error":"#N/A"},0,{"$error":"#N/A"}]
[null,5,{"$f":"'Data Siswa'!D10","v":0},null,null,null,null,null,null,null,null,null,null,null,null,null,null,null,null,null,null,null,null,0,null,{"$error":"#N/A"},0,{"$error":"#N/A"},{"$error":"#N/A"},0,{"$error":"#N/A"}]
[null,6,{"$f":"'Data Siswa'!D11","v":0},null,null,null,null,null,null,null,null,null,null,null,null,null,null,null,null,null,null,null,null,0,null,{"$error":"#N/A"},0,{"$error":"#N/A"},{"$error":"#N/A"},0,{"$error":"#N/A"}]
[null,7,{"$f":"'Data Siswa'!D12","v":0},null,null,null,null,null,null,null,null,null,null,null,null,null,null,null,null,null,null,null,null,0,null,{"$error":"#N/A"},0,{"$error":"#N/A"},{"$error":"#N/A"},0,{"$error":"#N/A"}]
[null,8,{"$f":"'Data Siswa'!D13","v":0},null,null,null,null,null,null,null,null,null,null,null,null,null,null,null,null,null,null,null,null,0,null,{"$error":"#N/A"},0,{"$error":"#N/A"},{"$error":"#N/A"},0,{"$error":"#N/A"}]
[null,9,{"$f":"'Data Siswa'!D14","v":0},null,null,null,null,null,null,null,null,null,null,null,null,null,null,null,null,null,null,null,null,0,null,{"$error":"#N/A"},0,{"$error":"#N/A"},{"$error":"#N/A"},0,{"$error":"#N/A"}]
[null,10,{"$f":"'Data Siswa'!D15","v":0},null,null,null,null,null,null,null,null,null,null,null,null,null,null,null,null,null,null,null,null,0,null,{"$error":"#N/A"},0,{"$error":"#N/A"},{"$error":"#N/A"},0,{"$error":"#N/A"}]
[null,11,{"$f":"'Data Siswa'!D16","v":0},null,null,null,null,null,null,null,null,null,null,null,null,null,null,null,null,null,null,null,null,0,null,{"$error":"#N/A"},0,{"$error":"#N/A"},{"$error":"#N/A"},0,{"$error":"#N/A"}]
[null,12,{"$f":"'Data Siswa'!D17","v":0},null,null,null,null,null,null,null,null,null,null,null,null,null,null,null,null,null,null,null,null,0,null,{"$error":"#N/A"},0,{"$error":"#N/A"},{"$error":"#N/A"},0,{"$error":"#N/A"}]
[null,13,{"$f":"'Data Siswa'!D18","v":0},null,null,null,null,null,null,null,null,null,null,null,null,null,null,null,null,null,null,null,null,0,null,{"$error":"#N/A"},0,{"$error":"#N/A"},{"$error":"#N/A"},0,{"$error":"#N/A"}]
[null,14,{"$f":"'Data Siswa'!D19","v":0},null,null,null,null,null,null,null,null,null,null,null,null,null,null,null,null,null,null,null,null,0,null,{"$error":"#N/A"},0,{"$error":"#N/A"},{"$error":"#N/A"},0,{"$error":"#N/A"}]
[null,15,{"$f":"'Data Siswa'!D20","v":0},null,null,null,null,null,null,null,null,null,null,null,null,null,null,null,null,null,null,null,null,0,null,{"$error":"#N/A"},0,{"$error":"#N/A"},{"$error":"#N/A"},0,{"$error":"#N/A"}]
[null,16,{"$f":"'Data Siswa'!D21","v":0},null,null,null,null,null,null,null,null,null,null,null,null,null,null,null,null,null,null,null,null,0,null,{"$error":"#N/A"},0,{"$error":"#N/A"},{"$error":"#N/A"},0,{"$error":"#N/A"}]
[null,17,{"$f":"'Data Siswa'!D22","v":0},null,null,null,null,null,null,null,null,null,null,null,null,null,null,null,null,null,null,null,null,0,null,{"$error":"#N/A"},0,{"$error":"#N/A"},{"$error":"#N/A"},0,{"$error":"#N/A"}]
[null,18,{"$f":"'Data Siswa'!D23","v":0},null,null,null,null,null,null,null,null,null,null,null,null,null,null,null,null,null,null,null,null,0,null,{"$error":"#N/A"},0,{"$error":"#N/A"},{"$error":"#N/A"},0,{"$error":"#N/A"}]
[null,19,{"$f":"'Data Siswa'!D24","v":0},null,null,null,null,null,null,null,null,null,null,null,null,null,null,null,null,null,null,null,null,0,null,{"$error":"#N/A"},0,{"$error":"#N/A"},{"$error":"#N/A"},0,{"$error":"#N/A"}]
[null,20,{"$f":"'Data Siswa'!D25","v":0},null,null,null,null,null,null,null,null,null,null,null,null,null,null,null,null,null,null,null,null,0,null,{"$error":"#N/A"},0,{"$error":"#N/A"},{"$error":"#N/A"},0,{"$error":"#N/A"}]
[null,21,{"$f":"'Data Siswa'!D26","v":0},null,null,null,null,null,null,null,null,null,null,null,null,null,null,null,null,null,null,null,null,0,null,{"$error":"#N/A"},0,{"$error":"#N/A"},{"$error":"#N/A"},0,{"$error":"#N/A"}]
[null,22,{"$f":"'Data Siswa'!D27","v":0},null,null,null,null,null,null,null,null,null,null,null,null,null,null,null,null,null,null,null,null,0,null,{"$error":"#N/A"},0,{"$error":"#N/A"},{"$error":"#N/A"},0,{"$error":"#N/A"}]
[null,23,{"$f":"'Data Siswa'!D28","v":0},null,null,null,null,null,null,null,null,null,null,null,null,null,null,null,null,null,null,null,null,0,null,{"$error":"#N/A"},0,{"$error":"#N/A"},{"$error":"#N/A"},0,{"$error":"#N/A"}]
[null,24,{"$f":"'Data Siswa'!D29","v":0},null,null,null,null,null,null,null,null,null,null,null,null,null,null,null,null,null,null,null,null,0,null,{"$error":"#N/A"},0,{"$error":"#N/A"},{"$error":"#N/A"},0,{"$error":"#N/A"}]
[null,25,{"$f":"'Data Siswa'!D30","v":0},null,null,null,null,null,null,null,null,null,null,null,null,null,null,null,null,null,null,null,null,0,null,{"$error":"#N/A"},0,{"$error":"#N/A"},{"$error":"#N/A"},0,{"$error":"#N/A"}]
[null,26,{"$f":"'Data Siswa'!D31","v":0},null,null,null,null,null,null,null,null,null,null,null,null,null,null,null,null,null,null,null,null,0,null,{"$error":"#N/A"},0,{"$error":"#N/A"},{"$error":"#N/A"},0,{"$error":"#N/A"}]
[null,27,{"$f":"'Data Siswa'!D32","v":0},null,null,null,null,null,null,null,null,null,null,null,null,null,null,null,null,null,null,null,null,0,null,{"$error":"#N/A"},0,{"$error":"#N/A"},{"$error":"#N/A"},0,{"$error":"#N/A"}]
[null,28,{"$f":"'Data Siswa'!D33","v":0},null,null,null,null,null,null,null,null,null,null,null,null,null,null,null,null,null,null,null,null,0,null,{"$error":"#N/A"},0,{"$error":"#N/A"},{"$error":"#N/A"},0,{"$error":"#N/A"}]
[null,29,{"$f":"'Data Siswa'!D34","v":0},null,null,null,null,null,null,null,null,null,null,null,null,null,null,null,null,null,null,null,null,0,null,{"$error":"#N/A"},0,{"$error":"#N/A"},{"$error":"#N/A"},0,{"$error":"#N/A"}]
[null,30,{"$f":"'Data Siswa'!D35","v":0},null,null,null,null,null,null,null,null,null,null,null,null,null,null,null,null,null,null,null,null,0,null,{"$error":"#N/A"},0,{"$error":"#N/A"},{"$error":"#N/A"},0,{"$error":"#N/A"}]
[null,31,{"$f":"'Data Siswa'!D36","v":0},null,null,null,null,null,null,null,null,null,null,null,null,null,null,null,null,null,null,null,null,0,null,{"$error":"#N/A"},0,{"$error":"#N/A"},{"$error":"#N/A"},0,{"$error":"#N/A"}]
[null,32,{"$f":"'Data Siswa'!D37","v":0},null,null,null,null,null,null,null,null,null,null,null,null,null,null,null,null,null,null,null,null,0,null,{"$error":"#N/A"},0,{"$error":"#N/A"},{"$error":"#N/A"},0,{"$error":"#N/A"}]
[null,33,{"$f":"'Data Siswa'!D38","v":0},null,null,null,null,null,null,null,null,null,null,null,null,null,null,null,null,null,null,null,null,{"$f":"IFERROR(AVERAGE(D44:W44),0)","v":0},null,{"$error":"#N/A"},0,{"$error":"#N/A"},{"$error":"#N/A"},0,{"$error":"#N/A"}]
[null,34,{"$f":"'Data Siswa'!D39","v":0},null,null,null,null,null,null,null,null,null,null,null,null,null,null,null,null,null,null,null,null,0,null,{"$error":"#N/A"},0,{"$error":"#N/A"},{"$error":"#N/A"},0,{"$error":"#N/A"}]
[null,35,{"$f":"'Data Siswa'!D40","v":0},null,null,null,null,null,null,null,null,null,null,null,null,null,null,null,null,null,null,null,null,0,null,{"$error":"#N/A"},0,{"$error":"#N/A"},{"$error":"#N/A"},0,{"$error":"#N/A"}]
[null,36,{"$f":"'Data Siswa'!D41","v":0},null,null,null,null,null,null,null,null,null,null,null,null,null,null,null,null,null,null,null,null,0,null,{"$error":"#N/A"},0,{"$error":"#N/A"},{"$error":"#N/A"},0,{"$error":"#N/A"}]
[null,37,{"$f":"'Data Siswa'!D42","v":0},null,null,null,null,null,null,null,null,null,null,null,null,null,null,null,null,null,null,null,null,0,null,{"$error":"#N/A"},0,{"$error":"#N/A"},{"$error":"#N/A"},0,{"$error":"#N/A"}]
[null,38,{"$f":"'Data Siswa'!D43","v":0},null,null,null,null,null,null,null,null,null,null,null,null,null,null,null,null,null,null,null,null,0,null,{"$error":"#N/A"},0,{"$error":"#N/A"},{"$error":"#N/A"},0,{"$error":"#N/A"}]
[null,39,{"$f":"'Data Siswa'!D44","v":0},null,null,null,null,null,null,null,null,null,null,null,null,null,null,null,null,null,null,null,null,0,null,{"$error":"#N/A"},0,{"$error":"#N/A"},{"$error":"#N/A"},0,{"$error":"#N/A"}]
[null,40,{"$f":"'Data Siswa'!D45","v":0},null,null,null,null,null,null,null,null,null,null,null,null,null,null,null,null,null,null,null,null,0,null,{"$error":"#N/A"},0,{"$error":"#N/A"},{"$error":"#N/A"},0,{"$error":"#N/A"}]
[null,41,{"$f":"'Data Siswa'!D46","v":0},null,null,null,null,null,null,null,null,null,null,null,null,null,null,null,null,null,null,null,null,0,null,{"$error":"#N/A"},0,{"$error":"#N/A"},{"$error":"#N/A"},0,{"$error":"#N/A"}]
[null,42,{"$f":"'Data Siswa'!D47","v":0},null,null,null,null,null,null,null,null,null,null,null,null,null,null,null,null,null,null,null,null,0,null,{"$error":"#N/A"},0,{"$error":"#N/A"},{"$error":"#N/A"},0,{"$error":"#N/A"}]
[null,43,{"$f":"'Data Siswa'!D48","v":0},null,null,null,null,null,null,null,null,null,null,null,null,null,null,null,null,null,null,null,null,0,null,{"$error":"#N/A"},0,{"$error":"#N/A"},{"$error":"#N/A"},0,{"$error":"#N/A"}]
[null,44,{"$f":"'Data Siswa'!D49","v":0},null,null,null,null,null,null,null,null,null,null,null,null,null,null,null,null,null,null,null,null,0,null,{"$error":"#N/A"},0,{"$error":"#N/A"},{"$error":"#N/A"},0,{"$error":"#N/A"}]
[null,45,{"$f":"'Data Siswa'!D50","v":0},null,null,null,null,null,null,null,null,null,null,null,null,null,null,null,null,null,null,null,null,0,null,{"$error":"#N/A"},0,{"$error":"#N/A"},{"$error":"#N/A"},0,{"$error":"#N/A"}]
[null,46,{"$f":"'Data Siswa'!D51","v":0},null,null,null,null,null,null,null,null,null,null,null,null,null,null,null,null,null,null,null,null,0,null,{"$error":"#N/A"},0,{"$error":"#N/A"},{"$error":"#N/A"},0,{"$error":"#N/A"}]
[null,47,{"$f":"'Data Siswa'!D52","v":0},null,null,null,null,null,null,null,null,null,null,null,null,null,null,null,null,null,null,null,null,0,null,{"$error":"#N/A"},0,{"$error":"#N/A"},{"$error":"#N/A"},0,{"$error":"#N/A"}]
[null,48,{"$f":"'Data Siswa'!D53","v":0},null,null,null,null,null,null,null,null,null,null,null,null,null,null,null,null,null,null,null,null,0,null,{"$error":"#N/A"},0,{"$error":"#N/A"},{"$error":"#N/A"},0,{"$error":"#N/A"}]
[null,49,{"$f":"'Data Siswa'!D54","v":0},null,null,null,null,null,null,null,null,null,null,null,null,null,null,null,null,null,null,null,null,0,null,{"$error":"#N/A"},0,{"$error":"#N/A"},{"$error":"#N/A"},0,{"$error":"#N/A"}]
[null,50,{"$f":"'Data Siswa'!D55","v":0},null,null,null,null,null,null,null,null,null,null,null,null,null,null,null,null,null,null,null,null,0,null,{"$error":"#N/A"},0,{"$error":"#N/A"},{"$error":"#N/A"},0,{"$error":"#N/A"}]
[null,"RATA-RATA",null,{"$f":"IFERROR(AVERAGE(D12:D61),0)","v":0},{"$f":"IFERROR(AVERAGE(E12:E61),0)","v":0},0,0,0,0,0,0,0,0,0,0,0,0,0,0,0,0,0,0]

{"sheet":"SUMPKN","index":10,"n_rows":62,"n_cols":35,"rows_kept":62,"cut":false,"hidden":false,"merged":[[9,29,9,31],[9,32,9,34],[61,1,61,2],[9,9,9,10],[9,11,9,12],[9,13,9,14],[9,15,9,16],[9,17,9,18],[9,19,9,20],[2,0,2,27],[7,1,10,1],[7,2,10,2],[7,3,7,26],[7,27,10,27],[8,3,8,14],[8,15,8,26],[9,3,9,4],[9,5,9,6],[9,7,9,8],[9,21,9,22],[9,23,9,24],[9,25,9,26]]}
[]
[]
["DAFTAR NILAI ASESMEN SUMATIF"]
[]
[null,null,"Mata Pelajaran",":",null,"Pendidkan Pancasila dan Kewarganegaraan"]
[]
[]
[null,"No","NAMA SISWA","Pendidikan Pancasila dan Kewarganegaraan",null,null,null,null,null,null,null,null,null,null,null,null,null,null,null,null,null,null,null,null,null,null,null,"NILAI RAPOR"]
[null,null,null,"ASESMEN SUMATIF  AKHIR MATERI",null,null,null,null,null,null,null,null,null,null,null,"ASESMEN SUMATIF AKHIR SEMESTER *"]
[null,null,null,{"$f":"'TP PKN'!J9","v":0},null,{"$f":"'TP PKN'!J10","v":0},null,{"$f":"'TP PKN'!J11","v":0},null,{"$f":"'TP PKN'!J12","v":0},null,{"$f":"'TP PKN'!J13","v":0},null,{"$f":"'TP PKN'!J14","v":0},null,{"$f":"'TP PKN'!J9","v":0},null,{"$f":"'TP PKN'!J10","v":0},null,{"$f":"'TP PKN'!J11","v":0},null,{"$f":"'TP PKN'!J12","v":0},null,{"$f":"'TP PKN'!J13","v":0},null,{"$f":"'TP PKN'!J14","v":0}]
[null,null,null,"Tes","Non Tes","Tes","Non Tes","Tes","Non Tes","Tes","Non Tes","Tes","Non Tes","Tes","Non Tes","Tes","Non Tes","Tes","Non Tes","Tes","Non Tes","Tes","Non Tes","Tes","Non Tes","Tes","Non Tes",null,null,"TP","MAX","DESKRIPSI","TP","MIN","DESKRIPSI"]
[null,1,{"$f":"'Data Siswa'!D6","v":0},null,null,null,null,null,null,null,null,null,null,null,null,null,null,null,null,null,null,null,null,null,null,null,null,{"$f":"IFERROR(AVERAGE(D12:AA12),0)","v":0},null,{"$f":"INDEX($D$11:$AA$11,MATCH(AE12,D12:AA12,0))","v":{"$error":"#N/A"}},{"$f":"MAX(D12:AA12)","v":0},{"$f":"C12&\" sangat menguasai dalam \"&AD12","v":{"$error":"#N/A"}},{"$f":"INDEX($D$11:$AA$11,MATCH(AH12,D12:AA12,0))","v":{"$error":"#N/A"}},{"$f":"MIN(D12:AA12)","v":0},{"$f":"C12&\" perlu bimbingan dalam \"&AG12","v":{"$error":"#N/A"}}]
[null,2,{"$f":"'Data Siswa'!D7","v":0},null,null,null,null,null,null,null,null,null,null,null,null,null,null,null,null,null,null,null,null,null,null,null,null,{"$f":"IFERROR(AVERAGE(D13:AA13),0)","v":0},null,{"$error":"#N/A"},0,{"$error":"#N/A"},{"$error":"#N/A"},0,{"$error":"#N/A"}]
[null,3,{"$f":"'Data Siswa'!D8","v":0},null,null,null,null,null,null,null,null,null,null,null,null,null,null,null,null,null,null,null,null,null,null,null,null,0,null,{"$error":"#N/A"},0,{"$error":"#N/A"},{"$error":"#N/A"},0,{"$error":"#N/A"}]
[null,4,{"$f":"'Data Siswa'!D9","v":0},null,null,null,null,null,null,null,null,null,null,null,null,null,null,null,null,null,null,null,null,null,null,null,null,0,null,{"$error":"#N/A"},0,{"$error":"#N/A"},{"$error":"#N/A"},0,{"$error":"#N/A"}]
[null,5,{"$f":"'Data Siswa'!D10","v":0},null,null,null,null,null,null,null,null,null,null,null,null,null,null,null,null,null,null,null,null,null,null,null,null,0,null,{"$error":"#N/A"},0,{"$error":"#N/A"},{"$error":"#N/A"},0,{"$error":"#N/A"}]
[null,6,{"$f":"'Data Siswa'!D11","v":0},null,null,null,null,null,null,null,null,null,null,null,null,null,null,null,null,null,null,null,null,null,null,null,null,{"$f":"IFERROR(AVERAGE(D17:AA17),0)","v":0},null,{"$error":"#N/A"},0,{"$error":"#N/A"},{"$error":"#N/A"},0,{"$error":"#N/A"}]
[null,7,{"$f":"'Data Siswa'!D12","v":0},null,null,null,null,null,null,null,null,null,null,null,null,null,null,null,null,null,null,null,null,null,null,null,null,0,null,{"$error":"#N/A"},0,{"$error":"#N/A"},{"$error":"#N/A"},0,{"$error":"#N/A"}]
[null,8,{"$f":"'Data Siswa'!D13","v":0},null,null,null,null,null,null,null,null,null,null,null,null,null,null,null,null,null,null,null,null,null,null,null,null,0,null,{"$error":"#N/A"},0,{"$error":"#N/A"},{"$error":"#N/A"},0,{"$error":"#N/A"}]
[null,9,{"$f":"'Data Siswa'!D14","v":0},null,null,null,null,null,null,null,null,null,null,null,null,null,null,null,null,null,null,null,null,null,null,null,null,0,null,{"$error":"#N/A"},0,{"$error":"#N/A"},{"$error":"#N/A"},0,{"$error":"#N/A"}]
[null,10,{"$f":"'Data Siswa'!D15","v":0},null,null,null,null,null,null,null,null,null,null,null,null,null,null,null,null,null,null,null,null,null,null,null,null,0,null,{"$error":"#N/A"},0,{"$error":"#N/A"},{"$error":"#N/A"},0,{"$error":"#N/A"}]
[null,11,{"$f":"'Data Siswa'!D16","v":0},null,null,null,null,null,null,null,null,null,null,null,null,null,null,null,null,null,null,null,null,null,null,null,null,0,null,{"$error":"#N/A"},0,{"$error":"#N/A"},{"$error":"#N/A"},0,{"$error":"#N/A"}]
[null,12,{"$f":"'Data Siswa'!D17","v":0},null,null,null,null,null,null,null,null,null,null,null,null,null,null,null,null,null,null,null,null,null,null,null,null,0,null,{"$error":"#N/A"},0,{"$error":"#N/A"},{"$error":"#N/A"},0,{"$error":"#N/A"}]
[null,13,{"$f":"'Data Siswa'!D18","v":0},null,null,null,null,null,null,null,null,null,null,null,null,null,null,null,null,null,null,null,null,null,null,null,null,0,null,{"$error":"#N/A"},0,{"$error":"#N/A"},{"$error":"#N/A"},0,{"$error":"#N/A"}]
[null,14,{"$f":"'Data Siswa'!D19","v":0},null,null,null,null,null,null,null,null,null,null,null,null,null,null,null,null,null,null,null,null,null,null,null,null,0,null,{"$error":"#N/A"},0,{"$error":"#N/A"},{"$error":"#N/A"},0,{"$error":"#N/A"}]
[null,15,{"$f":"'Data Siswa'!D20","v":0},null,null,null,null,null,null,null,null,null,null,null,null,null,null,null,null,null,null,null,null,null,null,null,null,0,null,{"$error":"#N/A"},0,{"$error":"#N/A"},{"$error":"#N/A"},0,{"$error":"#N/A"}]
[null,16,{"$f":"'Data Siswa'!D21","v":0},null,null,null,null,null,null,null,null,null,null,null,null,null,null,null,null,null,null,null,null,null,null,null,null,0,null,{"$error":"#N/A"},0,{"$error":"#N/A"},{"$error":"#N/A"},0,{"$error":"#N/A"}]
[null,17,{"$f":"'Data Siswa'!D22","v":0},null,null,null,null,null,null,null,null,null,null,null,null,null,null,null,null,null,null,null,null,null,null,null,null,0,null,{"$error":"#N/A"},0,{"$error":"#N/A"},{"$error":"#N/A"},0,{"$error":"#N/A"}]
[null,18,{"$f":"'Data Siswa'!D23","v":0},null,null,null,null,null,null,null,null,null,null,null,null,null,null,null,null,null,null,null,null,null,null,null,null,0,null,{"$error":"#N/A"},0,{"$error":"#N/A"},{"$error":"#N/A"},0,{"$error":"#N/A"}]
[null,19,{"$f":"'Data Siswa'!D24","v":0},null,null,null,null,null,null,null,null,null,null,null,null,null,null,null,null,null,null,null,null,null,null,null,null,0,null,{"$error":"#N/A"},0,{"$error":"#N/A"},{"$error":"#N/A"},0,{"$error":"#N/A"}]
[null,20,{"$f":"'Data Siswa'!D25","v":0},null,null,null,null,null,null,null,null,null,null,null,null,null,null,null,null,null,null,null,null,null,null,null,null,0,null,{"$error":"#N/A"},0,{"$error":"#N/A"},{"$error":"#N/A"},0,{"$error":"#N/A"}]
[null,21,{"$f":"'Data Siswa'!D26","v":0},null,null,null,null,null,null,null,null,null,null,null,null,null,null,null,null,null,null,null,null,null,null,null,null,0,null,{"$error":"#N/A"},0,{"$error":"#N/A"},{"$error":"#N/A"},0,{"$error":"#N/A"}]
[null,22,{"$f":"'Data Siswa'!D27","v":0},null,null,null,null,null,null,null,null,null,null,null,null,null,null,null,null,null,null,null,null,null,null,null,null,0,null,{"$error":"#N/A"},0,{"$error":"#N/A"},{"$error":"#N/A"},0,{"$error":"#N/A"}]
[null,23,{"$f":"'Data Siswa'!D28","v":0},null,null,null,null,null,null,null,null,null,null,null,null,null,null,null,null,null,null,null,null,null,null,null,null,0,null,{"$error":"#N/A"},0,{"$error":"#N/A"},{"$error":"#N/A"},0,{"$error":"#N/A"}]
[null,24,{"$f":"'Data Siswa'!D29","v":0},null,null,null,null,null,null,null,null,null,null,null,null,null,null,null,null,null,null,null,null,null,null,null,null,0,null,{"$error":"#N/A"},0,{"$error":"#N/A"},{"$error":"#N/A"},0,{"$error":"#N/A"}]
[null,25,{"$f":"'Data Siswa'!D30","v":0},null,null,null,null,null,null,null,null,null,null,null,null,null,null,null,null,null,null,null,null,null,null,null,null,0,null,{"$error":"#N/A"},0,{"$error":"#N/A"},{"$error":"#N/A"},0,{"$error":"#N/A"}]
[null,26,{"$f":"'Data Siswa'!D31","v":0},null,null,null,null,null,null,null,null,null,null,null,null,null,null,null,null,null,null,null,null,null,null,null,null,0,null,{"$error":"#N/A"},0,{"$error":"#N/A"},{"$error":"#N/A"},0,{"$error":"#N/A"}]
[null,27,{"$f":"'Data Siswa'!D32","v":0},null,null,null,null,null,null,null,null,null,null,null,null,null,null,null,null,null,null,null,null,null,null,null,null,0,null,{"$error":"#N/A"},0,{"$error":"#N/A"},{"$error":"#N/A"},0,{"$error":"#N/A"}]
[null,28,{"$f":"'Data Siswa'!D33","v":0},null,null,null,null,null,null,null,null,null,null,null,null,null,null,null,null,null,null,null,null,null,null,null,null,0,null,{"$error":"#N/A"},0,{"$error":"#N/A"},{"$error":"#N/A"},0,{"$error":"#N/A"}]
[null,29,{"$f":"'Data Siswa'!D34","v":0},null,null,null,null,null,null,null,null,null,null,null,null,null,null,null,null,null,null,null,null,null,null,null,null,0,null,{"$error":"#N/A"},0,{"$error":"#N/A"},{"$error":"#N/A"},0,{"$error":"#N/A"}]
[null,30,{"$f":"'Data Siswa'!D35","v":0},null,null,null,null,null,null,null,null,null,null,null,null,null,null,null,null,null,null,null,null,null,null,null,null,0,null,{"$error":"#N/A"},0,{"$error":"#N/A"},{"$error":"#N/A"},0,{"$error":"#N/A"}]
[null,31,{"$f":"'Data Siswa'!D36","v":0},null,null,null,null,null,null,null,null,null,null,null,null,null,null,null,null,null,null,null,null,null,null,null,null,0,null,{"$error":"#N/A"},0,{"$error":"#N/A"},{"$error":"#N/A"},0,{"$error":"#N/A"}]
[null,32,{"$f":"'Data Siswa'!D37","v":0},null,null,null,null,null,null,null,null,null,null,null,null,null,null,null,null,null,null,null,null,null,null,null,null,0,null,{"$error":"#N/A"},0,{"$error":"#N/A"},{"$error":"#N/A"},0,{"$error":"#N/A"}]
[null,33,{"$f":"'Data Siswa'!D38","v":0},null,null,null,null,null,null,null,null,null,null,null,null,null,null,null,null,null,null,null,null,null,null,null,null,0,null,{"$error":"#N/A"},0,{"$f":"C44&\" sangat menguasai dalam \"&AD44","v":{"$error":"#N/A"}},{"$error":"#N/A"},0,{"$f":"C44&\" perlu bimbingan dalam \"&AG44","v":{"$error":"#N/A"}}]
[null,34,{"$f":"'Data Siswa'!D39","v":0},null,null,null,null,null,null,null,null,null,null,null,null,null,null,null,null,null,null,null,null,null,null,null,null,0,null,{"$error":"#N/A"},0,{"$error":"#N/A"},{"$error":"#N/A"},0,{"$error":"#N/A"}]
[null,35,{"$f":"'Data Siswa'!D40","v":0},null,null,null,null,null,null,null,null,null,null,null,null,null,null,null,null,null,null,null,null,null,null,null,null,0,null,{"$error":"#N/A"},0,{"$error":"#N/A"},{"$error":"#N/A"},0,{"$error":"#N/A"}]
[null,36,{"$f":"'Data Siswa'!D41","v":0},null,null,null,null,null,null,null,null,null,null,null,null,null,null,null,null,null,null,null,null,null,null,null,null,0,null,{"$error":"#N/A"},0,{"$error":"#N/A"},{"$error":"#N/A"},0,{"$error":"#N/A"}]
[null,37,{"$f":"'Data Siswa'!D42","v":0},null,null,null,null,null,null,null,null,null,null,null,null,null,null,null,null,null,null,null,null,null,null,null,null,0,null,{"$error":"#N/A"},0,{"$error":"#N/A"},{"$error":"#N/A"},0,{"$error":"#N/A"}]
[null,38,{"$f":"'Data Siswa'!D43","v":0},null,null,null,null,null,null,null,null,null,null,null,null,null,null,null,null,null,null,null,null,null,null,null,null,0,null,{"$error":"#N/A"},0,{"$error":"#N/A"},{"$error":"#N/A"},0,{"$error":"#N/A"}]
[null,39,{"$f":"'Data Siswa'!D44","v":0},null,null,null,null,null,null,null,null,null,null,null,null,null,null,null,null,null,null,null,null,null,null,null,null,0,null,{"$error":"#N/A"},0,{"$error":"#N/A"},{"$error":"#N/A"},0,{"$error":"#N/A"}]
[null,40,{"$f":"'Data Siswa'!D45","v":0},null,null,null,null,null,null,null,null,null,null,null,null,null,null,null,null,null,null,null,null,null,null,null,null,0,null,{"$error":"#N/A"},0,{"$error":"#N/A"},{"$error":"#N/A"},0,{"$error":"#N/A"}]
[null,41,{"$f":"'Data Siswa'!D46","v":0},null,null,null,null,null,null,null,null,null,null,null,null,null,null,null,null,null,null,null,null,null,null,null,null,0,null,{"$error":"#N/A"},0,{"$error":"#N/A"},{"$error":"#N/A"},0,{"$error":"#N/A"}]
[null,42,{"$f":"'Data Siswa'!D47","v":0},null,null,null,null,null,null,null,null,null,null,null,null,null,null,null,null,null,null,null,null,null,null,null,null,0,null,{"$error":"#N/A"},0,{"$error":"#N/A"},{"$error":"#N/A"},0,{"$error":"#N/A"}]
[null,43,{"$f":"'Data Siswa'!D48","v":0},null,null,null,null,null,null,null,null,null,null,null,null,null,null,null,null,null,null,null,null,null,null,null,null,0,null,{"$error":"#N/A"},0,{"$error":"#N/A"},{"$error":"#N/A"},0,{"$error":"#N/A"}]
[null,44,{"$f":"'Data Siswa'!D49","v":0},null,null,null,null,null,null,null,null,null,null,null,null,null,null,null,null,null,null,null,null,null,null,null,null,0,null,{"$error":"#N/A"},0,{"$error":"#N/A"},{"$error":"#N/A"},0,{"$error":"#N/A"}]
[null,45,{"$f":"'Data Siswa'!D50","v":0},null,null,null,null,null,null,null,null,null,null,null,null,null,null,null,null,null,null,null,null,null,null,null,null,0,null,{"$error":"#N/A"},0,{"$error":"#N/A"},{"$error":"#N/A"},0,{"$error":"#N/A"}]
[null,46,{"$f":"'Data Siswa'!D51","v":0},null,null,null,null,null,null,null,null,null,null,null,null,null,null,null,null,null,null,null,null,null,null,null,null,0,null,{"$error":"#N/A"},0,{"$error":"#N/A"},{"$error":"#N/A"},0,{"$error":"#N/A"}]
[null,47,{"$f":"'Data Siswa'!D52","v":0},null,null,null,null,null,null,null,null,null,null,null,null,null,null,null,null,null,null,null,null,null,null,null,null,0,null,{"$error":"#N/A"},0,{"$error":"#N/A"},{"$error":"#N/A"},0,{"$error":"#N/A"}]
[null,48,{"$f":"'Data Siswa'!D53","v":0},null,null,null,null,null,null,null,null,null,null,null,null,null,null,null,null,null,null,null,null,null,null,null,null,0,null,{"$error":"#N/A"},0,{"$error":"#N/A"},{"$error":"#N/A"},0,{"$error":"#N/A"}]
[null,49,{"$f":"'Data Siswa'!D54","v":0},null,null,null,null,null,null,null,null,null,null,null,null,null,null,null,null,null,null,null,null,null,null,null,null,0,null,{"$error":"#N/A"},0,{"$error":"#N/A"},{"$error":"#N/A"},0,{"$error":"#N/A"}]
[null,50,{"$f":"'Data Siswa'!D55","v":0},null,null,null,null,null,null,null,null,null,null,null,null,null,null,null,null,null,null,null,null,null,null,null,null,0,null,{"$error":"#N/A"},0,{"$error":"#N/A"},{"$error":"#N/A"},0,{"$error":"#N/A"}]
[null,"RATA-RATA",null,{"$f":"IFERROR(AVERAGE(D12:D61),0)","v":0},{"$f":"IFERROR(AVERAGE(E12:E61),0)","v":0},0,0,0,0,0,0,0,0,0,0,0,0,0,0,0,0,0,0,0,0,0,0]

{"sheet":"TP BI","index":11,"n_rows":28,"n_cols":10,"rows_kept":28,"cut":false,"hidden":false,"merged":[[2,0,2,5],[2,6,2,9]]}
[]
[]
["ALUR TUJUAN PEMBELAJARAN ",null,null,null,null,null,"LINGKUP MATERI"]
[]
[null,"Mata Pelajaran",null,null,{"$f":"\": \"&IDENTITAS!$G$7","v":": Bahasa Indonesia"},null,null,"Mata Pelajaran",null,{"$f":"\": \"&IDENTITAS!$G$7","v":": Bahasa Indonesia"}]
[null,"Semester",null,null,{"$f":"\": \"&IDENTITAS!$D$21","v":": "},null,null,"Semester",null,{"$f":"\": \"&IDENTITAS!$D$21","v":": "}]
[]
[null,null,null,"No","Tujuan Pembelajaran",null,null,null,"No","Lingkup Materi"]
[null,null,null,1,null,null,null,null,1]
[null,null,null,2,null,null,null,null,2]
[null,null,null,3,null,null,null,null,3]
[null,null,null,4,null,null,null,null,4]
[null,null,null,5,null,null,null,null,5]
[null,null,null,6,null,null,null,null,6]
[null,null,null,7,null,null,null,null,"Catatan: Tuliskan lingkup materi pelajaran yang anda ajarkan. Contoh: Siklus Air"]
[null,null,null,8]
[null,null,null,9]
[null,null,null,10]
[null,null,null,11]
[null,null,null,12]
[null,null,null,13]
[null,null,null,14]
[null,null,null,15]
[null,null,null,16]
[null,null,null,17]
[null,null,null,18]
[null,null,null,19]
[null,null,null,20]

{"sheet":"BI","index":12,"n_rows":62,"n_cols":31,"rows_kept":62,"cut":false,"hidden":false,"merged":[[9,25,9,27],[9,28,9,30],[61,1,61,2],[2,0,2,23],[7,1,10,1],[7,2,10,2],[7,3,7,22],[7,23,10,23],[8,3,8,22]]}
[]
[]
["DAFTAR NILAI ASESMEN FORMATIF"]
[]
[null,null,"Mata Pelajaran",":","Bahasa Indonesia"]
[]
[]
[null,"No","NAMA SISWA","Bahasa Indonesia",null,null,null,null,null,null,null,null,null,null,null,null,null,null,null,null,null,null,null,"NILAI RAPOR"]
[null,null,null,"ASESMEN FORMATIF"]
[null,null,null,"TP 1","TP 2","TP 3","TP 4","TP 5","TP 6","TP 7","TP 8","TP 9","TP 10","TP 11","TP 12","TP 13","TP 14","TP 15","TP 16","TP 17","TP 18","TP 19","TP 20"]
[null,null,null,{"$f":"'TP BI'!E9","v":0},{"$f":"'TP BI'!E10","v":0},{"$f":"'TP BI'!E11","v":0},{"$f":"'TP BI'!E12","v":0},{"$f":"'TP BI'!E13","v":0},{"$f":"'TP BI'!E14","v":0},{"$f":"'TP BI'!E15","v":0},{"$f":"'TP BI'!E16","v":0},{"$f":"'TP BI'!E17","v":0},{"$f":"'TP BI'!E18","v":0},{"$f":"'TP BI'!E19","v":0},{"$f":"'TP BI'!E20","v":0},{"$f":"'TP BI'!E21","v":0},{"$f":"'TP BI'!E22","v":0},{"$f":"'TP BI'!E23","v":0},{"$f":"'TP BI'!E24","v":0},{"$f":"'TP BI'!E25","v":0},{"$f":"'TP BI'!E26","v":0},{"$f":"'TP BI'!E27","v":0},{"$f":"'TP BI'!E28","v":0},null,null,"TP","MAX","DESKRIPSI","TP","MIN","DESKRIPSI"]
[null,1,{"$f":"'Data Siswa'!D6","v":0},null,null,null,null,null,null,null,null,null,null,null,null,null,null,null,null,null,null,null,null,{"$f":"IFERROR(AVERAGE(D12:W12),0)","v":0},null,{"$f":"INDEX($D$11:$W$11,MATCH(AA12,D12:W12,0))","v":{"$error":"#N/A"}},{"$f":"MAX(D12:W12)","v":0},{"$f":"C12&\" menunjukkan penguasaan dalam \"&Z12","v":{"$error":"#N/A"}},{"$f":"INDEX($D$11:$W$11,MATCH(AD12,D12:W12,0))","v":{"$error":"#N/A"}},{"$f":"MIN(D12:W12)","v":0},{"$f":"C12&\" perlu bantuan dalam \"&AC12","v":{"$error":"#N/A"}}]
[null,2,{"$f":"'Data Siswa'!D7","v":0},null,null,null,null,null,null,null,null,null,null,null,null,null,null,null,null,null,null,null,null,0,null,{"$f":"INDEX($D$11:$W$11,MATCH(AA13,D13:W13,0))","v":{"$error":"#N/A"}},{"$f":"MAX(D13:W13)","v":0},{"$f":"C13&\" menunjukkan penguasaan dalam \"&Z13","v":{"$error":"#N/A"}},{"$f":"INDEX($D$11:$W$11,MATCH(AD13,D13:W13,0))","v":{"$error":"#N/A"}},{"$f":"MIN(D13:W13)","v":0},{"$f":"C13&\" perlu bantuan dalam \"&AC13","v":{"$error":"#N/A"}}]
[null,3,{"$f":"'Data Siswa'!D8","v":0},null,null,null,null,null,null,null,null,null,null,null,null,null,null,null,null,null,null,null,null,0,null,{"$error":"#N/A"},0,{"$error":"#N/A"},{"$error":"#N/A"},0,{"$error":"#N/A"}]
[null,4,{"$f":"'Data Siswa'!D9","v":0},null,null,null,null,null,null,null,null,null,null,null,null,null,null,null,null,null,null,null,null,0,null,{"$error":"#N/A"},0,{"$error":"#N/A"},{"$error":"#N/A"},0,{"$error":"#N/A"}]
[null,5,{"$f":"'Data Siswa'!D10","v":0},null,null,null,null,null,null,null,null,null,null,null,null,null,null,null,null,null,null,null,null,0,null,{"$error":"#N/A"},0,{"$error":"#N/A"},{"$error":"#N/A"},0,{"$error":"#N/A"}]
[null,6,{"$f":"'Data Siswa'!D11","v":0},null,null,null,null,null,null,null,null,null,null,null,null,null,null,null,null,null,null,null,null,0,null,{"$error":"#N/A"},0,{"$error":"#N/A"},{"$error":"#N/A"},0,{"$error":"#N/A"}]
[null,7,{"$f":"'Data Siswa'!D12","v":0},null,null,null,null,null,null,null,null,null,null,null,null,null,null,null,null,null,null,null,null,0,null,{"$error":"#N/A"},0,{"$error":"#N/A"},{"$error":"#N/A"},0,{"$error":"#N/A"}]
[null,8,{"$f":"'Data Siswa'!D13","v":0},null,null,null,null,null,null,null,null,null,null,null,null,null,null,null,null,null,null,null,null,0,null,{"$error":"#N/A"},0,{"$error":"#N/A"},{"$error":"#N/A"},0,{"$error":"#N/A"}]
[null,9,{"$f":"'Data Siswa'!D14","v":0},null,null,null,null,null,null,null,null,null,null,null,null,null,null,null,null,null,null,null,null,0,null,{"$error":"#N/A"},0,{"$error":"#N/A"},{"$error":"#N/A"},0,{"$error":"#N/A"}]
[null,10,{"$f":"'Data Siswa'!D15","v":0},null,null,null,null,null,null,null,null,null,null,null,null,null,null,null,null,null,null,null,null,0,null,{"$error":"#N/A"},0,{"$error":"#N/A"},{"$error":"#N/A"},0,{"$error":"#N/A"}]
[null,11,{"$f":"'Data Siswa'!D16","v":0},null,null,null,null,null,null,null,null,null,null,null,null,null,null,null,null,null,null,null,null,0,null,{"$error":"#N/A"},0,{"$error":"#N/A"},{"$error":"#N/A"},0,{"$error":"#N/A"}]
[null,12,{"$f":"'Data Siswa'!D17","v":0},null,null,null,null,null,null,null,null,null,null,null,null,null,null,null,null,null,null,null,null,0,null,{"$error":"#N/A"},0,{"$error":"#N/A"},{"$error":"#N/A"},0,{"$error":"#N/A"}]
[null,13,{"$f":"'Data Siswa'!D18","v":0},null,null,null,null,null,null,null,null,null,null,null,null,null,null,null,null,null,null,null,null,0,null,{"$error":"#N/A"},0,{"$error":"#N/A"},{"$error":"#N/A"},0,{"$error":"#N/A"}]
[null,14,{"$f":"'Data Siswa'!D19","v":0},null,null,null,null,null,null,null,null,null,null,null,null,null,null,null,null,null,null,null,null,0,null,{"$error":"#N/A"},0,{"$error":"#N/A"},{"$error":"#N/A"},0,{"$error":"#N/A"}]
[null,15,{"$f":"'Data Siswa'!D20","v":0},null,null,null,null,null,null,null,null,null,null,null,null,null,null,null,null,null,null,null,null,0,null,{"$error":"#N/A"},0,{"$error":"#N/A"},{"$error":"#N/A"},0,{"$error":"#N/A"}]
[null,16,{"$f":"'Data Siswa'!D21","v":0},null,null,null,null,null,null,null,null,null,null,null,null,null,null,null,null,null,null,null,null,0,null,{"$error":"#N/A"},0,{"$error":"#N/A"},{"$error":"#N/A"},0,{"$error":"#N/A"}]
[null,17,{"$f":"'Data Siswa'!D22","v":0},null,null,null,null,null,null,null,null,null,null,null,null,null,null,null,null,null,null,null,null,0,null,{"$error":"#N/A"},0,{"$error":"#N/A"},{"$error":"#N/A"},0,{"$error":"#N/A"}]
[null,18,{"$f":"'Data Siswa'!D23","v":0},null,null,null,null,null,null,null,null,null,null,null,null,null,null,null,null,null,null,null,null,0,null,{"$error":"#N/A"},0,{"$error":"#N/A"},{"$error":"#N/A"},0,{"$error":"#N/A"}]
[null,19,{"$f":"'Data Siswa'!D24","v":0},null,null,null,null,null,null,null,null,null,null,null,null,null,null,null,null,null,null,null,null,0,null,{"$error":"#N/A"},0,{"$error":"#N/A"},{"$error":"#N/A"},0,{"$error":"#N/A"}]
[null,20,{"$f":"'Data Siswa'!D25","v":0},null,null,null,null,null,null,null,null,null,null,null,null,null,null,null,null,null,null,null,null,0,null,{"$error":"#N/A"},0,{"$error":"#N/A"},{"$error":"#N/A"},0,{"$error":"#N/A"}]
[null,21,{"$f":"'Data Siswa'!D26","v":0},null,null,null,null,null,null,null,null,null,null,null,null,null,null,null,null,null,null,null,null,0,null,{"$error":"#N/A"},0,{"$error":"#N/A"},{"$error":"#N/A"},0,{"$error":"#N/A"}]
[null,22,{"$f":"'Data Siswa'!D27","v":0},null,null,null,null,null,null,null,null,null,null,null,null,null,null,null,null,null,null,null,null,0,null,{"$error":"#N/A"},0,{"$error":"#N/A"},{"$error":"#N/A"},0,{"$error":"#N/A"}]
[null,23,{"$f":"'Data Siswa'!D28","v":0},null,null,null,null,null,null,null,null,null,null,null,null,null,null,null,null,null,null,null,null,0,null,{"$error":"#N/A"},0,{"$error":"#N/A"},{"$error":"#N/A"},0,{"$error":"#N/A"}]
[null,24,{"$f":"'Data Siswa'!D29","v":0},null,null,null,null,null,null,null,null,null,null,null,null,null,null,null,null,null,null,null,null,0,null,{"$error":"#N/A"},0,{"$error":"#N/A"},{"$error":"#N/A"},0,{"$error":"#N/A"}]
[null,25,{"$f":"'Data Siswa'!D30","v":0},null,null,null,null,null,null,null,null,null,null,null,null,null,null,null,null,null,null,null,null,0,null,{"$error":"#N/A"},0,{"$error":"#N/A"},{"$error":"#N/A"},0,{"$error":"#N/A"}]
[null,26,{"$f":"'Data Siswa'!D31","v":0},null,null,null,null,null,null,null,null,null,null,null,null,null,null,null,null,null,null,null,null,0,null,{"$error":"#N/A"},0,{"$error":"#N/A"},{"$error":"#N/A"},0,{"$error":"#N/A"}]
[null,27,{"$f":"'Data Siswa'!D32","v":0},null,null,null,null,null,null,null,null,null,null,null,null,null,null,null,null,null,null,null,null,0,null,{"$error":"#N/A"},0,{"$error":"#N/A"},{"$error":"#N/A"},0,{"$error":"#N/A"}]
[null,28,{"$f":"'Data Siswa'!D33","v":0},null,null,null,null,null,null,null,null,null,null,null,null,null,null,null,null,null,null,null,null,0,null,{"$error":"#N/A"},0,{"$error":"#N/A"},{"$error":"#N/A"},0,{"$error":"#N/A"}]
[null,29,{"$f":"'Data Siswa'!D34","v":0},null,null,null,null,null,null,null,null,null,null,null,null,null,null,null,null,null,null,null,null,0,null,{"$error":"#N/A"},0,{"$error":"#N/A"},{"$error":"#N/A"},0,{"$error":"#N/A"}]
[null,30,{"$f":"'Data Siswa'!D35","v":0},null,null,null,null,null,null,null,null,null,null,null,null,null,null,null,null,null,null,null,null,0,null,{"$error":"#N/A"},0,{"$error":"#N/A"},{"$error":"#N/A"},0,{"$error":"#N/A"}]
[null,31,{"$f":"'Data Siswa'!D36","v":0},null,null,null,null,null,null,null,null,null,null,null,null,null,null,null,null,null,null,null,null,0,null,{"$error":"#N/A"},0,{"$error":"#N/A"},{"$error":"#N/A"},0,{"$error":"#N/A"}]
[null,32,{"$f":"'Data Siswa'!D37","v":0},null,null,null,null,null,null,null,null,null,null,null,null,null,null,null,null,null,null,null,null,0,null,{"$error":"#N/A"},0,{"$error":"#N/A"},{"$error":"#N/A"},0,{"$error":"#N/A"}]
[null,33,{"$f":"'Data Siswa'!D38","v":0},null,null,null,null,null,null,null,null,null,null,null,null,null,null,null,null,null,null,null,null,{"$f":"IFERROR(AVERAGE(D44:W44),0)","v":0},null,{"$error":"#N/A"},0,{"$error":"#N/A"},{"$error":"#N/A"},0,{"$error":"#N/A"}]
[null,34,{"$f":"'Data Siswa'!D39","v":0},null,null,null,null,null,null,null,null,null,null,null,null,null,null,null,null,null,null,null,null,0,null,{"$error":"#N/A"},0,{"$error":"#N/A"},{"$error":"#N/A"},0,{"$error":"#N/A"}]
[null,35,{"$f":"'Data Siswa'!D40","v":0},null,null,null,null,null,null,null,null,null,null,null,null,null,null,null,null,null,null,null,null,0,null,{"$error":"#N/A"},0,{"$error":"#N/A"},{"$error":"#N/A"},0,{"$error":"#N/A"}]
[null,36,{"$f":"'Data Siswa'!D41","v":0},null,null,null,null,null,null,null,null,null,null,null,null,null,null,null,null,null,null,null,null,0,null,{"$error":"#N/A"},0,{"$error":"#N/A"},{"$error":"#N/A"},0,{"$error":"#N/A"}]
[null,37,{"$f":"'Data Siswa'!D42","v":0},null,null,null,null,null,null,null,null,null,null,null,null,null,null,null,null,null,null,null,null,0,null,{"$error":"#N/A"},0,{"$error":"#N/A"},{"$error":"#N/A"},0,{"$error":"#N/A"}]
[null,38,{"$f":"'Data Siswa'!D43","v":0},null,null,null,null,null,null,null,null,null,null,null,null,null,null,null,null,null,null,null,null,0,null,{"$error":"#N/A"},0,{"$error":"#N/A"},{"$error":"#N/A"},0,{"$error":"#N/A"}]
[null,39,{"$f":"'Data Siswa'!D44","v":0},null,null,null,null,null,null,null,null,null,null,null,null,null,null,null,null,null,null,null,null,0,null,{"$error":"#N/A"},0,{"$error":"#N/A"},{"$error":"#N/A"},0,{"$error":"#N/A"}]
[null,40,{"$f":"'Data Siswa'!D45","v":0},null,null,null,null,null,null,null,null,null,null,null,null,null,null,null,null,null,null,null,null,0,null,{"$error":"#N/A"},0,{"$error":"#N/A"},{"$error":"#N/A"},0,{"$error":"#N/A"}]
[null,41,{"$f":"'Data Siswa'!D46","v":0},null,null,null,null,null,null,null,null,null,null,null,null,null,null,null,null,null,null,null,null,0,null,{"$error":"#N/A"},0,{"$error":"#N/A"},{"$error":"#N/A"},0,{"$error":"#N/A"}]
[null,42,{"$f":"'Data Siswa'!D47","v":0},null,null,null,null,null,null,null,null,null,null,null,null,null,null,null,null,null,null,null,null,0,null,{"$error":"#N/A"},0,{"$error":"#N/A"},{"$error":"#N/A"},0,{"$error":"#N/A"}]
[null,43,{"$f":"'Data Siswa'!D48","v":0},null,null,null,null,null,null,null,null,null,null,null,null,null,null,null,null,null,null,null,null,0,null,{"$error":"#N/A"},0,{"$error":"#N/A"},{"$error":"#N/A"},0,{"$error":"#N/A"}]
[null,44,{"$f":"'Data Siswa'!D49","v":0},null,null,null,null,null,null,null,null,null,null,null,null,null,null,null,null,null,null,null,null,0,null,{"$error":"#N/A"},0,{"$error":"#N/A"},{"$error":"#N/A"},0,{"$error":"#N/A"}]
[null,45,{"$f":"'Data Siswa'!D50","v":0},null,null,null,null,null,null,null,null,null,null,null,null,null,null,null,null,null,null,null,null,0,null,{"$error":"#N/A"},0,{"$error":"#N/A"},{"$error":"#N/A"},0,{"$error":"#N/A"}]
[null,46,{"$f":"'Data Siswa'!D51","v":0},null,null,null,null,null,null,null,null,null,null,null,null,null,null,null,null,null,null,null,null,0,null,{"$error":"#N/A"},0,{"$error":"#N/A"},{"$error":"#N/A"},0,{"$error":"#N/A"}]
[null,47,{"$f":"'Data Siswa'!D52","v":0},null,null,null,null,null,null,null,null,null,null,null,null,null,null,null,null,null,null,null,null,0,null,{"$error":"#N/A"},0,{"$error":"#N/A"},{"$error":"#N/A"},0,{"$error":"#N/A"}]
[null,48,{"$f":"'Data Siswa'!D53","v":0},null,null,null,null,null,null,null,null,null,null,null,null,null,null,null,null,null,null,null,null,0,null,{"$error":"#N/A"},0,{"$error":"#N/A"},{"$error":"#N/A"},0,{"$error":"#N/A"}]
[null,49,{"$f":"'Data Siswa'!D54","v":0},null,null,null,null,null,null,null,null,null,null,null,null,null,null,null,null,null,null,null,null,0,null,{"$error":"#N/A"},0,{"$error":"#N/A"},{"$error":"#N/A"},0,{"$error":"#N/A"}]
[null,50,{"$f":"'Data Siswa'!D55","v":0},null,null,null,null,null,null,null,null,null,null,null,null,null,null,null,null,null,null,null,null,0,null,{"$error":"#N/A"},0,{"$error":"#N/A"},{"$error":"#N/A"},0,{"$error":"#N/A"}]
[null,"RATA-RATA",null,{"$f":"IFERROR(AVERAGE(D12:D61),0)","v":0},{"$f":"IFERROR(AVERAGE(E12:E61),0)","v":0},0,0,0,0,0,0,0,0,0,0,0,0,0,0,0,0,0,0]

{"sheet":"SUMBI","index":13,"n_rows":62,"n_cols":35,"rows_kept":62,"cut":false,"hidden":false,"merged":[[9,29,9,31],[9,32,9,34],[61,1,61,2],[9,9,9,10],[9,11,9,12],[9,13,9,14],[9,15,9,16],[9,17,9,18],[9,19,9,20],[2,0,2,27],[7,1,10,1],[7,2,10,2],[7,3,7,26],[7,27,10,27],[8,3,8,14],[8,15,8,26],[9,3,9,4],[9,5,9,6],[9,7,9,8],[9,21,9,22],[9,23,9,24],[9,25,9,26]]}
[]
[]
["DAFTAR NILAI ASESMEN SUMATIF"]
[]
[null,null,"Mata Pelajaran",":",null,"Bahasa Indonesia"]
[]
[]
[null,"No","NAMA SISWA","Bahasa Indonesia",null,null,null,null,null,null,null,null,null,null,null,null,null,null,null,null,null,null,null,null,null,null,null,"NILAI RAPOR"]
[null,null,null,"ASESMEN SUMATIF  AKHIR MATERI",null,null,null,null,null,null,null,null,null,null,null,"ASESMEN SUMATIF AKHIR SEMESTER *"]
[null,null,null,{"$f":"'TP BI'!J9","v":0},null,{"$f":"'TP BI'!J10","v":0},null,{"$f":"'TP BI'!J11","v":0},null,{"$f":"'TP BI'!J12","v":0},null,{"$f":"'TP BI'!J13","v":0},null,{"$f":"'TP BI'!J14","v":0},null,{"$f":"'TP BI'!J9","v":0},null,{"$f":"'TP BI'!J10","v":0},null,{"$f":"'TP BI'!J11","v":0},null,{"$f":"'TP BI'!J12","v":0},null,{"$f":"'TP BI'!J13","v":0},null,{"$f":"'TP BI'!J14","v":0}]
[null,null,null,"Tes","Non Tes","Tes","Non Tes","Tes","Non Tes","Tes","Non Tes","Tes","Non Tes","Tes","Non Tes","Tes","Non Tes","Tes","Non Tes","Tes","Non Tes","Tes","Non Tes","Tes","Non Tes","Tes","Non Tes",null,null,"TP","MAX","DESKRIPSI","TP","MIN","DESKRIPSI"]
[null,1,{"$f":"'Data Siswa'!D6","v":0},null,null,null,null,null,null,null,null,null,null,null,null,null,null,null,null,null,null,null,null,null,null,null,null,{"$f":"IFERROR(AVERAGE(D12:AA12),0)","v":0},null,{"$f":"INDEX($D$11:$AA$11,MATCH(AE12,D12:AA12,0))","v":{"$error":"#N/A"}},{"$f":"MAX(D12:AA12)","v":0},{"$f":"C12&\" sangat menguasai dalam \"&AD12","v":{"$error":"#N/A"}},{"$f":"INDEX($D$11:$AA$11,MATCH(AH12,D12:AA12,0))","v":{"$error":"#N/A"}},{"$f":"MIN(D12:AA12)","v":0},{"$f":"C12&\" perlu bimbingan dalam \"&AG12","v":{"$error":"#N/A"}}]
[null,2,{"$f":"'Data Siswa'!D7","v":0},null,null,null,null,null,null,null,null,null,null,null,null,null,null,null,null,null,null,null,null,null,null,null,null,{"$f":"IFERROR(AVERAGE(D13:AA13),0)","v":0},null,{"$error":"#N/A"},0,{"$error":"#N/A"},{"$error":"#N/A"},0,{"$error":"#N/A"}]
[null,3,{"$f":"'Data Siswa'!D8","v":0},null,null,null,null,null,null,null,null,null,null,null,null,null,null,null,null,null,null,null,null,null,null,null,null,0,null,{"$error":"#N/A"},0,{"$error":"#N/A"},{"$error":"#N/A"},0,{"$error":"#N/A"}]
[null,4,{"$f":"'Data Siswa'!D9","v":0},null,null,null,null,null,null,null,null,null,null,null,null,null,null,null,null,null,null,null,null,null,null,null,null,0,null,{"$error":"#N/A"},0,{"$error":"#N/A"},{"$error":"#N/A"},0,{"$error":"#N/A"}]
[null,5,{"$f":"'Data Siswa'!D10","v":0},null,null,null,null,null,null,null,null,null,null,null,null,null,null,null,null,null,null,null,null,null,null,null,null,0,null,{"$error":"#N/A"},0,{"$error":"#N/A"},{"$error":"#N/A"},0,{"$error":"#N/A"}]
[null,6,{"$f":"'Data Siswa'!D11","v":0},null,null,null,null,null,null,null,null,null,null,null,null,null,null,null,null,null,null,null,null,null,null,null,null,{"$f":"IFERROR(AVERAGE(D17:AA17),0)","v":0},null,{"$error":"#N/A"},0,{"$error":"#N/A"},{"$error":"#N/A"},0,{"$error":"#N/A"}]
[null,7,{"$f":"'Data Siswa'!D12","v":0},null,null,null,null,null,null,null,null,null,null,null,null,null,null,null,null,null,null,null,null,null,null,null,null,0,null,{"$error":"#N/A"},0,{"$error":"#N/A"},{"$error":"#N/A"},0,{"$error":"#N/A"}]
[null,8,{"$f":"'Data Siswa'!D13","v":0},null,null,null,null,null,null,null,null,null,null,null,null,null,null,null,null,null,null,null,null,null,null,null,null,0,null,{"$error":"#N/A"},0,{"$error":"#N/A"},{"$error":"#N/A"},0,{"$error":"#N/A"}]
[null,9,{"$f":"'Data Siswa'!D14","v":0},null,null,null,null,null,null,null,null,null,null,null,null,null,null,null,null,null,null,null,null,null,null,null,null,0,null,{"$error":"#N/A"},0,{"$error":"#N/A"},{"$error":"#N/A"},0,{"$error":"#N/A"}]
[null,10,{"$f":"'Data Siswa'!D15","v":0},null,null,null,null,null,null,null,null,null,null,null,null,null,null,null,null,null,null,null,null,null,null,null,null,0,null,{"$error":"#N/A"},0,{"$error":"#N/A"},{"$error":"#N/A"},0,{"$error":"#N/A"}]
[null,11,{"$f":"'Data Siswa'!D16","v":0},null,null,null,null,null,null,null,null,null,null,null,null,null,null,null,null,null,null,null,null,null,null,null,null,0,null,{"$error":"#N/A"},0,{"$error":"#N/A"},{"$error":"#N/A"},0,{"$error":"#N/A"}]
[null,12,{"$f":"'Data Siswa'!D17","v":0},null,null,null,null,null,null,null,null,null,null,null,null,null,null,null,null,null,null,null,null,null,null,null,null,0,null,{"$error":"#N/A"},0,{"$error":"#N/A"},{"$error":"#N/A"},0,{"$error":"#N/A"}]
[null,13,{"$f":"'Data Siswa'!D18","v":0},null,null,null,null,null,null,null,null,null,null,null,null,null,null,null,null,null,null,null,null,null,null,null,null,0,null,{"$error":"#N/A"},0,{"$error":"#N/A"},{"$error":"#N/A"},0,{"$error":"#N/A"}]
[null,14,{"$f":"'Data Siswa'!D19","v":0},null,null,null,null,null,null,null,null,null,null,null,null,null,null,null,null,null,null,null,null,null,null,null,null,0,null,{"$error":"#N/A"},0,{"$error":"#N/A"},{"$error":"#N/A"},0,{"$error":"#N/A"}]
[null,15,{"$f":"'Data Siswa'!D20","v":0},null,null,null,null,null,null,null,null,null,null,null,null,null,null,null,null,null,null,null,null,null,null,null,null,0,null,{"$error":"#N/A"},0,{"$error":"#N/A"},{"$error":"#N/A"},0,{"$error":"#N/A"}]
[null,16,{"$f":"'Data Siswa'!D21","v":0},null,null,null,null,null,null,null,null,null,null,null,null,null,null,null,null,null,null,null,null,null,null,null,null,0,null,{"$error":"#N/A"},0,{"$error":"#N/A"},{"$error":"#N/A"},0,{"$error":"#N/A"}]
[null,17,{"$f":"'Data Siswa'!D22","v":0},null,null,null,null,null,null,null,null,null,null,null,null,null,null,null,null,null,null,null,null,null,null,null,null,0,null,{"$error":"#N/A"},0,{"$error":"#N/A"},{"$error":"#N/A"},0,{"$error":"#N/A"}]
[null,18,{"$f":"'Data Siswa'!D23","v":0},null,null,null,null,null,null,null,null,null,null,null,null,null,null,null,null,null,null,null,null,null,null,null,null,0,null,{"$error":"#N/A"},0,{"$error":"#N/A"},{"$error":"#N/A"},0,{"$error":"#N/A"}]
[null,19,{"$f":"'Data Siswa'!D24","v":0},null,null,null,null,null,null,null,null,null,null,null,null,null,null,null,null,null,null,null,null,null,null,null,null,0,null,{"$error":"#N/A"},0,{"$error":"#N/A"},{"$error":"#N/A"},0,{"$error":"#N/A"}]
[null,20,{"$f":"'Data Siswa'!D25","v":0},null,null,null,null,null,null,null,null,null,null,null,null,null,null,null,null,null,null,null,null,null,null,null,null,0,null,{"$error":"#N/A"},0,{"$error":"#N/A"},{"$error":"#N/A"},0,{"$error":"#N/A"}]
[null,21,{"$f":"'Data Siswa'!D26","v":0},null,null,null,null,null,null,null,null,null,null,null,null,null,null,null,null,null,null,null,null,null,null,null,null,0,null,{"$error":"#N/A"},0,{"$error":"#N/A"},{"$error":"#N/A"},0,{"$error":"#N/A"}]
[null,22,{"$f":"'Data Siswa'!D27","v":0},null,null,null,null,null,null,null,null,null,null,null,null,null,null,null,null,null,null,null,null,null,null,null,null,0,null,{"$error":"#N/A"},0,{"$error":"#N/A"},{"$error":"#N/A"},0,{"$error":"#N/A"}]
[null,23,{"$f":"'Data Siswa'!D28","v":0},null,null,null,null,null,null,null,null,null,null,null,null,null,null,null,null,null,null,null,null,null,null,null,null,0,null,{"$error":"#N/A"},0,{"$error":"#N/A"},{"$error":"#N/A"},0,{"$error":"#N/A"}]
[null,24,{"$f":"'Data Siswa'!D29","v":0},null,null,null,null,null,null,null,null,null,null,null,null,null,null,null,null,null,null,null,null,null,null,null,null,0,null,{"$error":"#N/A"},0,{"$error":"#N/A"},{"$error":"#N/A"},0,{"$error":"#N/A"}]
[null,25,{"$f":"'Data Siswa'!D30","v":0},null,null,null,null,null,null,null,null,null,null,null,null,null,null,null,null,null,null,null,null,null,null,null,null,0,null,{"$error":"#N/A"},0,{"$error":"#N/A"},{"$error":"#N/A"},0,{"$error":"#N/A"}]
[null,26,{"$f":"'Data Siswa'!D31","v":0},null,null,null,null,null,null,null,null,null,null,null,null,null,null,null,null,null,null,null,null,null,null,null,null,0,null,{"$error":"#N/A"},0,{"$error":"#N/A"},{"$error":"#N/A"},0,{"$error":"#N/A"}]
[null,27,{"$f":"'Data Siswa'!D32","v":0},null,null,null,null,null,null,null,null,null,null,null,null,null,null,null,null,null,null,null,null,null,null,null,null,0,null,{"$error":"#N/A"},0,{"$error":"#N/A"},{"$error":"#N/A"},0,{"$error":"#N/A"}]
[null,28,{"$f":"'Data Siswa'!D33","v":0},null,null,null,null,null,null,null,null,null,null,null,null,null,null,null,null,null,null,null,null,null,null,null,null,0,null,{"$error":"#N/A"},0,{"$error":"#N/A"},{"$error":"#N/A"},0,{"$error":"#N/A"}]
[null,29,{"$f":"'Data Siswa'!D34","v":0},null,null,null,null,null,null,null,null,null,null,null,null,null,null,null,null,null,null,null,null,null,null,null,null,0,null,{"$error":"#N/A"},0,{"$error":"#N/A"},{"$error":"#N/A"},0,{"$error":"#N/A"}]
[null,30,{"$f":"'Data Siswa'!D35","v":0},null,null,null,null,null,null,null,null,null,null,null,null,null,null,null,null,null,null,null,null,null,null,null,null,0,null,{"$error":"#N/A"},0,{"$error":"#N/A"},{"$error":"#N/A"},0,{"$error":"#N/A"}]
[null,31,{"$f":"'Data Siswa'!D36","v":0},null,null,null,null,null,null,null,null,null,null,null,null,null,null,null,null,null,null,null,null,null,null,null,null,0,null,{"$error":"#N/A"},0,{"$error":"#N/A"},{"$error":"#N/A"},0,{"$error":"#N/A"}]
[null,32,{"$f":"'Data Siswa'!D37","v":0},null,null,null,null,null,null,null,null,null,null,null,null,null,null,null,null,null,null,null,null,null,null,null,null,0,null,{"$error":"#N/A"},0,{"$error":"#N/A"},{"$error":"#N/A"},0,{"$error":"#N/A"}]
[null,33,{"$f":"'Data Siswa'!D38","v":0},null,null,null,null,null,null,null,null,null,null,null,null,null,null,null,null,null,null,null,null,null,null,null,null,0,null,{"$error":"#N/A"},0,{"$f":"C44&\" sangat menguasai dalam \"&AD44","v":{"$error":"#N/A"}},{"$error":"#N/A"},0,{"$f":"C44&\" perlu bimbingan dalam \"&AG44","v":{"$error":"#N/A"}}]
[null,34,{"$f":"'Data Siswa'!D39","v":0},null,null,null,null,null,null,null,null,null,null,null,null,null,null,null,null,null,null,null,null,null,null,null,null,0,null,{"$error":"#N/A"},0,{"$error":"#N/A"},{"$error":"#N/A"},0,{"$error":"#N/A"}]
[null,35,{"$f":"'Data Siswa'!D40","v":0},null,null,null,null,null,null,null,null,null,null,null,null,null,null,null,null,null,null,null,null,null,null,null,null,0,null,{"$error":"#N/A"},0,{"$error":"#N/A"},{"$error":"#N/A"},0,{"$error":"#N/A"}]
[null,36,{"$f":"'Data Siswa'!D41","v":0},null,null,null,null,null,null,null,null,null,null,null,null,null,null,null,null,null,null,null,null,null,null,null,null,0,null,{"$error":"#N/A"},0,{"$error":"#N/A"},{"$error":"#N/A"},0,{"$error":"#N/A"}]
[null,37,{"$f":"'Data Siswa'!D42","v":0},null,null,null,null,null,null,null,null,null,null,null,null,null,null,null,null,null,null,null,null,null,null,null,null,0,null,{"$error":"#N/A"},0,{"$error":"#N/A"},{"$error":"#N/A"},0,{"$error":"#N/A"}]
[null,38,{"$f":"'Data Siswa'!D43","v":0},null,null,null,null,null,null,null,null,null,null,null,null,null,null,null,null,null,null,null,null,null,null,null,null,0,null,{"$error":"#N/A"},0,{"$error":"#N/A"},{"$error":"#N/A"},0,{"$error":"#N/A"}]
[null,39,{"$f":"'Data Siswa'!D44","v":0},null,null,null,null,null,null,null,null,null,null,null,null,null,null,null,null,null,null,null,null,null,null,null,null,0,null,{"$error":"#N/A"},0,{"$error":"#N/A"},{"$error":"#N/A"},0,{"$error":"#N/A"}]
[null,40,{"$f":"'Data Siswa'!D45","v":0},null,null,null,null,null,null,null,null,null,null,null,null,null,null,null,null,null,null,null,null,null,null,null,null,0,null,{"$error":"#N/A"},0,{"$error":"#N/A"},{"$error":"#N/A"},0,{"$error":"#N/A"}]
[null,41,{"$f":"'Data Siswa'!D46","v":0},null,null,null,null,null,null,null,null,null,null,null,null,null,null,null,null,null,null,null,null,null,null,null,null,0,null,{"$error":"#N/A"},0,{"$error":"#N/A"},{"$error":"#N/A"},0,{"$error":"#N/A"}]
[null,42,{"$f":"'Data Siswa'!D47","v":0},null,null,null,null,null,null,null,null,null,null,null,null,null,null,null,null,null,null,null,null,null,null,null,null,0,null,{"$error":"#N/A"},0,{"$error":"#N/A"},{"$error":"#N/A"},0,{"$error":"#N/A"}]
[null,43,{"$f":"'Data Siswa'!D48","v":0},null,null,null,null,null,null,null,null,null,null,null,null,null,null,null,null,null,null,null,null,null,null,null,null,0,null,{"$error":"#N/A"},0,{"$error":"#N/A"},{"$error":"#N/A"},0,{"$error":"#N/A"}]
[null,44,{"$f":"'Data Siswa'!D49","v":0},null,null,null,null,null,null,null,null,null,null,null,null,null,null,null,null,null,null,null,null,null,null,null,null,0,null,{"$error":"#N/A"},0,{"$error":"#N/A"},{"$error":"#N/A"},0,{"$error":"#N/A"}]
[null,45,{"$f":"'Data Siswa'!D50","v":0},null,null,null,null,null,null,null,null,null,null,null,null,null,null,null,null,null,null,null,null,null,null,null,null,0,null,{"$error":"#N/A"},0,{"$error":"#N/A"},{"$error":"#N/A"},0,{"$error":"#N/A"}]
[null,46,{"$f":"'Data Siswa'!D51","v":0},null,null,null,null,null,null,null,null,null,null,null,null,null,null,null,null,null,null,null,null,null,null,null,null,0,null,{"$error":"#N/A"},0,{"$error":"#N/A"},{"$error":"#N/A"},0,{"$error":"#N/A"}]
[null,47,{"$f":"'Data Siswa'!D52","v":0},null,null,null,null,null,null,null,null,null,null,null,null,null,null,null,null,null,null,null,null,null,null,null,null,0,null,{"$error":"#N/A"},0,{"$error":"#N/A"},{"$error":"#N/A"},0,{"$error":"#N/A"}]
[null,48,{"$f":"'Data Siswa'!D53","v":0},null,null,null,null,null,null,null,null,null,null,null,null,null,null,null,null,null,null,null,null,null,null,null,null,0,null,{"$error":"#N/A"},0,{"$error":"#N/A"},{"$error":"#N/A"},0,{"$error":"#N/A"}]
[null,49,{"$f":"'Data Siswa'!D54","v":0},null,null,null,null,null,null,null,null,null,null,null,null,null,null,null,null,null,null,null,null,null,null,null,null,0,null,{"$error":"#N/A"},0,{"$error":"#N/A"},{"$error":"#N/A"},0,{"$error":"#N/A"}]
[null,50,{"$f":"'Data Siswa'!D55","v":0},null,null,null,null,null,null,null,null,null,null,null,null,null,null,null,null,null,null,null,null,null,null,null,null,0,null,{"$error":"#N/A"},0,{"$error":"#N/A"},{"$error":"#N/A"},0,{"$error":"#N/A"}]
[null,"RATA-RATA",null,{"$f":"IFERROR(AVERAGE(D12:D61),0)","v":0},{"$f":"IFERROR(AVERAGE(E12:E61),0)","v":0},0,0,0,0,0,0,0,0,0,0,0,0,0,0,0,0,0,0,0,0,0,0]

{"sheet":"TP MAT","index":14,"n_rows":28,"n_cols":10,"rows_kept":28,"cut":false,"hidden":false,"merged":[[2,0,2,5],[2,6,2,9]]}
[]
[]
["ALUR TUJUAN PEMBELAJARAN ",null,null,null,null,null,"LINGKUP MATERI"]
[]
[null,"Mata Pelajaran",null,null,{"$f":"\": \"&IDENTITAS!$G$8","v":": Matematika"},null,null,"Mata Pelajaran",null,{"$f":"\": \"&IDENTITAS!$G$8","v":": Matematika"}]
[null,"Semester",null,null,{"$f":"\": \"&IDENTITAS!$D$21","v":": "},null,null,"Semester",null,{"$f":"\": \"&IDENTITAS!$D$21","v":": "}]
[]
[null,null,null,"No","Tujuan Pembelajaran",null,null,null,"No","Lingkup Materi"]
[null,null,null,1,null,null,null,null,1]
[null,null,null,2,null,null,null,null,2]
[null,null,null,3,null,null,null,null,3]
[null,null,null,4,null,null,null,null,4]
[null,null,null,5,null,null,null,null,5]
[null,null,null,6,null,null,null,null,6]
[null,null,null,7,null,null,null,null,"Catatan: Tuliskan lingkup materi pelajaran yang anda ajarkan. Contoh: Siklus Air"]
[null,null,null,8]
[null,null,null,9]
[null,null,null,10]
[null,null,null,11]
[null,null,null,12]
[null,null,null,13]
[null,null,null,14]
[null,null,null,15]
[null,null,null,16]
[null,null,null,17]
[null,null,null,18]
[null,null,null,19]
[null,null,null,20]

{"sheet":"MAT","index":15,"n_rows":62,"n_cols":31,"rows_kept":62,"cut":false,"hidden":false,"merged":[[9,25,9,27],[9,28,9,30],[61,1,61,2],[2,0,2,23],[7,1,10,1],[7,2,10,2],[7,3,7,22],[7,23,10,23],[8,3,8,22]]}
[]
[]
["DAFTAR NILAI ASESMEN FORMATIF"]
[]
[null,null,"Mata Pelajaran",":","Matematika"]
[]
[]
[null,"No","NAMA SISWA","Matematika",null,null,null,null,null,null,null,null,null,null,null,null,null,null,null,null,null,null,null,"NILAI RAPOR"]
[null,null,null,"ASESMEN FORMATIF"]
[null,null,null,"TP 1","TP 2","TP 3","TP 4","TP 5","TP 6","TP 7","TP 8","TP 9","TP 10","TP 11","TP 12","TP 13","TP 14","TP 15","TP 16","TP 17","TP 18","TP 19","TP 20"]
[null,null,null,{"$f":"'TP MAT'!E9","v":0},{"$f":"'TP MAT'!E10","v":0},{"$f":"'TP MAT'!E11","v":0},{"$f":"'TP MAT'!E12","v":0},{"$f":"'TP MAT'!E13","v":0},{"$f":"'TP MAT'!E14","v":0},{"$f":"'TP MAT'!E15","v":0},{"$f":"'TP MAT'!E16","v":0},{"$f":"'TP MAT'!E17","v":0},{"$f":"'TP MAT'!E18","v":0},{"$f":"'TP MAT'!E19","v":0},{"$f":"'TP MAT'!E20","v":0},{"$f":"'TP MAT'!E21","v":0},{"$f":"'TP MAT'!E22","v":0},{"$f":"'TP MAT'!E23","v":0},{"$f":"'TP MAT'!E24","v":0},{"$f":"'TP MAT'!E25","v":0},{"$f":"'TP MAT'!E26","v":0},{"$f":"'TP MAT'!E27","v":0},{"$f":"'TP MAT'!E28","v":0},null,null,"TP","MAX","DESKRIPSI","TP","MIN","DESKRIPSI"]
[null,1,{"$f":"'Data Siswa'!D6","v":0},null,null,null,null,null,null,null,null,null,null,null,null,null,null,null,null,null,null,null,null,{"$f":"IFERROR(AVERAGE(D12:W12),0)","v":0},null,{"$f":"INDEX($D$11:$W$11,MATCH(AA12,D12:W12,0))","v":{"$error":"#N/A"}},{"$f":"MAX(D12:W12)","v":0},{"$f":"C12&\" menunjukkan penguasaan dalam \"&Z12","v":{"$error":"#N/A"}},{"$f":"INDEX($D$11:$W$11,MATCH(AD12,D12:W12,0))","v":{"$error":"#N/A"}},{"$f":"MIN(D12:W12)","v":0},{"$f":"C12&\" perlu bantuan dalam \"&AC12","v":{"$error":"#N/A"}}]
[null,2,{"$f":"'Data Siswa'!D7","v":0},null,null,null,null,null,null,null,null,null,null,null,null,null,null,null,null,null,null,null,null,0,null,{"$f":"INDEX($D$11:$W$11,MATCH(AA13,D13:W13,0))","v":{"$error":"#N/A"}},{"$f":"MAX(D13:W13)","v":0},{"$f":"C13&\" menunjukkan penguasaan dalam \"&Z13","v":{"$error":"#N/A"}},{"$f":"INDEX($D$11:$W$11,MATCH(AD13,D13:W13,0))","v":{"$error":"#N/A"}},{"$f":"MIN(D13:W13)","v":0},{"$f":"C13&\" perlu bantuan dalam \"&AC13","v":{"$error":"#N/A"}}]
[null,3,{"$f":"'Data Siswa'!D8","v":0},null,null,null,null,null,null,null,null,null,null,null,null,null,null,null,null,null,null,null,null,0,null,{"$error":"#N/A"},0,{"$error":"#N/A"},{"$error":"#N/A"},0,{"$error":"#N/A"}]
[null,4,{"$f":"'Data Siswa'!D9","v":0},null,null,null,null,null,null,null,null,null,null,null,null,null,null,null,null,null,null,null,null,0,null,{"$error":"#N/A"},0,{"$error":"#N/A"},{"$error":"#N/A"},0,{"$error":"#N/A"}]
[null,5,{"$f":"'Data Siswa'!D10","v":0},null,null,null,null,null,null,null,null,null,null,null,null,null,null,null,null,null,null,null,null,0,null,{"$error":"#N/A"},0,{"$error":"#N/A"},{"$error":"#N/A"},0,{"$error":"#N/A"}]
[null,6,{"$f":"'Data Siswa'!D11","v":0},null,null,null,null,null,null,null,null,null,null,null,null,null,null,null,null,null,null,null,null,0,null,{"$error":"#N/A"},0,{"$error":"#N/A"},{"$error":"#N/A"},0,{"$error":"#N/A"}]
[null,7,{"$f":"'Data Siswa'!D12","v":0},null,null,null,null,null,null,null,null,null,null,null,null,null,null,null,null,null,null,null,null,0,null,{"$error":"#N/A"},0,{"$error":"#N/A"},{"$error":"#N/A"},0,{"$error":"#N/A"}]
[null,8,{"$f":"'Data Siswa'!D13","v":0},null,null,null,null,null,null,null,null,null,null,null,null,null,null,null,null,null,null,null,null,0,null,{"$error":"#N/A"},0,{"$error":"#N/A"},{"$error":"#N/A"},0,{"$error":"#N/A"}]
[null,9,{"$f":"'Data Siswa'!D14","v":0},null,null,null,null,null,null,null,null,null,null,null,null,null,null,null,null,null,null,null,null,0,null,{"$error":"#N/A"},0,{"$error":"#N/A"},{"$error":"#N/A"},0,{"$error":"#N/A"}]
[null,10,{"$f":"'Data Siswa'!D15","v":0},null,null,null,null,null,null,null,null,null,null,null,null,null,null,null,null,null,null,null,null,0,null,{"$error":"#N/A"},0,{"$error":"#N/A"},{"$error":"#N/A"},0,{"$error":"#N/A"}]
[null,11,{"$f":"'Data Siswa'!D16","v":0},null,null,null,null,null,null,null,null,null,null,null,null,null,null,null,null,null,null,null,null,0,null,{"$error":"#N/A"},0,{"$error":"#N/A"},{"$error":"#N/A"},0,{"$error":"#N/A"}]
[null,12,{"$f":"'Data Siswa'!D17","v":0},null,null,null,null,null,null,null,null,null,null,null,null,null,null,null,null,null,null,null,null,0,null,{"$error":"#N/A"},0,{"$error":"#N/A"},{"$error":"#N/A"},0,{"$error":"#N/A"}]
[null,13,{"$f":"'Data Siswa'!D18","v":0},null,null,null,null,null,null,null,null,null,null,null,null,null,null,null,null,null,null,null,null,0,null,{"$error":"#N/A"},0,{"$error":"#N/A"},{"$error":"#N/A"},0,{"$error":"#N/A"}]
[null,14,{"$f":"'Data Siswa'!D19","v":0},null,null,null,null,null,null,null,null,null,null,null,null,null,null,null,null,null,null,null,null,0,null,{"$error":"#N/A"},0,{"$error":"#N/A"},{"$error":"#N/A"},0,{"$error":"#N/A"}]
[null,15,{"$f":"'Data Siswa'!D20","v":0},null,null,null,null,null,null,null,null,null,null,null,null,null,null,null,null,null,null,null,null,0,null,{"$error":"#N/A"},0,{"$error":"#N/A"},{"$error":"#N/A"},0,{"$error":"#N/A"}]
[null,16,{"$f":"'Data Siswa'!D21","v":0},null,null,null,null,null,null,null,null,null,null,null,null,null,null,null,null,null,null,null,null,0,null,{"$error":"#N/A"},0,{"$error":"#N/A"},{"$error":"#N/A"},0,{"$error":"#N/A"}]
[null,17,{"$f":"'Data Siswa'!D22","v":0},null,null,null,null,null,null,null,null,null,null,null,null,null,null,null,null,null,null,null,null,0,null,{"$error":"#N/A"},0,{"$error":"#N/A"},{"$error":"#N/A"},0,{"$error":"#N/A"}]
[null,18,{"$f":"'Data Siswa'!D23","v":0},null,null,null,null,null,null,null,null,null,null,null,null,null,null,null,null,null,null,null,null,0,null,{"$error":"#N/A"},0,{"$error":"#N/A"},{"$error":"#N/A"},0,{"$error":"#N/A"}]
[null,19,{"$f":"'Data Siswa'!D24","v":0},null,null,null,null,null,null,null,null,null,null,null,null,null,null,null,null,null,null,null,null,0,null,{"$error":"#N/A"},0,{"$error":"#N/A"},{"$error":"#N/A"},0,{"$error":"#N/A"}]
[null,20,{"$f":"'Data Siswa'!D25","v":0},null,null,null,null,null,null,null,null,null,null,null,null,null,null,null,null,null,null,null,null,0,null,{"$error":"#N/A"},0,{"$error":"#N/A"},{"$error":"#N/A"},0,{"$error":"#N/A"}]
[null,21,{"$f":"'Data Siswa'!D26","v":0},null,null,null,null,null,null,null,null,null,null,null,null,null,null,null,null,null,null,null,null,0,null,{"$error":"#N/A"},0,{"$error":"#N/A"},{"$error":"#N/A"},0,{"$error":"#N/A"}]
[null,22,{"$f":"'Data Siswa'!D27","v":0},null,null,null,null,null,null,null,null,null,null,null,null,null,null,null,null,null,null,null,null,0,null,{"$error":"#N/A"},0,{"$error":"#N/A"},{"$error":"#N/A"},0,{"$error":"#N/A"}]
[null,23,{"$f":"'Data Siswa'!D28","v":0},null,null,null,null,null,null,null,null,null,null,null,null,null,null,null,null,null,null,null,null,0,null,{"$error":"#N/A"},0,{"$error":"#N/A"},{"$error":"#N/A"},0,{"$error":"#N/A"}]
[null,24,{"$f":"'Data Siswa'!D29","v":0},null,null,null,null,null,null,null,null,null,null,null,null,null,null,null,null,null,null,null,null,0,null,{"$error":"#N/A"},0,{"$error":"#N/A"},{"$error":"#N/A"},0,{"$error":"#N/A"}]
[null,25,{"$f":"'Data Siswa'!D30","v":0},null,null,null,null,null,null,null,null,null,null,null,null,null,null,null,null,null,null,null,null,0,null,{"$error":"#N/A"},0,{"$error":"#N/A"},{"$error":"#N/A"},0,{"$error":"#N/A"}]
[null,26,{"$f":"'Data Siswa'!D31","v":0},null,null,null,null,null,null,null,null,null,null,null,null,null,null,null,null,null,null,null,null,0,null,{"$error":"#N/A"},0,{"$error":"#N/A"},{"$error":"#N/A"},0,{"$error":"#N/A"}]
[null,27,{"$f":"'Data Siswa'!D32","v":0},null,null,null,null,null,null,null,null,null,null,null,null,null,null,null,null,null,null,null,null,0,null,{"$error":"#N/A"},0,{"$error":"#N/A"},{"$error":"#N/A"},0,{"$error":"#N/A"}]
[null,28,{"$f":"'Data Siswa'!D33","v":0},null,null,null,null,null,null,null,null,null,null,null,null,null,null,null,null,null,null,null,null,0,null,{"$error":"#N/A"},0,{"$error":"#N/A"},{"$error":"#N/A"},0,{"$error":"#N/A"}]
[null,29,{"$f":"'Data Siswa'!D34","v":0},null,null,null,null,null,null,null,null,null,null,null,null,null,null,null,null,null,null,null,null,0,null,{"$error":"#N/A"},0,{"$error":"#N/A"},{"$error":"#N/A"},0,{"$error":"#N/A"}]
[null,30,{"$f":"'Data Siswa'!D35","v":0},null,null,null,null,null,null,null,null,null,null,null,null,null,null,null,null,null,null,null,null,0,null,{"$error":"#N/A"},0,{"$error":"#N/A"},{"$error":"#N/A"},0,{"$error":"#N/A"}]
[null,31,{"$f":"'Data Siswa'!D36","v":0},null,null,null,null,null,null,null,null,null,null,null,null,null,null,null,null,null,null,null,null,0,null,{"$error":"#N/A"},0,{"$error":"#N/A"},{"$error":"#N/A"},0,{"$error":"#N/A"}]
[null,32,{"$f":"'Data Siswa'!D37","v":0},null,null,null,null,null,null,null,null,null,null,null,null,null,null,null,null,null,null,null,null,0,null,{"$error":"#N/A"},0,{"$error":"#N/A"},{"$error":"#N/A"},0,{"$error":"#N/A"}]
[null,33,{"$f":"'Data Siswa'!D38","v":0},null,null,null,null,null,null,null,null,null,null,null,null,null,null,null,null,null,null,null,null,{"$f":"IFERROR(AVERAGE(D44:W44),0)","v":0},null,{"$error":"#N/A"},0,{"$error":"#N/A"},{"$error":"#N/A"},0,{"$error":"#N/A"}]
[null,34,{"$f":"'Data Siswa'!D39","v":0},null,null,null,null,null,null,null,null,null,null,null,null,null,null,null,null,null,null,null,null,0,null,{"$error":"#N/A"},0,{"$error":"#N/A"},{"$error":"#N/A"},0,{"$error":"#N/A"}]
[null,35,{"$f":"'Data Siswa'!D40","v":0},null,null,null,null,null,null,null,null,null,null,null,null,null,null,null,null,null,null,null,null,0,null,{"$error":"#N/A"},0,{"$error":"#N/A"},{"$error":"#N/A"},0,{"$error":"#N/A"}]
[null,36,{"$f":"'Data Siswa'!D41","v":0},null,null,null,null,null,null,null,null,null,null,null,null,null,null,null,null,null,null,null,null,0,null,{"$error":"#N/A"},0,{"$error":"#N/A"},{"$error":"#N/A"},0,{"$error":"#N/A"}]
[null,37,{"$f":"'Data Siswa'!D42","v":0},null,null,null,null,null,null,null,null,null,null,null,null,null,null,null,null,null,null,null,null,0,null,{"$error":"#N/A"},0,{"$error":"#N/A"},{"$error":"#N/A"},0,{"$error":"#N/A"}]
[null,38,{"$f":"'Data Siswa'!D43","v":0},null,null,null,null,null,null,null,null,null,null,null,null,null,null,null,null,null,null,null,null,0,null,{"$error":"#N/A"},0,{"$error":"#N/A"},{"$error":"#N/A"},0,{"$error":"#N/A"}]
[null,39,{"$f":"'Data Siswa'!D44","v":0},null,null,null,null,null,null,null,null,null,null,null,null,null,null,null,null,null,null,null,null,0,null,{"$error":"#N/A"},0,{"$error":"#N/A"},{"$error":"#N/A"},0,{"$error":"#N/A"}]
[null,40,{"$f":"'Data Siswa'!D45","v":0},null,null,null,null,null,null,null,null,null,null,null,null,null,null,null,null,null,null,null,null,0,null,{"$error":"#N/A"},0,{"$error":"#N/A"},{"$error":"#N/A"},0,{"$error":"#N/A"}]
[null,41,{"$f":"'Data Siswa'!D46","v":0},null,null,null,null,null,null,null,null,null,null,null,null,null,null,null,null,null,null,null,null,0,null,{"$error":"#N/A"},0,{"$error":"#N/A"},{"$error":"#N/A"},0,{"$error":"#N/A"}]
[null,42,{"$f":"'Data Siswa'!D47","v":0},null,null,null,null,null,null,null,null,null,null,null,null,null,null,null,null,null,null,null,null,0,null,{"$error":"#N/A"},0,{"$error":"#N/A"},{"$error":"#N/A"},0,{"$error":"#N/A"}]
[null,43,{"$f":"'Data Siswa'!D48","v":0},null,null,null,null,null,null,null,null,null,null,null,null,null,null,null,null,null,null,null,null,0,null,{"$error":"#N/A"},0,{"$error":"#N/A"},{"$error":"#N/A"},0,{"$error":"#N/A"}]
[null,44,{"$f":"'Data Siswa'!D49","v":0},null,null,null,null,null,null,null,null,null,null,null,null,null,null,null,null,null,null,null,null,0,null,{"$error":"#N/A"},0,{"$error":"#N/A"},{"$error":"#N/A"},0,{"$error":"#N/A"}]
[null,45,{"$f":"'Data Siswa'!D50","v":0},null,null,null,null,null,null,null,null,null,null,null,null,null,null,null,null,null,null,null,null,0,null,{"$error":"#N/A"},0,{"$error":"#N/A"},{"$error":"#N/A"},0,{"$error":"#N/A"}]
[null,46,{"$f":"'Data Siswa'!D51","v":0},null,null,null,null,null,null,null,null,null,null,null,null,null,null,null,null,null,null,null,null,0,null,{"$error":"#N/A"},0,{"$error":"#N/A"},{"$error":"#N/A"},0,{"$error":"#N/A"}]
[null,47,{"$f":"'Data Siswa'!D52","v":0},null,null,null,null,null,null,null,null,null,null,null,null,null,null,null,null,null,null,null,null,0,null,{"$error":"#N/A"},0,{"$error":"#N/A"},{"$error":"#N/A"},0,{"$error":"#N/A"}]
[null,48,{"$f":"'Data Siswa'!D53","v":0},null,null,null,null,null,null,null,null,null,null,null,null,null,null,null,null,null,null,null,null,0,null,{"$error":"#N/A"},0,{"$error":"#N/A"},{"$error":"#N/A"},0,{"$error":"#N/A"}]
[null,49,{"$f":"'Data Siswa'!D54","v":0},null,null,null,null,null,null,null,null,null,null,null,null,null,null,null,null,null,null,null,null,0,null,{"$error":"#N/A"},0,{"$error":"#N/A"},{"$error":"#N/A"},0,{"$error":"#N/A"}]
[null,50,{"$f":"'Data Siswa'!D55","v":0},null,null,null,null,null,null,null,null,null,null,null,null,null,null,null,null,null,null,null,null,0,null,{"$error":"#N/A"},0,{"$error":"#N/A"},{"$error":"#N/A"},0,{"$error":"#N/A"}]
[null,"RATA-RATA",null,{"$f":"IFERROR(AVERAGE(D12:D61),0)","v":0},{"$f":"IFERROR(AVERAGE(E12:E61),0)","v":0},0,0,0,0,0,0,0,0,0,0,0,0,0,0,0,0,0,0]

{"sheet":"SUMMAT","index":16,"n_rows":62,"n_cols":35,"rows_kept":62,"cut":false,"hidden":false,"merged":[[9,29,9,31],[9,32,9,34],[61,1,61,2],[9,9,9,10],[9,11,9,12],[9,13,9,14],[9,15,9,16],[9,17,9,18],[9,19,9,20],[2,0,2,27],[7,1,10,1],[7,2,10,2],[7,3,7,26],[7,27,10,27],[8,3,8,14],[8,15,8,26],[9,3,9,4],[9,5,9,6],[9,7,9,8],[9,21,9,22],[9,23,9,24],[9,25,9,26]]}
[]
[]
["DAFTAR NILAI ASESMEN SUMATIF"]
[]
[null,null,"Mata Pelajaran",":",null,"Matematika"]
[]
[]
[null,"No","NAMA SISWA","Matematika",null,null,null,null,null,null,null,null,null,null,null,null,null,null,null,null,null,null,null,null,null,null,null,"NILAI RAPOR"]
[null,null,null,"ASESMEN SUMATIF  AKHIR MATERI",null,null,null,null,null,null,null,null,null,null,null,"ASESMEN SUMATIF AKHIR SEMESTER *"]
[null,null,null,{"$f":"'TP MAT'!J9","v":0},null,{"$f":"'TP MAT'!J10","v":0},null,{"$f":"'TP MAT'!J11","v":0},null,{"$f":"'TP MAT'!J12","v":0},null,{"$f":"'TP MAT'!J13","v":0},null,{"$f":"'TP MAT'!J14","v":0},null,{"$f":"'TP MAT'!J9","v":0},null,{"$f":"'TP MAT'!J10","v":0},null,{"$f":"'TP MAT'!J11","v":0},null,{"$f":"'TP MAT'!J12","v":0},null,{"$f":"'TP MAT'!J13","v":0},null,{"$f":"'TP MAT'!J14","v":0}]
[null,null,null,"Tes","Non Tes","Tes","Non Tes","Tes","Non Tes","Tes","Non Tes","Tes","Non Tes","Tes","Non Tes","Tes","Non Tes","Tes","Non Tes","Tes","Non Tes","Tes","Non Tes","Tes","Non Tes","Tes","Non Tes",null,null,"TP","MAX","DESKRIPSI","TP","MIN","DESKRIPSI"]
[null,1,{"$f":"'Data Siswa'!D6","v":0},null,null,null,null,null,null,null,null,null,null,null,null,null,null,null,null,null,null,null,null,null,null,null,null,{"$f":"IFERROR(AVERAGE(D12:AA12),0)","v":0},null,{"$f":"INDEX($D$11:$AA$11,MATCH(AE12,D12:AA12,0))","v":{"$error":"#N/A"}},{"$f":"MAX(D12:AA12)","v":0},{"$f":"C12&\" sangat menguasai dalam \"&AD12","v":{"$error":"#N/A"}},{"$f":"INDEX($D$11:$AA$11,MATCH(AH12,D12:AA12,0))","v":{"$error":"#N/A"}},{"$f":"MIN(D12:AA12)","v":0},{"$f":"C12&\" perlu bimbingan dalam \"&AG12","v":{"$error":"#N/A"}}]
[null,2,{"$f":"'Data Siswa'!D7","v":0},null,null,null,null,null,null,null,null,null,null,null,null,null,null,null,null,null,null,null,null,null,null,null,null,{"$f":"IFERROR(AVERAGE(D13:AA13),0)","v":0},null,{"$error":"#N/A"},0,{"$error":"#N/A"},{"$error":"#N/A"},0,{"$error":"#N/A"}]
[null,3,{"$f":"'Data Siswa'!D8","v":0},null,null,null,null,null,null,null,null,null,null,null,null,null,null,null,null,null,null,null,null,null,null,null,null,0,null,{"$error":"#N/A"},0,{"$error":"#N/A"},{"$error":"#N/A"},0,{"$error":"#N/A"}]
[null,4,{"$f":"'Data Siswa'!D9","v":0},null,null,null,null,null,null,null,null,null,null,null,null,null,null,null,null,null,null,null,null,null,null,null,null,0,null,{"$error":"#N/A"},0,{"$error":"#N/A"},{"$error":"#N/A"},0,{"$error":"#N/A"}]
[null,5,{"$f":"'Data Siswa'!D10","v":0},null,null,null,null,null,null,null,null,null,null,null,null,null,null,null,null,null,null,null,null,null,null,null,null,0,null,{"$error":"#N/A"},0,{"$error":"#N/A"},{"$error":"#N/A"},0,{"$error":"#N/A"}]
[null,6,{"$f":"'Data Siswa'!D11","v":0},null,null,null,null,null,null,null,null,null,null,null,null,null,null,null,null,null,null,null,null,null,null,null,null,{"$f":"IFERROR(AVERAGE(D17:AA17),0)","v":0},null,{"$error":"#N/A"},0,{"$error":"#N/A"},{"$error":"#N/A"},0,{"$error":"#N/A"}]
[null,7,{"$f":"'Data Siswa'!D12","v":0},null,null,null,null,null,null,null,null,null,null,null,null,null,null,null,null,null,null,null,null,null,null,null,null,0,null,{"$error":"#N/A"},0,{"$error":"#N/A"},{"$error":"#N/A"},0,{"$error":"#N/A"}]
[null,8,{"$f":"'Data Siswa'!D13","v":0},null,null,null,null,null,null,null,null,null,null,null,null,null,null,null,null,null,null,null,null,null,null,null,null,0,null,{"$error":"#N/A"},0,{"$error":"#N/A"},{"$error":"#N/A"},0,{"$error":"#N/A"}]
[null,9,{"$f":"'Data Siswa'!D14","v":0},null,null,null,null,null,null,null,null,null,null,null,null,null,null,null,null,null,null,null,null,null,null,null,null,0,null,{"$error":"#N/A"},0,{"$error":"#N/A"},{"$error":"#N/A"},0,{"$error":"#N/A"}]
[null,10,{"$f":"'Data Siswa'!D15","v":0},null,null,null,null,null,null,null,null,null,null,null,null,null,null,null,null,null,null,null,null,null,null,null,null,0,null,{"$error":"#N/A"},0,{"$error":"#N/A"},{"$error":"#N/A"},0,{"$error":"#N/A"}]
[null,11,{"$f":"'Data Siswa'!D16","v":0},null,null,null,null,null,null,null,null,null,null,null,null,null,null,null,null,null,null,null,null,null,null,null,null,0,null,{"$error":"#N/A"},0,{"$error":"#N/A"},{"$error":"#N/A"},0,{"$error":"#N/A"}]
[null,12,{"$f":"'Data Siswa'!D17","v":0},null,null,null,null,null,null,null,null,null,null,null,null,null,null,null,null,null,null,null,null,null,null,null,null,0,null,{"$error":"#N/A"},0,{"$error":"#N/A"},{"$error":"#N/A"},0,{"$error":"#N/A"}]
[null,13,{"$f":"'Data Siswa'!D18","v":0},null,null,null,null,null,null,null,null,null,null,null,null,null,null,null,null,null,null,null,null,null,null,null,null,0,null,{"$error":"#N/A"},0,{"$error":"#N/A"},{"$error":"#N/A"},0,{"$error":"#N/A"}]
[null,14,{"$f":"'Data Siswa'!D19","v":0},null,null,null,null,null,null,null,null,null,null,null,null,null,null,null,null,null,null,null,null,null,null,null,null,0,null,{"$error":"#N/A"},0,{"$error":"#N/A"},{"$error":"#N/A"},0,{"$error":"#N/A"}]
[null,15,{"$f":"'Data Siswa'!D20","v":0},null,null,null,null,null,null,null,null,null,null,null,null,null,null,null,null,null,null,null,null,null,null,null,null,0,null,{"$error":"#N/A"},0,{"$error":"#N/A"},{"$error":"#N/A"},0,{"$error":"#N/A"}]
[null,16,{"$f":"'Data Siswa'!D21","v":0},null,null,null,null,null,null,null,null,null,null,null,null,null,null,null,null,null,null,null,null,null,null,null,null,0,null,{"$error":"#N/A"},0,{"$error":"#N/A"},{"$error":"#N/A"},0,{"$error":"#N/A"}]
[null,17,{"$f":"'Data Siswa'!D22","v":0},null,null,null,null,null,null,null,null,null,null,null,null,null,null,null,null,null,null,null,null,null,null,null,null,0,null,{"$error":"#N/A"},0,{"$error":"#N/A"},{"$error":"#N/A"},0,{"$error":"#N/A"}]
[null,18,{"$f":"'Data Siswa'!D23","v":0},null,null,null,null,null,null,null,null,null,null,null,null,null,null,null,null,null,null,null,null,null,null,null,null,0,null,{"$error":"#N/A"},0,{"$error":"#N/A"},{"$error":"#N/A"},0,{"$error":"#N/A"}]
[null,19,{"$f":"'Data Siswa'!D24","v":0},null,null,null,null,null,null,null,null,null,null,null,null,null,null,null,null,null,null,null,null,null,null,null,null,0,null,{"$error":"#N/A"},0,{"$error":"#N/A"},{"$error":"#N/A"},0,{"$error":"#N/A"}]
[null,20,{"$f":"'Data Siswa'!D25","v":0},null,null,null,null,null,null,null,null,null,null,null,null,null,null,null,null,null,null,null,null,null,null,null,null,0,null,{"$error":"#N/A"},0,{"$error":"#N/A"},{"$error":"#N/A"},0,{"$error":"#N/A"}]
[null,21,{"$f":"'Data Siswa'!D26","v":0},null,null,null,null,null,null,null,null,null,null,null,null,null,null,null,null,null,null,null,null,null,null,null,null,0,null,{"$error":"#N/A"},0,{"$error":"#N/A"},{"$error":"#N/A"},0,{"$error":"#N/A"}]
[null,22,{"$f":"'Data Siswa'!D27","v":0},null,null,null,null,null,null,null,null,null,null,null,null,null,null,null,null,null,null,null,null,null,null,null,null,0,null,{"$error":"#N/A"},0,{"$error":"#N/A"},{"$error":"#N/A"},0,{"$error":"#N/A"}]
[null,23,{"$f":"'Data Siswa'!D28","v":0},null,null,null,null,null,null,null,null,null,null,null,null,null,null,null,null,null,null,null,null,null,null,null,null,0,null,{"$error":"#N/A"},0,{"$error":"#N/A"},{"$error":"#N/A"},0,{"$error":"#N/A"}]
[null,24,{"$f":"'Data Siswa'!D29","v":0},null,null,null,null,null,null,null,null,null,null,null,null,null,null,null,null,null,null,null,null,null,null,null,null,0,null,{"$error":"#N/A"},0,{"$error":"#N/A"},{"$error":"#N/A"},0,{"$error":"#N/A"}]
[null,25,{"$f":"'Data Siswa'!D30","v":0},null,null,null,null,null,null,null,null,null,null,null,null,null,null,null,null,null,null,null,null,null,null,null,null,0,null,{"$error":"#N/A"},0,{"$error":"#N/A"},{"$error":"#N/A"},0,{"$error":"#N/A"}]
[null,26,{"$f":"'Data Siswa'!D31","v":0},null,null,null,null,null,null,null,null,null,null,null,null,null,null,null,null,null,null,null,null,null,null,null,null,0,null,{"$error":"#N/A"},0,{"$error":"#N/A"},{"$error":"#N/A"},0,{"$error":"#N/A"}]
[null,27,{"$f":"'Data Siswa'!D32","v":0},null,null,null,null,null,null,null,null,null,null,null,null,null,null,null,null,null,null,null,null,null,null,null,null,0,null,{"$error":"#N/A"},0,{"$error":"#N/A"},{"$error":"#N/A"},0,{"$error":"#N/A"}]
[null,28,{"$f":"'Data Siswa'!D33","v":0},null,null,null,null,null,null,null,null,null,null,null,null,null,null,null,null,null,null,null,null,null,null,null,null,0,null,{"$error":"#N/A"},0,{"$error":"#N/A"},{"$error":"#N/A"},0,{"$error":"#N/A"}]
[null,29,{"$f":"'Data Siswa'!D34","v":0},null,null,null,null,null,null,null,null,null,null,null,null,null,null,null,null,null,null,null,null,null,null,null,null,0,null,{"$error":"#N/A"},0,{"$error":"#N/A"},{"$error":"#N/A"},0,{"$error":"#N/A"}]
[null,30,{"$f":"'Data Siswa'!D35","v":0},null,null,null,null,null,null,null,null,null,null,null,null,null,null,null,null,null,null,null,null,null,null,null,null,0,null,{"$error":"#N/A"},0,{"$error":"#N/A"},{"$error":"#N/A"},0,{"$error":"#N/A"}]
[null,31,{"$f":"'Data Siswa'!D36","v":0},null,null,null,null,null,null,null,null,null,null,null,null,null,null,null,null,null,null,null,null,null,null,null,null,0,null,{"$error":"#N/A"},0,{"$error":"#N/A"},{"$error":"#N/A"},0,{"$error":"#N/A"}]
[null,32,{"$f":"'Data Siswa'!D37","v":0},null,null,null,null,null,null,null,null,null,null,null,null,null,null,null,null,null,null,null,null,null,null,null,null,0,null,{"$error":"#N/A"},0,{"$error":"#N/A"},{"$error":"#N/A"},0,{"$error":"#N/A"}]
[null,33,{"$f":"'Data Siswa'!D38","v":0},null,null,null,null,null,null,null,null,null,null,null,null,null,null,null,null,null,null,null,null,null,null,null,null,0,null,{"$error":"#N/A"},0,{"$f":"C44&\" sangat menguasai dalam \"&AD44","v":{"$error":"#N/A"}},{"$error":"#N/A"},0,{"$f":"C44&\" perlu bimbingan dalam \"&AG44","v":{"$error":"#N/A"}}]
[null,34,{"$f":"'Data Siswa'!D39","v":0},null,null,null,null,null,null,null,null,null,null,null,null,null,null,null,null,null,null,null,null,null,null,null,null,0,null,{"$error":"#N/A"},0,{"$error":"#N/A"},{"$error":"#N/A"},0,{"$error":"#N/A"}]
[null,35,{"$f":"'Data Siswa'!D40","v":0},null,null,null,null,null,null,null,null,null,null,null,null,null,null,null,null,null,null,null,null,null,null,null,null,0,null,{"$error":"#N/A"},0,{"$error":"#N/A"},{"$error":"#N/A"},0,{"$error":"#N/A"}]
[null,36,{"$f":"'Data Siswa'!D41","v":0},null,null,null,null,null,null,null,null,null,null,null,null,null,null,null,null,null,null,null,null,null,null,null,null,0,null,{"$error":"#N/A"},0,{"$error":"#N/A"},{"$error":"#N/A"},0,{"$error":"#N/A"}]
[null,37,{"$f":"'Data Siswa'!D42","v":0},null,null,null,null,null,null,null,null,null,null,null,null,null,null,null,null,null,null,null,null,null,null,null,null,0,null,{"$error":"#N/A"},0,{"$error":"#N/A"},{"$error":"#N/A"},0,{"$error":"#N/A"}]
[null,38,{"$f":"'Data Siswa'!D43","v":0},null,null,null,null,null,null,null,null,null,null,null,null,null,null,null,null,null,null,null,null,null,null,null,null,0,null,{"$error":"#N/A"},0,{"$error":"#N/A"},{"$error":"#N/A"},0,{"$error":"#N/A"}]
[null,39,{"$f":"'Data Siswa'!D44","v":0},null,null,null,null,null,null,null,null,null,null,null,null,null,null,null,null,null,null,null,null,null,null,null,null,0,null,{"$error":"#N/A"},0,{"$error":"#N/A"},{"$error":"#N/A"},0,{"$error":"#N/A"}]
[null,40,{"$f":"'Data Siswa'!D45","v":0},null,null,null,null,null,null,null,null,null,null,null,null,null,null,null,null,null,null,null,null,null,null,null,null,0,null,{"$error":"#N/A"},0,{"$error":"#N/A"},{"$error":"#N/A"},0,{"$error":"#N/A"}]
[null,41,{"$f":"'Data Siswa'!D46","v":0},null,null,null,null,null,null,null,null,null,null,null,null,null,null,null,null,null,null,null,null,null,null,null,null,0,null,{"$error":"#N/A"},0,{"$error":"#N/A"},{"$error":"#N/A"},0,{"$error":"#N/A"}]
[null,42,{"$f":"'Data Siswa'!D47","v":0},null,null,null,null,null,null,null,null,null,null,null,null,null,null,null,null,null,null,null,null,null,null,null,null,0,null,{"$error":"#N/A"},0,{"$error":"#N/A"},{"$error":"#N/A"},0,{"$error":"#N/A"}]
[null,43,{"$f":"'Data Siswa'!D48","v":0},null,null,null,null,null,null,null,null,null,null,null,null,null,null,null,null,null,null,null,null,null,null,null,null,0,null,{"$error":"#N/A"},0,{"$error":"#N/A"},{"$error":"#N/A"},0,{"$error":"#N/A"}]
[null,44,{"$f":"'Data Siswa'!D49","v":0},null,null,null,null,null,null,null,null,null,null,null,null,null,null,null,null,null,null,null,null,null,null,null,null,0,null,{"$error":"#N/A"},0,{"$error":"#N/A"},{"$error":"#N/A"},0,{"$error":"#N/A"}]
[null,45,{"$f":"'Data Siswa'!D50","v":0},null,null,null,null,null,null,null,null,null,null,null,null,null,null,null,null,null,null,null,null,null,null,null,null,0,null,{"$error":"#N/A"},0,{"$error":"#N/A"},{"$error":"#N/A"},0,{"$error":"#N/A"}]
[null,46,{"$f":"'Data Siswa'!D51","v":0},null,null,null,null,null,null,null,null,null,null,null,null,null,null,null,null,null,null,null,null,null,null,null,null,0,null,{"$error":"#N/A"},0,{"$error":"#N/A"},{"$error":"#N/A"},0,{"$error":"#N/A"}]
[null,47,{"$f":"'Data Siswa'!D52","v":0},null,null,null,null,null,null,null,null,null,null,null,null,null,null,null,null,null,null,null,null,null,null,null,null,0,null,{"$error":"#N/A"},0,{"$error":"#N/A"},{"$error":"#N/A"},0,{"$error":"#N/A"}]
[null,48,{"$f":"'Data Siswa'!D53","v":0},null,null,null,null,null,null,null,null,null,null,null,null,null,null,null,null,null,null,null,null,null,null,null,null,0,null,{"$error":"#N/A"},0,{"$error":"#N/A"},{"$error":"#N/A"},0,{"$error":"#N/A"}]
[null,49,{"$f":"'Data Siswa'!D54","v":0},null,null,null,null,null,null,null,null,null,null,null,null,null,null,null,null,null,null,null,null,null,null,null,null,0,null,{"$error":"#N/A"},0,{"$error":"#N/A"},{"$error":"#N/A"},0,{"$error":"#N/A"}]
[null,50,{"$f":"'Data Siswa'!D55","v":0},null,null,null,null,null,null,null,null,null,null,null,null,null,null,null,null,null,null,null,null,null,null,null,null,0,null,{"$error":"#N/A"},0,{"$error":"#N/A"},{"$error":"#N/A"},0,{"$error":"#N/A"}]
[null,"RATA-RATA",null,{"$f":"IFERROR(AVERAGE(D12:D61),0)","v":0},{"$f":"IFERROR(AVERAGE(E12:E61),0)","v":0},0,0,0,0,0,0,0,0,0,0,0,0,0,0,0,0,0,0,0,0,0,0]

{"sheet":"TP IPAS","index":17,"n_rows":28,"n_cols":10,"rows_kept":28,"cut":false,"hidden":false,"merged":[[2,0,2,5],[2,6,2,9]]}
[]
[]
["ALUR TUJUAN PEMBELAJARAN ",null,null,null,null,null,"LINGKUP MATERI"]
[]
[null,"Mata Pelajaran",null,null,{"$f":"\": \"&IDENTITAS!$G$9","v":": Ilmu Pengetahuan Alam dan Sosial"},null,null,"Mata Pelajaran",null,{"$f":"\": \"&IDENTITAS!$G$9","v":": Ilmu Pengetahuan Alam dan Sosial"}]
[null,"Semester",null,null,{"$f":"\": \"&IDENTITAS!$D$21","v":": "},null,null,"Semester",null,{"$f":"\": \"&IDENTITAS!$D$21","v":": "}]
[]
[null,null,null,"No","Tujuan Pembelajaran",null,null,null,"No","Lingkup Materi"]
[null,null,null,1,null,null,null,null,1]
[null,null,null,2,null,null,null,null,2]
[null,null,null,3,null,null,null,null,3]
[null,null,null,4,null,null,null,null,4]
[null,null,null,5,null,null,null,null,5]
[null,null,null,6,null,null,null,null,6]
[null,null,null,7,null,null,null,null,"Catatan: Tuliskan lingkup materi pelajaran yang anda ajarkan. Contoh: Siklus Air"]
[null,null,null,8]
[null,null,null,9]
[null,null,null,10]
[null,null,null,11]
[null,null,null,12]
[null,null,null,13]
[null,null,null,14]
[null,null,null,15]
[null,null,null,16]
[null,null,null,17]
[null,null,null,18]
[null,null,null,19]
[null,null,null,20]

{"sheet":"IPAS","index":18,"n_rows":62,"n_cols":31,"rows_kept":62,"cut":false,"hidden":false,"merged":[[9,25,9,27],[9,28,9,30],[61,1,61,2],[2,0,2,23],[7,1,10,1],[7,2,10,2],[7,3,7,22],[7,23,10,23],[8,3,8,22]]}
[]
[]
["DAFTAR NILAI ASESMEN FORMATIF"]
[]
[null,null,"Mata Pelajaran",":","Ilmu Pengetahuan Alam dan Sosial"]
[]
[]
[null,"No","NAMA SISWA","Ilmu Pengetahuan Alam dan Sosial",null,null,null,null,null,null,null,null,null,null,null,null,null,null,null,null,null,null,null,"NILAI RAPOR"]
[null,null,null,"ASESMEN FORMATIF"]
[null,null,null,"TP 1","TP 2","TP 3","TP 4","TP 5","TP 6","TP 7","TP 8","TP 9","TP 10","TP 11","TP 12","TP 13","TP 14","TP 15","TP 16","TP 17","TP 18","TP 19","TP 20"]
[null,null,null,{"$f":"'TP IPAS'!E9","v":0},{"$f":"'TP IPAS'!E10","v":0},{"$f":"'TP IPAS'!E11","v":0},{"$f":"'TP IPAS'!E12","v":0},{"$f":"'TP IPAS'!E13","v":0},{"$f":"'TP IPAS'!E14","v":0},{"$f":"'TP IPAS'!E15","v":0},{"$f":"'TP IPAS'!E16","v":0},{"$f":"'TP IPAS'!E17","v":0},{"$f":"'TP IPAS'!E18","v":0},{"$f":"'TP IPAS'!E19","v":0},{"$f":"'TP IPAS'!E20","v":0},{"$f":"'TP IPAS'!E21","v":0},{"$f":"'TP IPAS'!E22","v":0},{"$f":"'TP IPAS'!E23","v":0},{"$f":"'TP IPAS'!E24","v":0},{"$f":"'TP IPAS'!E25","v":0},{"$f":"'TP IPAS'!E26","v":0},{"$f":"'TP IPAS'!E27","v":0},{"$f":"'TP IPAS'!E28","v":0},null,null,"TP","MAX","DESKRIPSI","TP","MIN","DESKRIPSI"]
[null,1,{"$f":"'Data Siswa'!D6","v":0},null,null,null,null,null,null,null,null,null,null,null,null,null,null,null,null,null,null,null,null,{"$f":"IFERROR(AVERAGE(D12:W12),0)","v":0},null,{"$f":"INDEX($D$11:$W$11,MATCH(AA12,D12:W12,0))","v":{"$error":"#N/A"}},{"$f":"MAX(D12:W12)","v":0},{"$f":"C12&\" menunjukkan penguasaan dalam \"&Z12","v":{"$error":"#N/A"}},{"$f":"INDEX($D$11:$W$11,MATCH(AD12,D12:W12,0))","v":{"$error":"#N/A"}},{"$f":"MIN(D12:W12)","v":0},{"$f":"C12&\" perlu bantuan dalam \"&AC12","v":{"$error":"#N/A"}}]
[null,2,{"$f":"'Data Siswa'!D7","v":0},null,null,null,null,null,null,null,null,null,null,null,null,null,null,null,null,null,null,null,null,0,null,{"$f":"INDEX($D$11:$W$11,MATCH(AA13,D13:W13,0))","v":{"$error":"#N/A"}},{"$f":"MAX(D13:W13)","v":0},{"$f":"C13&\" menunjukkan penguasaan dalam \"&Z13","v":{"$error":"#N/A"}},{"$f":"INDEX($D$11:$W$11,MATCH(AD13,D13:W13,0))","v":{"$error":"#N/A"}},{"$f":"MIN(D13:W13)","v":0},{"$f":"C13&\" perlu bantuan dalam \"&AC13","v":{"$error":"#N/A"}}]
[null,3,{"$f":"'Data Siswa'!D8","v":0},null,null,null,null,null,null,null,null,null,null,null,null,null,null,null,null,null,null,null,null,0,null,{"$error":"#N/A"},0,{"$error":"#N/A"},{"$error":"#N/A"},0,{"$error":"#N/A"}]
[null,4,{"$f":"'Data Siswa'!D9","v":0},null,null,null,null,null,null,null,null,null,null,null,null,null,null,null,null,null,null,null,null,0,null,{"$error":"#N/A"},0,{"$error":"#N/A"},{"$error":"#N/A"},0,{"$error":"#N/A"}]
[null,5,{"$f":"'Data Siswa'!D10","v":0},null,null,null,null,null,null,null,null,null,null,null,null,null,null,null,null,null,null,null,null,0,null,{"$error":"#N/A"},0,{"$error":"#N/A"},{"$error":"#N/A"},0,{"$error":"#N/A"}]
[null,6,{"$f":"'Data Siswa'!D11","v":0},null,null,null,null,null,null,null,null,null,null,null,null,null,null,null,null,null,null,null,null,0,null,{"$error":"#N/A"},0,{"$error":"#N/A"},{"$error":"#N/A"},0,{"$error":"#N/A"}]
[null,7,{"$f":"'Data Siswa'!D12","v":0},null,null,null,null,null,null,null,null,null,null,null,null,null,null,null,null,null,null,null,null,0,null,{"$error":"#N/A"},0,{"$error":"#N/A"},{"$error":"#N/A"},0,{"$error":"#N/A"}]
[null,8,{"$f":"'Data Siswa'!D13","v":0},null,null,null,null,null,null,null,null,null,null,null,null,null,null,null,null,null,null,null,null,0,null,{"$error":"#N/A"},0,{"$error":"#N/A"},{"$error":"#N/A"},0,{"$error":"#N/A"}]
[null,9,{"$f":"'Data Siswa'!D14","v":0},null,null,null,null,null,null,null,null,null,null,null,null,null,null,null,null,null,null,null,null,0,null,{"$error":"#N/A"},0,{"$error":"#N/A"},{"$error":"#N/A"},0,{"$error":"#N/A"}]
[null,10,{"$f":"'Data Siswa'!D15","v":0},null,null,null,null,null,null,null,null,null,null,null,null,null,null,null,null,null,null,null,null,0,null,{"$error":"#N/A"},0,{"$error":"#N/A"},{"$error":"#N/A"},0,{"$error":"#N/A"}]
[null,11,{"$f":"'Data Siswa'!D16","v":0},null,null,null,null,null,null,null,null,null,null,null,null,null,null,null,null,null,null,null,null,0,null,{"$error":"#N/A"},0,{"$error":"#N/A"},{"$error":"#N/A"},0,{"$error":"#N/A"}]
[null,12,{"$f":"'Data Siswa'!D17","v":0},null,null,null,null,null,null,null,null,null,null,null,null,null,null,null,null,null,null,null,null,0,null,{"$error":"#N/A"},0,{"$error":"#N/A"},{"$error":"#N/A"},0,{"$error":"#N/A"}]
[null,13,{"$f":"'Data Siswa'!D18","v":0},null,null,null,null,null,null,null,null,null,null,null,null,null,null,null,null,null,null,null,null,0,null,{"$error":"#N/A"},0,{"$error":"#N/A"},{"$error":"#N/A"},0,{"$error":"#N/A"}]
[null,14,{"$f":"'Data Siswa'!D19","v":0},null,null,null,null,null,null,null,null,null,null,null,null,null,null,null,null,null,null,null,null,0,null,{"$error":"#N/A"},0,{"$error":"#N/A"},{"$error":"#N/A"},0,{"$error":"#N/A"}]
[null,15,{"$f":"'Data Siswa'!D20","v":0},null,null,null,null,null,null,null,null,null,null,null,null,null,null,null,null,null,null,null,null,0,null,{"$error":"#N/A"},0,{"$error":"#N/A"},{"$error":"#N/A"},0,{"$error":"#N/A"}]
[null,16,{"$f":"'Data Siswa'!D21","v":0},null,null,null,null,null,null,null,null,null,null,null,null,null,null,null,null,null,null,null,null,0,null,{"$error":"#N/A"},0,{"$error":"#N/A"},{"$error":"#N/A"},0,{"$error":"#N/A"}]
[null,17,{"$f":"'Data Siswa'!D22","v":0},null,null,null,null,null,null,null,null,null,null,null,null,null,null,null,null,null,null,null,null,0,null,{"$error":"#N/A"},0,{"$error":"#N/A"},{"$error":"#N/A"},0,{"$error":"#N/A"}]
[null,18,{"$f":"'Data Siswa'!D23","v":0},null,null,null,null,null,null,null,null,null,null,null,null,null,null,null,null,null,null,null,null,0,null,{"$error":"#N/A"},0,{"$error":"#N/A"},{"$error":"#N/A"},0,{"$error":"#N/A"}]
[null,19,{"$f":"'Data Siswa'!D24","v":0},null,null,null,null,null,null,null,null,null,null,null,null,null,null,null,null,null,null,null,null,0,null,{"$error":"#N/A"},0,{"$error":"#N/A"},{"$error":"#N/A"},0,{"$error":"#N/A"}]
[null,20,{"$f":"'Data Siswa'!D25","v":0},null,null,null,null,null,null,null,null,null,null,null,null,null,null,null,null,null,null,null,null,0,null,{"$error":"#N/A"},0,{"$error":"#N/A"},{"$error":"#N/A"},0,{"$error":"#N/A"}]
[null,21,{"$f":"'Data Siswa'!D26","v":0},null,null,null,null,null,null,null,null,null,null,null,null,null,null,null,null,null,null,null,null,0,null,{"$error":"#N/A"},0,{"$error":"#N/A"},{"$error":"#N/A"},0,{"$error":"#N/A"}]
[null,22,{"$f":"'Data Siswa'!D27","v":0},null,null,null,null,null,null,null,null,null,null,null,null,null,null,null,null,null,null,null,null,0,null,{"$error":"#N/A"},0,{"$error":"#N/A"},{"$error":"#N/A"},0,{"$error":"#N/A"}]
[null,23,{"$f":"'Data Siswa'!D28","v":0},null,null,null,null,null,null,null,null,null,null,null,null,null,null,null,null,null,null,null,null,0,null,{"$error":"#N/A"},0,{"$error":"#N/A"},{"$error":"#N/A"},0,{"$error":"#N/A"}]
[null,24,{"$f":"'Data Siswa'!D29","v":0},null,null,null,null,null,null,null,null,null,null,null,null,null,null,null,null,null,null,null,null,0,null,{"$error":"#N/A"},0,{"$error":"#N/A"},{"$error":"#N/A"},0,{"$error":"#N/A"}]
[null,25,{"$f":"'Data Siswa'!D30","v":0},null,null,null,null,null,null,null,null,null,null,null,null,null,null,null,null,null,null,null,null,0,null,{"$error":"#N/A"},0,{"$error":"#N/A"},{"$error":"#N/A"},0,{"$error":"#N/A"}]
[null,26,{"$f":"'Data Siswa'!D31","v":0},null,null,null,null,null,null,null,null,null,null,null,null,null,null,null,null,null,null,null,null,0,null,{"$error":"#N/A"},0,{"$error":"#N/A"},{"$error":"#N/A"},0,{"$error":"#N/A"}]
[null,27,{"$f":"'Data Siswa'!D32","v":0},null,null,null,null,null,null,null,null,null,null,null,null,null,null,null,null,null,null,null,null,0,null,{"$error":"#N/A"},0,{"$error":"#N/A"},{"$error":"#N/A"},0,{"$error":"#N/A"}]
[null,28,{"$f":"'Data Siswa'!D33","v":0},null,null,null,null,null,null,null,null,null,null,null,null,null,null,null,null,null,null,null,null,0,null,{"$error":"#N/A"},0,{"$error":"#N/A"},{"$error":"#N/A"},0,{"$error":"#N/A"}]
[null,29,{"$f":"'Data Siswa'!D34","v":0},null,null,null,null,null,null,null,null,null,null,null,null,null,null,null,null,null,null,null,null,0,null,{"$error":"#N/A"},0,{"$error":"#N/A"},{"$error":"#N/A"},0,{"$error":"#N/A"}]
[null,30,{"$f":"'Data Siswa'!D35","v":0},null,null,null,null,null,null,null,null,null,null,null,null,null,null,null,null,null,null,null,null,0,null,{"$error":"#N/A"},0,{"$error":"#N/A"},{"$error":"#N/A"},0,{"$error":"#N/A"}]
[null,31,{"$f":"'Data Siswa'!D36","v":0},null,null,null,null,null,null,null,null,null,null,null,null,null,null,null,null,null,null,null,null,0,null,{"$error":"#N/A"},0,{"$error":"#N/A"},{"$error":"#N/A"},0,{"$error":"#N/A"}]
[null,32,{"$f":"'Data Siswa'!D37","v":0},null,null,null,null,null,null,null,null,null,null,null,null,null,null,null,null,null,null,null,null,0,null,{"$error":"#N/A"},0,{"$error":"#N/A"},{"$error":"#N/A"},0,{"$error":"#N/A"}]
[null,33,{"$f":"'Data Siswa'!D38","v":0},null,null,null,null,null,null,null,null,null,null,null,null,null,null,null,null,null,null,null,null,{"$f":"IFERROR(AVERAGE(D44:W44),0)","v":0},null,{"$error":"#N/A"},0,{"$error":"#N/A"},{"$error":"#N/A"},0,{"$error":"#N/A"}]
[null,34,{"$f":"'Data Siswa'!D39","v":0},null,null,null,null,null,null,null,null,null,null,null,null,null,null,null,null,null,null,null,null,0,null,{"$error":"#N/A"},0,{"$error":"#N/A"},{"$error":"#N/A"},0,{"$error":"#N/A"}]
[null,35,{"$f":"'Data Siswa'!D40","v":0},null,null,null,null,null,null,null,null,null,null,null,null,null,null,null,null,null,null,null,null,0,null,{"$error":"#N/A"},0,{"$error":"#N/A"},{"$error":"#N/A"},0,{"$error":"#N/A"}]
[null,36,{"$f":"'Data Siswa'!D41","v":0},null,null,null,null,null,null,null,null,null,null,null,null,null,null,null,null,null,null,null,null,0,null,{"$error":"#N/A"},0,{"$error":"#N/A"},{"$error":"#N/A"},0,{"$error":"#N/A"}]
[null,37,{"$f":"'Data Siswa'!D42","v":0},null,null,null,null,null,null,null,null,null,null,null,null,null,null,null,null,null,null,null,null,0,null,{"$error":"#N/A"},0,{"$error":"#N/A"},{"$error":"#N/A"},0,{"$error":"#N/A"}]
[null,38,{"$f":"'Data Siswa'!D43","v":0},null,null,null,null,null,null,null,null,null,null,null,null,null,null,null,null,null,null,null,null,0,null,{"$error":"#N/A"},0,{"$error":"#N/A"},{"$error":"#N/A"},0,{"$error":"#N/A"}]
[null,39,{"$f":"'Data Siswa'!D44","v":0},null,null,null,null,null,null,null,null,null,null,null,null,null,null,null,null,null,null,null,null,0,null,{"$error":"#N/A"},0,{"$error":"#N/A"},{"$error":"#N/A"},0,{"$error":"#N/A"}]
[null,40,{"$f":"'Data Siswa'!D45","v":0},null,null,null,null,null,null,null,null,null,null,null,null,null,null,null,null,null,null,null,null,0,null,{"$error":"#N/A"},0,{"$error":"#N/A"},{"$error":"#N/A"},0,{"$error":"#N/A"}]
[null,41,{"$f":"'Data Siswa'!D46","v":0},null,null,null,null,null,null,null,null,null,null,null,null,null,null,null,null,null,null,null,null,0,null,{"$error":"#N/A"},0,{"$error":"#N/A"},{"$error":"#N/A"},0,{"$error":"#N/A"}]
[null,42,{"$f":"'Data Siswa'!D47","v":0},null,null,null,null,null,null,null,null,null,null,null,null,null,null,null,null,null,null,null,null,0,null,{"$error":"#N/A"},0,{"$error":"#N/A"},{"$error":"#N/A"},0,{"$error":"#N/A"}]
[null,43,{"$f":"'Data Siswa'!D48","v":0},null,null,null,null,null,null,null,null,null,null,null,null,null,null,null,null,null,null,null,null,0,null,{"$error":"#N/A"},0,{"$error":"#N/A"},{"$error":"#N/A"},0,{"$error":"#N/A"}]
[null,44,{"$f":"'Data Siswa'!D49","v":0},null,null,null,null,null,null,null,null,null,null,null,null,null,null,null,null,null,null,null,null,0,null,{"$error":"#N/A"},0,{"$error":"#N/A"},{"$error":"#N/A"},0,{"$error":"#N/A"}]
[null,45,{"$f":"'Data Siswa'!D50","v":0},null,null,null,null,null,null,null,null,null,null,null,null,null,null,null,null,null,null,null,null,0,null,{"$error":"#N/A"},0,{"$error":"#N/A"},{"$error":"#N/A"},0,{"$error":"#N/A"}]
[null,46,{"$f":"'Data Siswa'!D51","v":0},null,null,null,null,null,null,null,null,null,null,null,null,null,null,null,null,null,null,null,null,0,null,{"$error":"#N/A"},0,{"$error":"#N/A"},{"$error":"#N/A"},0,{"$error":"#N/A"}]
[null,47,{"$f":"'Data Siswa'!D52","v":0},null,null,null,null,null,null,null,null,null,null,null,null,null,null,null,null,null,null,null,null,0,null,{"$error":"#N/A"},0,{"$error":"#N/A"},{"$error":"#N/A"},0,{"$error":"#N/A"}]
[null,48,{"$f":"'Data Siswa'!D53","v":0},null,null,null,null,null,null,null,null,null,null,null,null,null,null,null,null,null,null,null,null,0,null,{"$error":"#N/A"},0,{"$error":"#N/A"},{"$error":"#N/A"},0,{"$error":"#N/A"}]
[null,49,{"$f":"'Data Siswa'!D54","v":0},null,null,null,null,null,null,null,null,null,null,null,null,null,null,null,null,null,null,null,null,0,null,{"$error":"#N/A"},0,{"$error":"#N/A"},{"$error":"#N/A"},0,{"$error":"#N/A"}]
[null,50,{"$f":"'Data Siswa'!D55","v":0},null,null,null,null,null,null,null,null,null,null,null,null,null,null,null,null,null,null,null,null,0,null,{"$error":"#N/A"},0,{"$error":"#N/A"},{"$error":"#N/A"},0,{"$error":"#N/A"}]
[null,"RATA-RATA",null,{"$f":"IFERROR(AVERAGE(D12:D61),0)","v":0},{"$f":"IFERROR(AVERAGE(E12:E61),0)","v":0},0,0,0,0,0,0,0,0,0,0,0,0,0,0,0,0,0,0]

{"sheet":"SUMIPAS","index":19,"n_rows":62,"n_cols":35,"rows_kept":62,"cut":false,"hidden":false,"merged":[[9,29,9,31],[9,32,9,34],[61,1,61,2],[9,9,9,10],[9,11,9,12],[9,13,9,14],[9,15,9,16],[9,17,9,18],[9,19,9,20],[2,0,2,27],[7,1,10,1],[7,2,10,2],[7,3,7,26],[7,27,10,27],[8,3,8,14],[8,15,8,26],[9,3,9,4],[9,5,9,6],[9,7,9,8],[9,21,9,22],[9,23,9,24],[9,25,9,26]]}
[]
[]
["DAFTAR NILAI ASESMEN SUMATIF"]
[]
[null,null,"Mata Pelajaran",":",null,"Ilmu Pengetahuan Alam dan Sosial"]
[]
[]
[null,"No","NAMA SISWA","Ilmu Pengetahuan Alam dan Sosial",null,null,null,null,null,null,null,null,null,null,null,null,null,null,null,null,null,null,null,null,null,null,null,"NILAI RAPOR"]
[null,null,null,"ASESMEN SUMATIF  AKHIR MATERI",null,null,null,null,null,null,null,null,null,null,null,"ASESMEN SUMATIF AKHIR SEMESTER *"]
[null,null,null,{"$f":"'TP IPAS'!J9","v":0},null,{"$f":"'TP IPAS'!J10","v":0},null,{"$f":"'TP IPAS'!J11","v":0},null,{"$f":"'TP IPAS'!J12","v":0},null,{"$f":"'TP IPAS'!J13","v":0},null,{"$f":"'TP IPAS'!J14","v":0},null,{"$f":"'TP IPAS'!J9","v":0},null,{"$f":"'TP IPAS'!J10","v":0},null,{"$f":"'TP IPAS'!J11","v":0},null,{"$f":"'TP IPAS'!J12","v":0},null,{"$f":"'TP IPAS'!J13","v":0},null,{"$f":"'TP IPAS'!J14","v":0}]
[null,null,null,"Tes","Non Tes","Tes","Non Tes","Tes","Non Tes","Tes","Non Tes","Tes","Non Tes","Tes","Non Tes","Tes","Non Tes","Tes","Non Tes","Tes","Non Tes","Tes","Non Tes","Tes","Non Tes","Tes","Non Tes",null,null,"TP","MAX","DESKRIPSI","TP","MIN","DESKRIPSI"]
[null,1,{"$f":"'Data Siswa'!D6","v":0},null,null,null,null,null,null,null,null,null,null,null,null,null,null,null,null,null,null,null,null,null,null,null,null,{"$f":"IFERROR(AVERAGE(D12:AA12),0)","v":0},null,{"$f":"INDEX($D$11:$AA$11,MATCH(AE12,D12:AA12,0))","v":{"$error":"#N/A"}},{"$f":"MAX(D12:AA12)","v":0},{"$f":"C12&\" sangat menguasai dalam \"&AD12","v":{"$error":"#N/A"}},{"$f":"INDEX($D$11:$AA$11,MATCH(AH12,D12:AA12,0))","v":{"$error":"#N/A"}},{"$f":"MIN(D12:AA12)","v":0},{"$f":"C12&\" perlu bimbingan dalam \"&AG12","v":{"$error":"#N/A"}}]
[null,2,{"$f":"'Data Siswa'!D7","v":0},null,null,null,null,null,null,null,null,null,null,null,null,null,null,null,null,null,null,null,null,null,null,null,null,{"$f":"IFERROR(AVERAGE(D13:AA13),0)","v":0},null,{"$error":"#N/A"},0,{"$error":"#N/A"},{"$error":"#N/A"},0,{"$error":"#N/A"}]
[null,3,{"$f":"'Data Siswa'!D8","v":0},null,null,null,null,null,null,null,null,null,null,null,null,null,null,null,null,null,null,null,null,null,null,null,null,0,null,{"$error":"#N/A"},0,{"$error":"#N/A"},{"$error":"#N/A"},0,{"$error":"#N/A"}]
[null,4,{"$f":"'Data Siswa'!D9","v":0},null,null,null,null,null,null,null,null,null,null,null,null,null,null,null,null,null,null,null,null,null,null,null,null,0,null,{"$error":"#N/A"},0,{"$error":"#N/A"},{"$error":"#N/A"},0,{"$error":"#N/A"}]
[null,5,{"$f":"'Data Siswa'!D10","v":0},null,null,null,null,null,null,null,null,null,null,null,null,null,null,null,null,null,null,null,null,null,null,null,null,0,null,{"$error":"#N/A"},0,{"$error":"#N/A"},{"$error":"#N/A"},0,{"$error":"#N/A"}]
[null,6,{"$f":"'Data Siswa'!D11","v":0},null,null,null,null,null,null,null,null,null,null,null,null,null,null,null,null,null,null,null,null,null,null,null,null,{"$f":"IFERROR(AVERAGE(D17:AA17),0)","v":0},null,{"$error":"#N/A"},0,{"$error":"#N/A"},{"$error":"#N/A"},0,{"$error":"#N/A"}]
[null,7,{"$f":"'Data Siswa'!D12","v":0},null,null,null,null,null,null,null,null,null,null,null,null,null,null,null,null,null,null,null,null,null,null,null,null,0,null,{"$error":"#N/A"},0,{"$error":"#N/A"},{"$error":"#N/A"},0,{"$error":"#N/A"}]
[null,8,{"$f":"'Data Siswa'!D13","v":0},null,null,null,null,null,null,null,null,null,null,null,null,null,null,null,null,null,null,null,null,null,null,null,null,0,null,{"$error":"#N/A"},0,{"$error":"#N/A"},{"$error":"#N/A"},0,{"$error":"#N/A"}]
[null,9,{"$f":"'Data Siswa'!D14","v":0},null,null,null,null,null,null,null,null,null,null,null,null,null,null,null,null,null,null,null,null,null,null,null,null,0,null,{"$error":"#N/A"},0,{"$error":"#N/A"},{"$error":"#N/A"},0,{"$error":"#N/A"}]
[null,10,{"$f":"'Data Siswa'!D15","v":0},null,null,null,null,null,null,null,null,null,null,null,null,null,null,null,null,null,null,null,null,null,null,null,null,0,null,{"$error":"#N/A"},0,{"$error":"#N/A"},{"$error":"#N/A"},0,{"$error":"#N/A"}]
[null,11,{"$f":"'Data Siswa'!D16","v":0},null,null,null,null,null,null,null,null,null,null,null,null,null,null,null,null,null,null,null,null,null,null,null,null,0,null,{"$error":"#N/A"},0,{"$error":"#N/A"},{"$error":"#N/A"},0,{"$error":"#N/A"}]
[null,12,{"$f":"'Data Siswa'!D17","v":0},null,null,null,null,null,null,null,null,null,null,null,null,null,null,null,null,null,null,null,null,null,null,null,null,0,null,{"$error":"#N/A"},0,{"$error":"#N/A"},{"$error":"#N/A"},0,{"$error":"#N/A"}]
[null,13,{"$f":"'Data Siswa'!D18","v":0},null,null,null,null,null,null,null,null,null,null,null,null,null,null,null,null,null,null,null,null,null,null,null,null,0,null,{"$error":"#N/A"},0,{"$error":"#N/A"},{"$error":"#N/A"},0,{"$error":"#N/A"}]
[null,14,{"$f":"'Data Siswa'!D19","v":0},null,null,null,null,null,null,null,null,null,null,null,null,null,null,null,null,null,null,null,null,null,null,null,null,0,null,{"$error":"#N/A"},0,{"$error":"#N/A"},{"$error":"#N/A"},0,{"$error":"#N/A"}]
[null,15,{"$f":"'Data Siswa'!D20","v":0},null,null,null,null,null,null,null,null,null,null,null,null,null,null,null,null,null,null,null,null,null,null,null,null,0,null,{"$error":"#N/A"},0,{"$error":"#N/A"},{"$error":"#N/A"},0,{"$error":"#N/A"}]
[null,16,{"$f":"'Data Siswa'!D21","v":0},null,null,null,null,null,null,null,null,null,null,null,null,null,null,null,null,null,null,null,null,null,null,null,null,0,null,{"$error":"#N/A"},0,{"$error":"#N/A"},{"$error":"#N/A"},0,{"$error":"#N/A"}]
[null,17,{"$f":"'Data Siswa'!D22","v":0},null,null,null,null,null,null,null,null,null,null,null,null,null,null,null,null,null,null,null,null,null,null,null,null,0,null,{"$error":"#N/A"},0,{"$error":"#N/A"},{"$error":"#N/A"},0,{"$error":"#N/A"}]
[null,18,{"$f":"'Data Siswa'!D23","v":0},null,null,null,null,null,null,null,null,null,null,null,null,null,null,null,null,null,null,null,null,null,null,null,null,0,null,{"$error":"#N/A"},0,{"$error":"#N/A"},{"$error":"#N/A"},0,{"$error":"#N/A"}]
[null,19,{"$f":"'Data Siswa'!D24","v":0},null,null,null,null,null,null,null,null,null,null,null,null,null,null,null,null,null,null,null,null,null,null,null,null,0,null,{"$error":"#N/A"},0,{"$error":"#N/A"},{"$error":"#N/A"},0,{"$error":"#N/A"}]
[null,20,{"$f":"'Data Siswa'!D25","v":0},null,null,null,null,null,null,null,null,null,null,null,null,null,null,null,null,null,null,null,null,null,null,null,null,0,null,{"$error":"#N/A"},0,{"$error":"#N/A"},{"$error":"#N/A"},0,{"$error":"#N/A"}]
[null,21,{"$f":"'Data Siswa'!D26","v":0},null,null,null,null,null,null,null,null,null,null,null,null,null,null,null,null,null,null,null,null,null,null,null,null,0,null,{"$error":"#N/A"},0,{"$error":"#N/A"},{"$error":"#N/A"},0,{"$error":"#N/A"}]
[null,22,{"$f":"'Data Siswa'!D27","v":0},null,null,null,null,null,null,null,null,null,null,null,null,null,null,null,null,null,null,null,null,null,null,null,null,0,null,{"$error":"#N/A"},0,{"$error":"#N/A"},{"$error":"#N/A"},0,{"$error":"#N/A"}]
[null,23,{"$f":"'Data Siswa'!D28","v":0},null,null,null,null,null,null,null,null,null,null,null,null,null,null,null,null,null,null,null,null,null,null,null,null,0,null,{"$error":"#N/A"},0,{"$error":"#N/A"},{"$error":"#N/A"},0,{"$error":"#N/A"}]
[null,24,{"$f":"'Data Siswa'!D29","v":0},null,null,null,null,null,null,null,null,null,null,null,null,null,null,null,null,null,null,null,null,null,null,null,null,0,null,{"$error":"#N/A"},0,{"$error":"#N/A"},{"$error":"#N/A"},0,{"$error":"#N/A"}]
[null,25,{"$f":"'Data Siswa'!D30","v":0},null,null,null,null,null,null,null,null,null,null,null,null,null,null,null,null,null,null,null,null,null,null,null,null,0,null,{"$error":"#N/A"},0,{"$error":"#N/A"},{"$error":"#N/A"},0,{"$error":"#N/A"}]
[null,26,{"$f":"'Data Siswa'!D31","v":0},null,null,null,null,null,null,null,null,null,null,null,null,null,null,null,null,null,null,null,null,null,null,null,null,0,null,{"$error":"#N/A"},0,{"$error":"#N/A"},{"$error":"#N/A"},0,{"$error":"#N/A"}]
[null,27,{"$f":"'Data Siswa'!D32","v":0},null,null,null,null,null,null,null,null,null,null,null,null,null,null,null,null,null,null,null,null,null,null,null,null,0,null,{"$error":"#N/A"},0,{"$error":"#N/A"},{"$error":"#N/A"},0,{"$error":"#N/A"}]
[null,28,{"$f":"'Data Siswa'!D33","v":0},null,null,null,null,null,null,null,null,null,null,null,null,null,null,null,null,null,null,null,null,null,null,null,null,0,null,{"$error":"#N/A"},0,{"$error":"#N/A"},{"$error":"#N/A"},0,{"$error":"#N/A"}]
[null,29,{"$f":"'Data Siswa'!D34","v":0},null,null,null,null,null,null,null,null,null,null,null,null,null,null,null,null,null,null,null,null,null,null,null,null,0,null,{"$error":"#N/A"},0,{"$error":"#N/A"},{"$error":"#N/A"},0,{"$error":"#N/A"}]
[null,30,{"$f":"'Data Siswa'!D35","v":0},null,null,null,null,null,null,null,null,null,null,null,null,null,null,null,null,null,null,null,null,null,null,null,null,0,null,{"$error":"#N/A"},0,{"$error":"#N/A"},{"$error":"#N/A"},0,{"$error":"#N/A"}]
[null,31,{"$f":"'Data Siswa'!D36","v":0},null,null,null,null,null,null,null,null,null,null,null,null,null,null,null,null,null,null,null,null,null,null,null,null,0,null,{"$error":"#N/A"},0,{"$error":"#N/A"},{"$error":"#N/A"},0,{"$error":"#N/A"}]
[null,32,{"$f":"'Data Siswa'!D37","v":0},null,null,null,null,null,null,null,null,null,null,null,null,null,null,null,null,null,null,null,null,null,null,null,null,0,null,{"$error":"#N/A"},0,{"$error":"#N/A"},{"$error":"#N/A"},0,{"$error":"#N/A"}]
[null,33,{"$f":"'Data Siswa'!D38","v":0},null,null,null,null,null,null,null,null,null,null,null,null,null,null,null,null,null,null,null,null,null,null,null,null,0,null,{"$error":"#N/A"},0,{"$f":"C44&\" sangat menguasai dalam \"&AD44","v":{"$error":"#N/A"}},{"$error":"#N/A"},0,{"$f":"C44&\" perlu bimbingan dalam \"&AG44","v":{"$error":"#N/A"}}]
[null,34,{"$f":"'Data Siswa'!D39","v":0},null,null,null,null,null,null,null,null,null,null,null,null,null,null,null,null,null,null,null,null,null,null,null,null,0,null,{"$error":"#N/A"},0,{"$error":"#N/A"},{"$error":"#N/A"},0,{"$error":"#N/A"}]
[null,35,{"$f":"'Data Siswa'!D40","v":0},null,null,null,null,null,null,null,null,null,null,null,null,null,null,null,null,null,null,null,null,null,null,null,null,0,null,{"$error":"#N/A"},0,{"$error":"#N/A"},{"$error":"#N/A"},0,{"$error":"#N/A"}]
[null,36,{"$f":"'Data Siswa'!D41","v":0},null,null,null,null,null,null,null,null,null,null,null,null,null,null,null,null,null,null,null,null,null,null,null,null,0,null,{"$error":"#N/A"},0,{"$error":"#N/A"},{"$error":"#N/A"},0,{"$error":"#N/A"}]
[null,37,{"$f":"'Data Siswa'!D42","v":0},null,null,null,null,null,null,null,null,null,null,null,null,null,null,null,null,null,null,null,null,null,null,null,null,0,null,{"$error":"#N/A"},0,{"$error":"#N/A"},{"$error":"#N/A"},0,{"$error":"#N/A"}]
[null,38,{"$f":"'Data Siswa'!D43","v":0},null,null,null,null,null,null,null,null,null,null,null,null,null,null,null,null,null,null,null,null,null,null,null,null,0,null,{"$error":"#N/A"},0,{"$error":"#N/A"},{"$error":"#N/A"},0,{"$error":"#N/A"}]
[null,39,{"$f":"'Data Siswa'!D44","v":0},null,null,null,null,null,null,null,null,null,null,null,null,null,null,null,null,null,null,null,null,null,null,null,null,0,null,{"$error":"#N/A"},0,{"$error":"#N/A"},{"$error":"#N/A"},0,{"$error":"#N/A"}]
[null,40,{"$f":"'Data Siswa'!D45","v":0},null,null,null,null,null,null,null,null,null,null,null,null,null,null,null,null,null,null,null,null,null,null,null,null,0,null,{"$error":"#N/A"},0,{"$error":"#N/A"},{"$error":"#N/A"},0,{"$error":"#N/A"}]
[null,41,{"$f":"'Data Siswa'!D46","v":0},null,null,null,null,null,null,null,null,null,null,null,null,null,null,null,null,null,null,null,null,null,null,null,null,0,null,{"$error":"#N/A"},0,{"$error":"#N/A"},{"$error":"#N/A"},0,{"$error":"#N/A"}]
[null,42,{"$f":"'Data Siswa'!D47","v":0},null,null,null,null,null,null,null,null,null,null,null,null,null,null,null,null,null,null,null,null,null,null,null,null,0,null,{"$error":"#N/A"},0,{"$error":"#N/A"},{"$error":"#N/A"},0,{"$error":"#N/A"}]
[null,43,{"$f":"'Data Siswa'!D48","v":0},null,null,null,null,null,null,null,null,null,null,null,null,null,null,null,null,null,null,null,null,null,null,null,null,0,null,{"$error":"#N/A"},0,{"$error":"#N/A"},{"$error":"#N/A"},0,{"$error":"#N/A"}]
[null,44,{"$f":"'Data Siswa'!D49","v":0},null,null,null,null,null,null,null,null,null,null,null,null,null,null,null,null,null,null,null,null,null,null,null,null,0,null,{"$error":"#N/A"},0,{"$error":"#N/A"},{"$error":"#N/A"},0,{"$error":"#N/A"}]
[null,45,{"$f":"'Data Siswa'!D50","v":0},null,null,null,null,null,null,null,null,null,null,null,null,null,null,null,null,null,null,null,null,null,null,null,null,0,null,{"$error":"#N/A"},0,{"$error":"#N/A"},{"$error":"#N/A"},0,{"$error":"#N/A"}]
[null,46,{"$f":"'Data Siswa'!D51","v":0},null,null,null,null,null,null,null,null,null,null,null,null,null,null,null,null,null,null,null,null,null,null,null,null,0,null,{"$error":"#N/A"},0,{"$error":"#N/A"},{"$error":"#N/A"},0,{"$error":"#N/A"}]
[null,47,{"$f":"'Data Siswa'!D52","v":0},null,null,null,null,null,null,null,null,null,null,null,null,null,null,null,null,null,null,null,null,null,null,null,null,{"$f":"IFERROR(AVERAGE(D58:AA58),0)","v":0},null,{"$error":"#N/A"},0,{"$error":"#N/A"},{"$error":"#N/A"},0,{"$error":"#N/A"}]
[null,48,{"$f":"'Data Siswa'!D53","v":0},null,null,null,null,null,null,null,null,null,null,null,null,null,null,null,null,null,null,null,null,null,null,null,null,0,null,{"$error":"#N/A"},0,{"$error":"#N/A"},{"$error":"#N/A"},0,{"$error":"#N/A"}]
[null,49,{"$f":"'Data Siswa'!D54","v":0},null,null,null,null,null,null,null,null,null,null,null,null,null,null,null,null,null,null,null,null,null,null,null,null,0,null,{"$error":"#N/A"},0,{"$error":"#N/A"},{"$error":"#N/A"},0,{"$error":"#N/A"}]
[null,50,{"$f":"'Data Siswa'!D55","v":0},null,null,null,null,null,null,null,null,null,null,null,null,null,null,null,null,null,null,null,null,null,null,null,null,0,null,{"$error":"#N/A"},0,{"$error":"#N/A"},{"$error":"#N/A"},0,{"$error":"#N/A"}]
[null,"RATA-RATA",null,{"$f":"IFERROR(AVERAGE(D12:D61),0)","v":0},{"$f":"IFERROR(AVERAGE(E12:E61),0)","v":0},0,0,0,0,0,0,0,0,0,0,0,0,0,0,0,0,0,0,0,0,0,0]

{"sheet":"TP MUSIK","index":20,"n_rows":28,"n_cols":10,"rows_kept":28,"cut":false,"hidden":false,"merged":[[2,0,2,5],[2,6,2,9]]}
[]
[]
["ALUR TUJUAN PEMBELAJARAN ",null,null,null,null,null,"LINGKUP MATERI"]
[]
[null,"Mata Pelajaran",null,null,{"$f":"\": \"&IDENTITAS!$G$11","v":": Seni Musik"},null,null,"Mata Pelajaran",null,{"$f":"\": \"&IDENTITAS!$G$11","v":": Seni Musik"}]
[null,"Semester",null,null,{"$f":"\": \"&IDENTITAS!$D$21","v":": "},null,null,"Semester",null,{"$f":"\": \"&IDENTITAS!$D$21","v":": "}]
[]
[null,null,null,"No","Tujuan Pembelajaran",null,null,null,"No","Lingkup Materi"]
[null,null,null,1,null,null,null,null,1]
[null,null,null,2,null,null,null,null,2]
[null,null,null,3,null,null,null,null,3]
[null,null,null,4,null,null,null,null,4]
[null,null,null,5,null,null,null,null,5]
[null,null,null,6,null,null,null,null,6]
[null,null,null,7,null,null,null,null,"Catatan: Tuliskan lingkup materi pelajaran yang anda ajarkan. Contoh: Siklus Air"]
[null,null,null,8]
[null,null,null,9]
[null,null,null,10]
[null,null,null,11]
[null,null,null,12]
[null,null,null,13]
[null,null,null,14]
[null,null,null,15]
[null,null,null,16]
[null,null,null,17]
[null,null,null,18]
[null,null,null,19]
[null,null,null,20]

{"sheet":"MUSIK","index":21,"n_rows":62,"n_cols":31,"rows_kept":62,"cut":false,"hidden":false,"merged":[[9,25,9,27],[9,28,9,30],[61,1,61,2],[2,0,2,23],[7,1,10,1],[7,2,10,2],[7,3,7,22],[7,23,10,23],[8,3,8,22]]}
[]
[]
["DAFTAR NILAI ASESMEN FORMATIF"]
[]
[null,null,"Mata Pelajaran",":","Seni Musik"]
[]
[]
[null,"No","NAMA SISWA","Seni Musik",null,null,null,null,null,null,null,null,null,null,null,null,null,null,null,null,null,null,null,"NILAI RAPOR"]
[null,null,null,"ASESMEN FORMATIF"]
[null,null,null,"TP 1","TP 2","TP 3","TP 4","TP 5","TP 6","TP 7","TP 8","TP 9","TP 10","TP 11","TP 12","TP 13","TP 14","TP 15","TP 16","TP 17","TP 18","TP 19","TP 20"]
[null,null,null,{"$f":"'TP MUSIK'!E9","v":0},{"$f":"'TP MUSIK'!E10","v":0},{"$f":"'TP MUSIK'!E11","v":0},{"$f":"'TP MUSIK'!E12","v":0},{"$f":"'TP MUSIK'!E13","v":0},{"$f":"'TP MUSIK'!E14","v":0},{"$f":"'TP MUSIK'!E15","v":0},{"$f":"'TP MUSIK'!E16","v":0},{"$f":"'TP MUSIK'!E17","v":0},{"$f":"'TP MUSIK'!E18","v":0},{"$f":"'TP MUSIK'!E19","v":0},{"$f":"'TP MUSIK'!E20","v":0},{"$f":"'TP MUSIK'!E21","v":0},{"$f":"'TP MUSIK'!E22","v":0},{"$f":"'TP MUSIK'!E23","v":0},{"$f":"'TP MUSIK'!E24","v":0},{"$f":"'TP MUSIK'!E25","v":0},{"$f":"'TP MUSIK'!E26","v":0},{"$f":"'TP MUSIK'!E27","v":0},{"$f":"'TP MUSIK'!E28","v":0},null,null,"TP","MAX","DESKRIPSI","TP","MIN","DESKRIPSI"]
[null,1,{"$f":"'Data Siswa'!D6","v":0},null,null,null,null,null,null,null,null,null,null,null,null,null,null,null,null,null,null,null,null,{"$f":"IFERROR(AVERAGE(D12:W12),0)","v":0},null,{"$f":"INDEX($D$11:$W$11,MATCH(AA12,D12:W12,0))","v":{"$error":"#N/A"}},{"$f":"MAX(D12:W12)","v":0},{"$f":"C12&\" menunjukkan penguasaan dalam \"&Z12","v":{"$error":"#N/A"}},{"$f":"INDEX($D$11:$W$11,MATCH(AD12,D12:W12,0))","v":{"$error":"#N/A"}},{"$f":"MIN(D12:W12)","v":0},{"$f":"C12&\" perlu bantuan dalam \"&AC12","v":{"$error":"#N/A"}}]
[null,2,{"$f":"'Data Siswa'!D7","v":0},null,null,null,null,null,null,null,null,null,null,null,null,null,null,null,null,null,null,null,null,0,null,{"$f":"INDEX($D$11:$W$11,MATCH(AA13,D13:W13,0))","v":{"$error":"#N/A"}},{"$f":"MAX(D13:W13)","v":0},{"$f":"C13&\" menunjukkan penguasaan dalam \"&Z13","v":{"$error":"#N/A"}},{"$f":"INDEX($D$11:$W$11,MATCH(AD13,D13:W13,0))","v":{"$error":"#N/A"}},{"$f":"MIN(D13:W13)","v":0},{"$f":"C13&\" perlu bantuan dalam \"&AC13","v":{"$error":"#N/A"}}]
[null,3,{"$f":"'Data Siswa'!D8","v":0},null,null,null,null,null,null,null,null,null,null,null,null,null,null,null,null,null,null,null,null,0,null,{"$error":"#N/A"},0,{"$error":"#N/A"},{"$error":"#N/A"},0,{"$error":"#N/A"}]
[null,4,{"$f":"'Data Siswa'!D9","v":0},null,null,null,null,null,null,null,null,null,null,null,null,null,null,null,null,null,null,null,null,0,null,{"$error":"#N/A"},0,{"$error":"#N/A"},{"$error":"#N/A"},0,{"$error":"#N/A"}]
[null,5,{"$f":"'Data Siswa'!D10","v":0},null,null,null,null,null,null,null,null,null,null,null,null,null,null,null,null,null,null,null,null,0,null,{"$error":"#N/A"},0,{"$error":"#N/A"},{"$error":"#N/A"},0,{"$error":"#N/A"}]
[null,6,{"$f":"'Data Siswa'!D11","v":0},null,null,null,null,null,null,null,null,null,null,null,null,null,null,null,null,null,null,null,null,0,null,{"$error":"#N/A"},0,{"$error":"#N/A"},{"$error":"#N/A"},0,{"$error":"#N/A"}]
[null,7,{"$f":"'Data Siswa'!D12","v":0},null,null,null,null,null,null,null,null,null,null,null,null,null,null,null,null,null,null,null,null,0,null,{"$error":"#N/A"},0,{"$error":"#N/A"},{"$error":"#N/A"},0,{"$error":"#N/A"}]
[null,8,{"$f":"'Data Siswa'!D13","v":0},null,null,null,null,null,null,null,null,null,null,null,null,null,null,null,null,null,null,null,null,0,null,{"$error":"#N/A"},0,{"$error":"#N/A"},{"$error":"#N/A"},0,{"$error":"#N/A"}]
[null,9,{"$f":"'Data Siswa'!D14","v":0},null,null,null,null,null,null,null,null,null,null,null,null,null,null,null,null,null,null,null,null,0,null,{"$error":"#N/A"},0,{"$error":"#N/A"},{"$error":"#N/A"},0,{"$error":"#N/A"}]
[null,10,{"$f":"'Data Siswa'!D15","v":0},null,null,null,null,null,null,null,null,null,null,null,null,null,null,null,null,null,null,null,null,0,null,{"$error":"#N/A"},0,{"$error":"#N/A"},{"$error":"#N/A"},0,{"$error":"#N/A"}]
[null,11,{"$f":"'Data Siswa'!D16","v":0},null,null,null,null,null,null,null,null,null,null,null,null,null,null,null,null,null,null,null,null,0,null,{"$error":"#N/A"},0,{"$error":"#N/A"},{"$error":"#N/A"},0,{"$error":"#N/A"}]
[null,12,{"$f":"'Data Siswa'!D17","v":0},null,null,null,null,null,null,null,null,null,null,null,null,null,null,null,null,null,null,null,null,0,null,{"$error":"#N/A"},0,{"$error":"#N/A"},{"$error":"#N/A"},0,{"$error":"#N/A"}]
[null,13,{"$f":"'Data Siswa'!D18","v":0},null,null,null,null,null,null,null,null,null,null,null,null,null,null,null,null,null,null,null,null,0,null,{"$error":"#N/A"},0,{"$error":"#N/A"},{"$error":"#N/A"},0,{"$error":"#N/A"}]
[null,14,{"$f":"'Data Siswa'!D19","v":0},null,null,null,null,null,null,null,null,null,null,null,null,null,null,null,null,null,null,null,null,0,null,{"$error":"#N/A"},0,{"$error":"#N/A"},{"$error":"#N/A"},0,{"$error":"#N/A"}]
[null,15,{"$f":"'Data Siswa'!D20","v":0},null,null,null,null,null,null,null,null,null,null,null,null,null,null,null,null,null,null,null,null,0,null,{"$error":"#N/A"},0,{"$error":"#N/A"},{"$error":"#N/A"},0,{"$error":"#N/A"}]
[null,16,{"$f":"'Data Siswa'!D21","v":0},null,null,null,null,null,null,null,null,null,null,null,null,null,null,null,null,null,null,null,null,0,null,{"$error":"#N/A"},0,{"$error":"#N/A"},{"$error":"#N/A"},0,{"$error":"#N/A"}]
[null,17,{"$f":"'Data Siswa'!D22","v":0},null,null,null,null,null,null,null,null,null,null,null,null,null,null,null,null,null,null,null,null,0,null,{"$error":"#N/A"},0,{"$error":"#N/A"},{"$error":"#N/A"},0,{"$error":"#N/A"}]
[null,18,{"$f":"'Data Siswa'!D23","v":0},null,null,null,null,null,null,null,null,null,null,null,null,null,null,null,null,null,null,null,null,0,null,{"$error":"#N/A"},0,{"$error":"#N/A"},{"$error":"#N/A"},0,{"$error":"#N/A"}]
[null,19,{"$f":"'Data Siswa'!D24","v":0},null,null,null,null,null,null,null,null,null,null,null,null,null,null,null,null,null,null,null,null,0,null,{"$error":"#N/A"},0,{"$error":"#N/A"},{"$error":"#N/A"},0,{"$error":"#N/A"}]
[null,20,{"$f":"'Data Siswa'!D25","v":0},null,null,null,null,null,null,null,null,null,null,null,null,null,null,null,null,null,null,null,null,0,null,{"$error":"#N/A"},0,{"$error":"#N/A"},{"$error":"#N/A"},0,{"$error":"#N/A"}]
[null,21,{"$f":"'Data Siswa'!D26","v":0},null,null,null,null,null,null,null,null,null,null,null,null,null,null,null,null,null,null,null,null,0,null,{"$error":"#N/A"},0,{"$error":"#N/A"},{"$error":"#N/A"},0,{"$error":"#N/A"}]
[null,22,{"$f":"'Data Siswa'!D27","v":0},null,null,null,null,null,null,null,null,null,null,null,null,null,null,null,null,null,null,null,null,0,null,{"$error":"#N/A"},0,{"$error":"#N/A"},{"$error":"#N/A"},0,{"$error":"#N/A"}]
[null,23,{"$f":"'Data Siswa'!D28","v":0},null,null,null,null,null,null,null,null,null,null,null,null,null,null,null,null,null,null,null,null,0,null,{"$error":"#N/A"},0,{"$error":"#N/A"},{"$error":"#N/A"},0,{"$error":"#N/A"}]
[null,24,{"$f":"'Data Siswa'!D29","v":0},null,null,null,null,null,null,null,null,null,null,null,null,null,null,null,null,null,null,null,null,0,null,{"$error":"#N/A"},0,{"$error":"#N/A"},{"$error":"#N/A"},0,{"$error":"#N/A"}]
[null,25,{"$f":"'Data Siswa'!D30","v":0},null,null,null,null,null,null,null,null,null,null,null,null,null,null,null,null,null,null,null,null,0,null,{"$error":"#N/A"},0,{"$error":"#N/A"},{"$error":"#N/A"},0,{"$error":"#N/A"}]
[null,26,{"$f":"'Data Siswa'!D31","v":0},null,null,null,null,null,null,null,null,null,null,null,null,null,null,null,null,null,null,null,null,0,null,{"$error":"#N/A"},0,{"$error":"#N/A"},{"$error":"#N/A"},0,{"$error":"#N/A"}]
[null,27,{"$f":"'Data Siswa'!D32","v":0},null,null,null,null,null,null,null,null,null,null,null,null,null,null,null,null,null,null,null,null,0,null,{"$error":"#N/A"},0,{"$error":"#N/A"},{"$error":"#N/A"},0,{"$error":"#N/A"}]
[null,28,{"$f":"'Data Siswa'!D33","v":0},null,null,null,null,null,null,null,null,null,null,null,null,null,null,null,null,null,null,null,null,0,null,{"$error":"#N/A"},0,{"$error":"#N/A"},{"$error":"#N/A"},0,{"$error":"#N/A"}]
[null,29,{"$f":"'Data Siswa'!D34","v":0},null,null,null,null,null,null,null,null,null,null,null,null,null,null,null,null,null,null,null,null,0,null,{"$error":"#N/A"},0,{"$error":"#N/A"},{"$error":"#N/A"},0,{"$error":"#N/A"}]
[null,30,{"$f":"'Data Siswa'!D35","v":0},null,null,null,null,null,null,null,null,null,null,null,null,null,null,null,null,null,null,null,null,0,null,{"$error":"#N/A"},0,{"$error":"#N/A"},{"$error":"#N/A"},0,{"$error":"#N/A"}]
[null,31,{"$f":"'Data Siswa'!D36","v":0},null,null,null,null,null,null,null,null,null,null,null,null,null,null,null,null,null,null,null,null,0,null,{"$error":"#N/A"},0,{"$error":"#N/A"},{"$error":"#N/A"},0,{"$error":"#N/A"}]
[null,32,{"$f":"'Data Siswa'!D37","v":0},null,null,null,null,null,null,null,null,null,null,null,null,null,null,null,null,null,null,null,null,0,null,{"$error":"#N/A"},0,{"$error":"#N/A"},{"$error":"#N/A"},0,{"$error":"#N/A"}]
[null,33,{"$f":"'Data Siswa'!D38","v":0},null,null,null,null,null,null,null,null,null,null,null,null,null,null,null,null,null,null,null,null,{"$f":"IFERROR(AVERAGE(D44:W44),0)","v":0},null,{"$error":"#N/A"},0,{"$error":"#N/A"},{"$error":"#N/A"},0,{"$error":"#N/A"}]
[null,34,{"$f":"'Data Siswa'!D39","v":0},null,null,null,null,null,null,null,null,null,null,null,null,null,null,null,null,null,null,null,null,0,null,{"$error":"#N/A"},0,{"$error":"#N/A"},{"$error":"#N/A"},0,{"$error":"#N/A"}]
[null,35,{"$f":"'Data Siswa'!D40","v":0},null,null,null,null,null,null,null,null,null,null,null,null,null,null,null,null,null,null,null,null,0,null,{"$error":"#N/A"},0,{"$error":"#N/A"},{"$error":"#N/A"},0,{"$error":"#N/A"}]
[null,36,{"$f":"'Data Siswa'!D41","v":0},null,null,null,null,null,null,null,null,null,null,null,null,null,null,null,null,null,null,null,null,0,null,{"$error":"#N/A"},0,{"$error":"#N/A"},{"$error":"#N/A"},0,{"$error":"#N/A"}]
[null,37,{"$f":"'Data Siswa'!D42","v":0},null,null,null,null,null,null,null,null,null,null,null,null,null,null,null,null,null,null,null,null,0,null,{"$error":"#N/A"},0,{"$error":"#N/A"},{"$error":"#N/A"},0,{"$error":"#N/A"}]
[null,38,{"$f":"'Data Siswa'!D43","v":0},null,null,null,null,null,null,null,null,null,null,null,null,null,null,null,null,null,null,null,null,0,null,{"$error":"#N/A"},0,{"$error":"#N/A"},{"$error":"#N/A"},0,{"$error":"#N/A"}]
[null,39,{"$f":"'Data Siswa'!D44","v":0},null,null,null,null,null,null,null,null,null,null,null,null,null,null,null,null,null,null,null,null,0,null,{"$error":"#N/A"},0,{"$error":"#N/A"},{"$error":"#N/A"},0,{"$error":"#N/A"}]
[null,40,{"$f":"'Data Siswa'!D45","v":0},null,null,null,null,null,null,null,null,null,null,null,null,null,null,null,null,null,null,null,null,0,null,{"$error":"#N/A"},0,{"$error":"#N/A"},{"$error":"#N/A"},0,{"$error":"#N/A"}]
[null,41,{"$f":"'Data Siswa'!D46","v":0},null,null,null,null,null,null,null,null,null,null,null,null,null,null,null,null,null,null,null,null,0,null,{"$error":"#N/A"},0,{"$error":"#N/A"},{"$error":"#N/A"},0,{"$error":"#N/A"}]
[null,42,{"$f":"'Data Siswa'!D47","v":0},null,null,null,null,null,null,null,null,null,null,null,null,null,null,null,null,null,null,null,null,0,null,{"$error":"#N/A"},0,{"$error":"#N/A"},{"$error":"#N/A"},0,{"$error":"#N/A"}]
[null,43,{"$f":"'Data Siswa'!D48","v":0},null,null,null,null,null,null,null,null,null,null,null,null,null,null,null,null,null,null,null,null,0,null,{"$error":"#N/A"},0,{"$error":"#N/A"},{"$error":"#N/A"},0,{"$error":"#N/A"}]
[null,44,{"$f":"'Data Siswa'!D49","v":0},null,null,null,null,null,null,null,null,null,null,null,null,null,null,null,null,null,null,null,null,0,null,{"$error":"#N/A"},0,{"$error":"#N/A"},{"$error":"#N/A"},0,{"$error":"#N/A"}]
[null,45,{"$f":"'Data Siswa'!D50","v":0},null,null,null,null,null,null,null,null,null,null,null,null,null,null,null,null,null,null,null,null,0,null,{"$error":"#N/A"},0,{"$error":"#N/A"},{"$error":"#N/A"},0,{"$error":"#N/A"}]
[null,46,{"$f":"'Data Siswa'!D51","v":0},null,null,null,null,null,null,null,null,null,null,null,null,null,null,null,null,null,null,null,null,0,null,{"$error":"#N/A"},0,{"$error":"#N/A"},{"$error":"#N/A"},0,{"$error":"#N/A"}]
[null,47,{"$f":"'Data Siswa'!D52","v":0},null,null,null,null,null,null,null,null,null,null,null,null,null,null,null,null,null,null,null,null,0,null,{"$error":"#N/A"},0,{"$error":"#N/A"},{"$error":"#N/A"},0,{"$error":"#N/A"}]
[null,48,{"$f":"'Data Siswa'!D53","v":0},null,null,null,null,null,null,null,null,null,null,null,null,null,null,null,null,null,null,null,null,0,null,{"$error":"#N/A"},0,{"$error":"#N/A"},{"$error":"#N/A"},0,{"$error":"#N/A"}]
[null,49,{"$f":"'Data Siswa'!D54","v":0},null,null,null,null,null,null,null,null,null,null,null,null,null,null,null,null,null,null,null,null,0,null,{"$error":"#N/A"},0,{"$error":"#N/A"},{"$error":"#N/A"},0,{"$error":"#N/A"}]
[null,50,{"$f":"'Data Siswa'!D55","v":0},null,null,null,null,null,null,null,null,null,null,null,null,null,null,null,null,null,null,null,null,0,null,{"$error":"#N/A"},0,{"$error":"#N/A"},{"$error":"#N/A"},0,{"$error":"#N/A"}]
[null,"RATA-RATA",null,{"$f":"IFERROR(AVERAGE(D12:D61),0)","v":0},{"$f":"IFERROR(AVERAGE(E12:E61),0)","v":0},0,0,0,0,0,0,0,0,0,0,0,0,0,0,0,0,0,0]

{"sheet":"SUMMUSIK","index":22,"n_rows":62,"n_cols":35,"rows_kept":62,"cut":false,"hidden":false,"merged":[[9,29,9,31],[9,32,9,34],[61,1,61,2],[9,9,9,10],[9,11,9,12],[9,13,9,14],[9,15,9,16],[9,17,9,18],[9,19,9,20],[2,0,2,27],[7,1,10,1],[7,2,10,2],[7,3,7,26],[7,27,10,27],[8,3,8,14],[8,15,8,26],[9,3,9,4],[9,5,9,6],[9,7,9,8],[9,21,9,22],[9,23,9,24],[9,25,9,26]]}
[]
[]
["DAFTAR NILAI ASESMEN SUMATIF"]
[]
[null,null,"Mata Pelajaran",":",null,"Seni Musik"]
[]
[]
[null,"No","NAMA SISWA","Seni Musik",null,null,null,null,null,null,null,null,null,null,null,null,null,null,null,null,null,null,null,null,null,null,null,"NILAI RAPOR"]
[null,null,null,"ASESMEN SUMATIF  AKHIR MATERI",null,null,null,null,null,null,null,null,null,null,null,"ASESMEN SUMATIF AKHIR SEMESTER *"]
[null,null,null,{"$f":"'TP IPAS'!J9","v":0},null,{"$f":"'TP IPAS'!J10","v":0},null,{"$f":"'TP IPAS'!J11","v":0},null,{"$f":"'TP IPAS'!J12","v":0},null,{"$f":"'TP IPAS'!J13","v":0},null,{"$f":"'TP IPAS'!J14","v":0},null,{"$f":"'TP IPAS'!J9","v":0},null,{"$f":"'TP IPAS'!J10","v":0},null,{"$f":"'TP IPAS'!J11","v":0},null,{"$f":"'TP IPAS'!J12","v":0},null,{"$f":"'TP IPAS'!J13","v":0},null,{"$f":"'TP IPAS'!J14","v":0}]
[null,null,null,"Tes","Non Tes","Tes","Non Tes","Tes","Non Tes","Tes","Non Tes","Tes","Non Tes","Tes","Non Tes","Tes","Non Tes","Tes","Non Tes","Tes","Non Tes","Tes","Non Tes","Tes","Non Tes","Tes","Non Tes",null,null,"TP","MAX","DESKRIPSI","TP","MIN","DESKRIPSI"]
[null,1,{"$f":"'Data Siswa'!D6","v":0},null,null,null,null,null,null,null,null,null,null,null,null,null,null,null,null,null,null,null,null,null,null,null,null,{"$f":"IFERROR(AVERAGE(D12:AA12),0)","v":0},null,{"$f":"INDEX($D$11:$AA$11,MATCH(AE12,D12:AA12,0))","v":{"$error":"#N/A"}},{"$f":"MAX(D12:AA12)","v":0},{"$f":"C12&\" sangat menguasai dalam \"&AD12","v":{"$error":"#N/A"}},{"$f":"INDEX($D$11:$AA$11,MATCH(AH12,D12:AA12,0))","v":{"$error":"#N/A"}},{"$f":"MIN(D12:AA12)","v":0},{"$f":"C12&\" perlu bimbingan dalam \"&AG12","v":{"$error":"#N/A"}}]
[null,2,{"$f":"'Data Siswa'!D7","v":0},null,null,null,null,null,null,null,null,null,null,null,null,null,null,null,null,null,null,null,null,null,null,null,null,{"$f":"IFERROR(AVERAGE(D13:AA13),0)","v":0},null,{"$error":"#N/A"},0,{"$error":"#N/A"},{"$error":"#N/A"},0,{"$error":"#N/A"}]
[null,3,{"$f":"'Data Siswa'!D8","v":0},null,null,null,null,null,null,null,null,null,null,null,null,null,null,null,null,null,null,null,null,null,null,null,null,0,null,{"$error":"#N/A"},0,{"$error":"#N/A"},{"$error":"#N/A"},0,{"$error":"#N/A"}]
[null,4,{"$f":"'Data Siswa'!D9","v":0},null,null,null,null,null,null,null,null,null,null,null,null,null,null,null,null,null,null,null,null,null,null,null,null,0,null,{"$error":"#N/A"},0,{"$error":"#N/A"},{"$error":"#N/A"},0,{"$error":"#N/A"}]
[null,5,{"$f":"'Data Siswa'!D10","v":0},null,null,null,null,null,null,null,null,null,null,null,null,null,null,null,null,null,null,null,null,null,null,null,null,0,null,{"$error":"#N/A"},0,{"$error":"#N/A"},{"$error":"#N/A"},0,{"$error":"#N/A"}]
[null,6,{"$f":"'Data Siswa'!D11","v":0},null,null,null,null,null,null,null,null,null,null,null,null,null,null,null,null,null,null,null,null,null,null,null,null,{"$f":"IFERROR(AVERAGE(D17:AA17),0)","v":0},null,{"$error":"#N/A"},0,{"$error":"#N/A"},{"$error":"#N/A"},0,{"$error":"#N/A"}]
[null,7,{"$f":"'Data Siswa'!D12","v":0},null,null,null,null,null,null,null,null,null,null,null,null,null,null,null,null,null,null,null,null,null,null,null,null,0,null,{"$error":"#N/A"},0,{"$error":"#N/A"},{"$error":"#N/A"},0,{"$error":"#N/A"}]
[null,8,{"$f":"'Data Siswa'!D13","v":0},null,null,null,null,null,null,null,null,null,null,null,null,null,null,null,null,null,null,null,null,null,null,null,null,0,null,{"$error":"#N/A"},0,{"$error":"#N/A"},{"$error":"#N/A"},0,{"$error":"#N/A"}]
[null,9,{"$f":"'Data Siswa'!D14","v":0},null,null,null,null,null,null,null,null,null,null,null,null,null,null,null,null,null,null,null,null,null,null,null,null,0,null,{"$error":"#N/A"},0,{"$error":"#N/A"},{"$error":"#N/A"},0,{"$error":"#N/A"}]
[null,10,{"$f":"'Data Siswa'!D15","v":0},null,null,null,null,null,null,null,null,null,null,null,null,null,null,null,null,null,null,null,null,null,null,null,null,0,null,{"$error":"#N/A"},0,{"$error":"#N/A"},{"$error":"#N/A"},0,{"$error":"#N/A"}]
[null,11,{"$f":"'Data Siswa'!D16","v":0},null,null,null,null,null,null,null,null,null,null,null,null,null,null,null,null,null,null,null,null,null,null,null,null,0,null,{"$error":"#N/A"},0,{"$error":"#N/A"},{"$error":"#N/A"},0,{"$error":"#N/A"}]
[null,12,{"$f":"'Data Siswa'!D17","v":0},null,null,null,null,null,null,null,null,null,null,null,null,null,null,null,null,null,null,null,null,null,null,null,null,0,null,{"$error":"#N/A"},0,{"$error":"#N/A"},{"$error":"#N/A"},0,{"$error":"#N/A"}]
[null,13,{"$f":"'Data Siswa'!D18","v":0},null,null,null,null,null,null,null,null,null,null,null,null,null,null,null,null,null,null,null,null,null,null,null,null,0,null,{"$error":"#N/A"},0,{"$error":"#N/A"},{"$error":"#N/A"},0,{"$error":"#N/A"}]
[null,14,{"$f":"'Data Siswa'!D19","v":0},null,null,null,null,null,null,null,null,null,null,null,null,null,null,null,null,null,null,null,null,null,null,null,null,0,null,{"$error":"#N/A"},0,{"$error":"#N/A"},{"$error":"#N/A"},0,{"$error":"#N/A"}]
[null,15,{"$f":"'Data Siswa'!D20","v":0},null,null,null,null,null,null,null,null,null,null,null,null,null,null,null,null,null,null,null,null,null,null,null,null,0,null,{"$error":"#N/A"},0,{"$error":"#N/A"},{"$error":"#N/A"},0,{"$error":"#N/A"}]
[null,16,{"$f":"'Data Siswa'!D21","v":0},null,null,null,null,null,null,null,null,null,null,null,null,null,null,null,null,null,null,null,null,null,null,null,null,0,null,{"$error":"#N/A"},0,{"$error":"#N/A"},{"$error":"#N/A"},0,{"$error":"#N/A"}]
[null,17,{"$f":"'Data Siswa'!D22","v":0},null,null,null,null,null,null,null,null,null,null,null,null,null,null,null,null,null,null,null,null,null,null,null,null,0,null,{"$error":"#N/A"},0,{"$error":"#N/A"},{"$error":"#N/A"},0,{"$error":"#N/A"}]
[null,18,{"$f":"'Data Siswa'!D23","v":0},null,null,null,null,null,null,null,null,null,null,null,null,null,null,null,null,null,null,null,null,null,null,null,null,0,null,{"$error":"#N/A"},0,{"$error":"#N/A"},{"$error":"#N/A"},0,{"$error":"#N/A"}]
[null,19,{"$f":"'Data Siswa'!D24","v":0},null,null,null,null,null,null,null,null,null,null,null,null,null,null,null,null,null,null,null,null,null,null,null,null,0,null,{"$error":"#N/A"},0,{"$error":"#N/A"},{"$error":"#N/A"},0,{"$error":"#N/A"}]
[null,20,{"$f":"'Data Siswa'!D25","v":0},null,null,null,null,null,null,null,null,null,null,null,null,null,null,null,null,null,null,null,null,null,null,null,null,0,null,{"$error":"#N/A"},0,{"$error":"#N/A"},{"$error":"#N/A"},0,{"$error":"#N/A"}]
[null,21,{"$f":"'Data Siswa'!D26","v":0},null,null,null,null,null,null,null,null,null,null,null,null,null,null,null,null,null,null,null,null,null,null,null,null,0,null,{"$error":"#N/A"},0,{"$error":"#N/A"},{"$error":"#N/A"},0,{"$error":"#N/A"}]
[null,22,{"$f":"'Data Siswa'!D27","v":0},null,null,null,null,null,null,null,null,null,null,null,null,null,null,null,null,null,null,null,null,null,null,null,null,0,null,{"$error":"#N/A"},0,{"$error":"#N/A"},{"$error":"#N/A"},0,{"$error":"#N/A"}]
[null,23,{"$f":"'Data Siswa'!D28","v":0},null,null,null,null,null,null,null,null,null,null,null,null,null,null,null,null,null,null,null,null,null,null,null,null,0,null,{"$error":"#N/A"},0,{"$error":"#N/A"},{"$error":"#N/A"},0,{"$error":"#N/A"}]
[null,24,{"$f":"'Data Siswa'!D29","v":0},null,null,null,null,null,null,null,null,null,null,null,null,null,null,null,null,null,null,null,null,null,null,null,null,0,null,{"$error":"#N/A"},0,{"$error":"#N/A"},{"$error":"#N/A"},0,{"$error":"#N/A"}]
[null,25,{"$f":"'Data Siswa'!D30","v":0},null,null,null,null,null,null,null,null,null,null,null,null,null,null,null,null,null,null,null,null,null,null,null,null,0,null,{"$error":"#N/A"},0,{"$error":"#N/A"},{"$error":"#N/A"},0,{"$error":"#N/A"}]
[null,26,{"$f":"'Data Siswa'!D31","v":0},null,null,null,null,null,null,null,null,null,null,null,null,null,null,null,null,null,null,null,null,null,null,null,null,0,null,{"$error":"#N/A"},0,{"$error":"#N/A"},{"$error":"#N/A"},0,{"$error":"#N/A"}]
[null,27,{"$f":"'Data Siswa'!D32","v":0},null,null,null,null,null,null,null,null,null,null,null,null,null,null,null,null,null,null,null,null,null,null,null,null,0,null,{"$error":"#N/A"},0,{"$error":"#N/A"},{"$error":"#N/A"},0,{"$error":"#N/A"}]
[null,28,{"$f":"'Data Siswa'!D33","v":0},null,null,null,null,null,null,null,null,null,null,null,null,null,null,null,null,null,null,null,null,null,null,null,null,0,null,{"$error":"#N/A"},0,{"$error":"#N/A"},{"$error":"#N/A"},0,{"$error":"#N/A"}]
[null,29,{"$f":"'Data Siswa'!D34","v":0},null,null,null,null,null,null,null,null,null,null,null,null,null,null,null,null,null,null,null,null,null,null,null,null,0,null,{"$error":"#N/A"},0,{"$error":"#N/A"},{"$error":"#N/A"},0,{"$error":"#N/A"}]
[null,30,{"$f":"'Data Siswa'!D35","v":0},null,null,null,null,null,null,null,null,null,null,null,null,null,null,null,null,null,null,null,null,null,null,null,null,0,null,{"$error":"#N/A"},0,{"$error":"#N/A"},{"$error":"#N/A"},0,{"$error":"#N/A"}]
[null,31,{"$f":"'Data Siswa'!D36","v":0},null,null,null,null,null,null,null,null,null,null,null,null,null,null,null,null,null,null,null,null,null,null,null,null,0,null,{"$error":"#N/A"},0,{"$error":"#N/A"},{"$error":"#N/A"},0,{"$error":"#N/A"}]
[null,32,{"$f":"'Data Siswa'!D37","v":0},null,null,null,null,null,null,null,null,null,null,null,null,null,null,null,null,null,null,null,null,null,null,null,null,0,null,{"$error":"#N/A"},0,{"$error":"#N/A"},{"$error":"#N/A"},0,{"$error":"#N/A"}]
[null,33,{"$f":"'Data Siswa'!D38","v":0},null,null,null,null,null,null,null,null,null,null,null,null,null,null,null,null,null,null,null,null,null,null,null,null,0,null,{"$error":"#N/A"},0,{"$f":"C44&\" sangat menguasai dalam \"&AD44","v":{"$error":"#N/A"}},{"$error":"#N/A"},0,{"$f":"C44&\" perlu bimbingan dalam \"&AG44","v":{"$error":"#N/A"}}]
[null,34,{"$f":"'Data Siswa'!D39","v":0},null,null,null,null,null,null,null,null,null,null,null,null,null,null,null,null,null,null,null,null,null,null,null,null,0,null,{"$error":"#N/A"},0,{"$error":"#N/A"},{"$error":"#N/A"},0,{"$error":"#N/A"}]
[null,35,{"$f":"'Data Siswa'!D40","v":0},null,null,null,null,null,null,null,null,null,null,null,null,null,null,null,null,null,null,null,null,null,null,null,null,0,null,{"$error":"#N/A"},0,{"$error":"#N/A"},{"$error":"#N/A"},0,{"$error":"#N/A"}]
[null,36,{"$f":"'Data Siswa'!D41","v":0},null,null,null,null,null,null,null,null,null,null,null,null,null,null,null,null,null,null,null,null,null,null,null,null,0,null,{"$error":"#N/A"},0,{"$error":"#N/A"},{"$error":"#N/A"},0,{"$error":"#N/A"}]
[null,37,{"$f":"'Data Siswa'!D42","v":0},null,null,null,null,null,null,null,null,null,null,null,null,null,null,null,null,null,null,null,null,null,null,null,null,0,null,{"$error":"#N/A"},0,{"$error":"#N/A"},{"$error":"#N/A"},0,{"$error":"#N/A"}]
[null,38,{"$f":"'Data Siswa'!D43","v":0},null,null,null,null,null,null,null,null,null,null,null,null,null,null,null,null,null,null,null,null,null,null,null,null,0,null,{"$error":"#N/A"},0,{"$error":"#N/A"},{"$error":"#N/A"},0,{"$error":"#N/A"}]
[null,39,{"$f":"'Data Siswa'!D44","v":0},null,null,null,null,null,null,null,null,null,null,null,null,null,null,null,null,null,null,null,null,null,null,null,null,0,null,{"$error":"#N/A"},0,{"$error":"#N/A"},{"$error":"#N/A"},0,{"$error":"#N/A"}]
[null,40,{"$f":"'Data Siswa'!D45","v":0},null,null,null,null,null,null,null,null,null,null,null,null,null,null,null,null,null,null,null,null,null,null,null,null,0,null,{"$error":"#N/A"},0,{"$error":"#N/A"},{"$error":"#N/A"},0,{"$error":"#N/A"}]
[null,41,{"$f":"'Data Siswa'!D46","v":0},null,null,null,null,null,null,null,null,null,null,null,null,null,null,null,null,null,null,null,null,null,null,null,null,0,null,{"$error":"#N/A"},0,{"$error":"#N/A"},{"$error":"#N/A"},0,{"$error":"#N/A"}]
[null,42,{"$f":"'Data Siswa'!D47","v":0},null,null,null,null,null,null,null,null,null,null,null,null,null,null,null,null,null,null,null,null,null,null,null,null,0,null,{"$error":"#N/A"},0,{"$error":"#N/A"},{"$error":"#N/A"},0,{"$error":"#N/A"}]
[null,43,{"$f":"'Data Siswa'!D48","v":0},null,null,null,null,null,null,null,null,null,null,null,null,null,null,null,null,null,null,null,null,null,null,null,null,0,null,{"$error":"#N/A"},0,{"$error":"#N/A"},{"$error":"#N/A"},0,{"$error":"#N/A"}]
[null,44,{"$f":"'Data Siswa'!D49","v":0},null,null,null,null,null,null,null,null,null,null,null,null,null,null,null,null,null,null,null,null,null,null,null,null,0,null,{"$error":"#N/A"},0,{"$error":"#N/A"},{"$error":"#N/A"},0,{"$error":"#N/A"}]
[null,45,{"$f":"'Data Siswa'!D50","v":0},null,null,null,null,null,null,null,null,null,null,null,null,null,null,null,null,null,null,null,null,null,null,null,null,0,null,{"$error":"#N/A"},0,{"$error":"#N/A"},{"$error":"#N/A"},0,{"$error":"#N/A"}]
[null,46,{"$f":"'Data Siswa'!D51","v":0},null,null,null,null,null,null,null,null,null,null,null,null,null,null,null,null,null,null,null,null,null,null,null,null,0,null,{"$error":"#N/A"},0,{"$error":"#N/A"},{"$error":"#N/A"},0,{"$error":"#N/A"}]
[null,47,{"$f":"'Data Siswa'!D52","v":0},null,null,null,null,null,null,null,null,null,null,null,null,null,null,null,null,null,null,null,null,null,null,null,null,{"$f":"IFERROR(AVERAGE(D58:AA58),0)","v":0},null,{"$error":"#N/A"},0,{"$error":"#N/A"},{"$error":"#N/A"},0,{"$error":"#N/A"}]
[null,48,{"$f":"'Data Siswa'!D53","v":0},null,null,null,null,null,null,null,null,null,null,null,null,null,null,null,null,null,null,null,null,null,null,null,null,0,null,{"$error":"#N/A"},0,{"$error":"#N/A"},{"$error":"#N/A"},0,{"$error":"#N/A"}]
[null,49,{"$f":"'Data Siswa'!D54","v":0},null,null,null,null,null,null,null,null,null,null,null,null,null,null,null,null,null,null,null,null,null,null,null,null,0,null,{"$error":"#N/A"},0,{"$error":"#N/A"},{"$error":"#N/A"},0,{"$error":"#N/A"}]
[null,50,{"$f":"'Data Siswa'!D55","v":0},null,null,null,null,null,null,null,null,null,null,null,null,null,null,null,null,null,null,null,null,null,null,null,null,0,null,{"$error":"#N/A"},0,{"$error":"#N/A"},{"$error":"#N/A"},0,{"$error":"#N/A"}]
[null,"RATA-RATA",null,{"$f":"IFERROR(AVERAGE(D12:D61),0)","v":0},{"$f":"IFERROR(AVERAGE(E12:E61),0)","v":0},0,0,0,0,0,0,0,0,0,0,0,0,0,0,0,0,0,0,0,0,0,0]

{"sheet":"TP TARI","index":23,"n_rows":28,"n_cols":10,"rows_kept":28,"cut":false,"hidden":false,"merged":[[2,0,2,5],[2,6,2,9]]}
[]
[]
["ALUR TUJUAN PEMBELAJARAN ",null,null,null,null,null,"LINGKUP MATERI"]
[]
[null,"Mata Pelajaran",null,null,{"$f":"\": \"&IDENTITAS!$G$12","v":": Seni Tari"},null,null,"Mata Pelajaran",null,{"$f":"\": \"&IDENTITAS!$G$12","v":": Seni Tari"}]
[null,"Semester",null,null,{"$f":"\": \"&IDENTITAS!$D$21","v":": "},null,null,"Semester",null,{"$f":"\": \"&IDENTITAS!$D$21","v":": "}]
[]
[null,null,null,"No","Tujuan Pembelajaran",null,null,null,"No","Lingkup Materi"]
[null,null,null,1,1,null,null,null,1]
[null,null,null,2,2,null,null,null,2]
[null,null,null,3,3,null,null,null,3]
[null,null,null,4,4,null,null,null,4]
[null,null,null,5,5,null,null,null,5]
[null,null,null,6,6,null,null,null,6]
[null,null,null,7,7,null,null,null,"Catatan: Tuliskan lingkup materi pelajaran yang anda ajarkan. Contoh: Siklus Air"]
[null,null,null,8,8]
[null,null,null,9,9]
[null,null,null,10,10]
[null,null,null,11,11]
[null,null,null,12,12]
[null,null,null,13,13]
[null,null,null,14,14]
[null,null,null,15,15]
[null,null,null,16,16]
[null,null,null,17,17]
[null,null,null,18,18]
[null,null,null,19,19]
[null,null,null,20,20]

{"sheet":"TARI","index":24,"n_rows":62,"n_cols":31,"rows_kept":62,"cut":false,"hidden":false,"merged":[[9,25,9,27],[9,28,9,30],[61,1,61,2],[2,0,2,23],[7,1,10,1],[7,2,10,2],[7,3,7,22],[7,23,10,23],[8,3,8,22]]}
[]
[]
["DAFTAR NILAI ASESMEN FORMATIF"]
[]
[null,null,"Mata Pelajaran",":","Seni Tari"]
[]
[]
[null,"No","NAMA SISWA","Seni Tari",null,null,null,null,null,null,null,null,null,null,null,null,null,null,null,null,null,null,null,"NILAI RAPOR"]
[null,null,null,"ASESMEN FORMATIF"]
[null,null,null,"TP 1","TP 2","TP 3","TP 4","TP 5","TP 6","TP 7","TP 8","TP 9","TP 10","TP 11","TP 12","TP 13","TP 14","TP 15","TP 16","TP 17","TP 18","TP 19","TP 20"]
[null,null,null,{"$f":"'TP TARI'!E9","v":1},{"$f":"'TP TARI'!E10","v":2},{"$f":"'TP TARI'!E11","v":3},{"$f":"'TP TARI'!E12","v":4},{"$f":"'TP TARI'!E13","v":5},{"$f":"'TP TARI'!E14","v":6},{"$f":"'TP TARI'!E15","v":7},{"$f":"'TP TARI'!E16","v":8},{"$f":"'TP TARI'!E17","v":9},{"$f":"'TP TARI'!E18","v":10},{"$f":"'TP TARI'!E19","v":11},{"$f":"'TP TARI'!E20","v":12},{"$f":"'TP TARI'!E21","v":13},{"$f":"'TP TARI'!E22","v":14},{"$f":"'TP TARI'!E23","v":15},{"$f":"'TP TARI'!E24","v":16},{"$f":"'TP TARI'!E25","v":17},{"$f":"'TP TARI'!E26","v":18},{"$f":"'TP TARI'!E27","v":19},{"$f":"'TP TARI'!E28","v":20},null,null,"TP","MAX","DESKRIPSI","TP","MIN","DESKRIPSI"]
[null,1,{"$f":"'Data Siswa'!D6","v":0},null,null,null,null,null,null,null,null,null,null,null,null,null,null,null,null,null,null,null,null,{"$f":"IFERROR(AVERAGE(D12:W12),0)","v":0},null,{"$f":"INDEX($D$11:$W$11,MATCH(AA12,D12:W12,0))","v":{"$error":"#N/A"}},{"$f":"MAX(D12:W12)","v":0},{"$f":"C12&\" sangat menguasai dalam \"&Z12","v":{"$error":"#N/A"}},{"$f":"INDEX($D$11:$W$11,MATCH(AD12,D12:W12,0))","v":{"$error":"#N/A"}},{"$f":"MIN(D12:W12)","v":0},{"$f":"C12&\" perlu bimbingan dalam \"&AC12","v":{"$error":"#N/A"}}]
[null,2,{"$f":"'Data Siswa'!D7","v":0},null,null,null,null,null,null,null,null,null,null,null,null,null,null,null,null,null,null,null,null,0,null,{"$f":"INDEX($D$11:$W$11,MATCH(AA13,D13:W13,0))","v":{"$error":"#N/A"}},{"$f":"MAX(D13:W13)","v":0},{"$f":"C13&\" sangat menguasai dalam \"&Z13","v":{"$error":"#N/A"}},{"$f":"INDEX($D$11:$W$11,MATCH(AD13,D13:W13,0))","v":{"$error":"#N/A"}},{"$f":"MIN(D13:W13)","v":0},{"$f":"C13&\" perlu bimbingan dalam \"&AC13","v":{"$error":"#N/A"}}]
[null,3,{"$f":"'Data Siswa'!D8","v":0},null,null,null,null,null,null,null,null,null,null,null,null,null,null,null,null,null,null,null,null,0,null,{"$error":"#N/A"},0,{"$error":"#N/A"},{"$error":"#N/A"},0,{"$error":"#N/A"}]
[null,4,{"$f":"'Data Siswa'!D9","v":0},null,null,null,null,null,null,null,null,null,null,null,null,null,null,null,null,null,null,null,null,0,null,{"$error":"#N/A"},0,{"$error":"#N/A"},{"$error":"#N/A"},0,{"$error":"#N/A"}]
[null,5,{"$f":"'Data Siswa'!D10","v":0},null,null,null,null,null,null,null,null,null,null,null,null,null,null,null,null,null,null,null,null,0,null,{"$error":"#N/A"},0,{"$error":"#N/A"},{"$error":"#N/A"},0,{"$error":"#N/A"}]
[null,6,{"$f":"'Data Siswa'!D11","v":0},null,null,null,null,null,null,null,null,null,null,null,null,null,null,null,null,null,null,null,null,0,null,{"$error":"#N/A"},0,{"$error":"#N/A"},{"$error":"#N/A"},0,{"$error":"#N/A"}]
[null,7,{"$f":"'Data Siswa'!D12","v":0},null,null,null,null,null,null,null,null,null,null,null,null,null,null,null,null,null,null,null,null,0,null,{"$error":"#N/A"},0,{"$error":"#N/A"},{"$error":"#N/A"},0,{"$error":"#N/A"}]
[null,8,{"$f":"'Data Siswa'!D13","v":0},null,null,null,null,null,null,null,null,null,null,null,null,null,null,null,null,null,null,null,null,0,null,{"$error":"#N/A"},0,{"$error":"#N/A"},{"$error":"#N/A"},0,{"$error":"#N/A"}]
[null,9,{"$f":"'Data Siswa'!D14","v":0},null,null,null,null,null,null,null,null,null,null,null,null,null,null,null,null,null,null,null,null,0,null,{"$error":"#N/A"},0,{"$error":"#N/A"},{"$error":"#N/A"},0,{"$error":"#N/A"}]
[null,10,{"$f":"'Data Siswa'!D15","v":0},null,null,null,null,null,null,null,null,null,null,null,null,null,null,null,null,null,null,null,null,0,null,{"$error":"#N/A"},0,{"$error":"#N/A"},{"$error":"#N/A"},0,{"$error":"#N/A"}]
[null,11,{"$f":"'Data Siswa'!D16","v":0},null,null,null,null,null,null,null,null,null,null,null,null,null,null,null,null,null,null,null,null,0,null,{"$error":"#N/A"},0,{"$error":"#N/A"},{"$error":"#N/A"},0,{"$error":"#N/A"}]
[null,12,{"$f":"'Data Siswa'!D17","v":0},null,null,null,null,null,null,null,null,null,null,null,null,null,null,null,null,null,null,null,null,0,null,{"$error":"#N/A"},0,{"$error":"#N/A"},{"$error":"#N/A"},0,{"$error":"#N/A"}]
[null,13,{"$f":"'Data Siswa'!D18","v":0},null,null,null,null,null,null,null,null,null,null,null,null,null,null,null,null,null,null,null,null,0,null,{"$error":"#N/A"},0,{"$error":"#N/A"},{"$error":"#N/A"},0,{"$error":"#N/A"}]
[null,14,{"$f":"'Data Siswa'!D19","v":0},null,null,null,null,null,null,null,null,null,null,null,null,null,null,null,null,null,null,null,null,0,null,{"$error":"#N/A"},0,{"$error":"#N/A"},{"$error":"#N/A"},0,{"$error":"#N/A"}]
[null,15,{"$f":"'Data Siswa'!D20","v":0},null,null,null,null,null,null,null,null,null,null,null,null,null,null,null,null,null,null,null,null,0,null,{"$error":"#N/A"},0,{"$error":"#N/A"},{"$error":"#N/A"},0,{"$error":"#N/A"}]
[null,16,{"$f":"'Data Siswa'!D21","v":0},null,null,null,null,null,null,null,null,null,null,null,null,null,null,null,null,null,null,null,null,0,null,{"$error":"#N/A"},0,{"$error":"#N/A"},{"$error":"#N/A"},0,{"$error":"#N/A"}]
[null,17,{"$f":"'Data Siswa'!D22","v":0},null,null,null,null,null,null,null,null,null,null,null,null,null,null,null,null,null,null,null,null,0,null,{"$error":"#N/A"},0,{"$error":"#N/A"},{"$error":"#N/A"},0,{"$error":"#N/A"}]
[null,18,{"$f":"'Data Siswa'!D23","v":0},null,null,null,null,null,null,null,null,null,null,null,null,null,null,null,null,null,null,null,null,0,null,{"$error":"#N/A"},0,{"$error":"#N/A"},{"$error":"#N/A"},0,{"$error":"#N/A"}]
[null,19,{"$f":"'Data Siswa'!D24","v":0},null,null,null,null,null,null,null,null,null,null,null,null,null,null,null,null,null,null,null,null,0,null,{"$error":"#N/A"},0,{"$error":"#N/A"},{"$error":"#N/A"},0,{"$error":"#N/A"}]
[null,20,{"$f":"'Data Siswa'!D25","v":0},null,null,null,null,null,null,null,null,null,null,null,null,null,null,null,null,null,null,null,null,0,null,{"$error":"#N/A"},0,{"$error":"#N/A"},{"$error":"#N/A"},0,{"$error":"#N/A"}]
[null,21,{"$f":"'Data Siswa'!D26","v":0},null,null,null,null,null,null,null,null,null,null,null,null,null,null,null,null,null,null,null,null,0,null,{"$error":"#N/A"},0,{"$error":"#N/A"},{"$error":"#N/A"},0,{"$error":"#N/A"}]
[null,22,{"$f":"'Data Siswa'!D27","v":0},null,null,null,null,null,null,null,null,null,null,null,null,null,null,null,null,null,null,null,null,0,null,{"$error":"#N/A"},0,{"$error":"#N/A"},{"$error":"#N/A"},0,{"$error":"#N/A"}]
[null,23,{"$f":"'Data Siswa'!D28","v":0},null,null,null,null,null,null,null,null,null,null,null,null,null,null,null,null,null,null,null,null,0,null,{"$error":"#N/A"},0,{"$error":"#N/A"},{"$error":"#N/A"},0,{"$error":"#N/A"}]
[null,24,{"$f":"'Data Siswa'!D29","v":0},null,null,null,null,null,null,null,null,null,null,null,null,null,null,null,null,null,null,null,null,0,null,{"$error":"#N/A"},0,{"$error":"#N/A"},{"$error":"#N/A"},0,{"$error":"#N/A"}]
[null,25,{"$f":"'Data Siswa'!D30","v":0},null,null,null,null,null,null,null,null,null,null,null,null,null,null,null,null,null,null,null,null,0,null,{"$error":"#N/A"},0,{"$error":"#N/A"},{"$error":"#N/A"},0,{"$error":"#N/A"}]
[null,26,{"$f":"'Data Siswa'!D31","v":0},null,null,null,null,null,null,null,null,null,null,null,null,null,null,null,null,null,null,null,null,0,null,{"$error":"#N/A"},0,{"$error":"#N/A"},{"$error":"#N/A"},0,{"$error":"#N/A"}]
[null,27,{"$f":"'Data Siswa'!D32","v":0},null,null,null,null,null,null,null,null,null,null,null,null,null,null,null,null,null,null,null,null,0,null,{"$error":"#N/A"},0,{"$error":"#N/A"},{"$error":"#N/A"},0,{"$error":"#N/A"}]
[null,28,{"$f":"'Data Siswa'!D33","v":0},null,null,null,null,null,null,null,null,null,null,null,null,null,null,null,null,null,null,null,null,0,null,{"$error":"#N/A"},0,{"$error":"#N/A"},{"$error":"#N/A"},0,{"$error":"#N/A"}]
[null,29,{"$f":"'Data Siswa'!D34","v":0},null,null,null,null,null,null,null,null,null,null,null,null,null,null,null,null,null,null,null,null,0,null,{"$error":"#N/A"},0,{"$error":"#N/A"},{"$error":"#N/A"},0,{"$error":"#N/A"}]
[null,30,{"$f":"'Data Siswa'!D35","v":0},null,null,null,null,null,null,null,null,null,null,null,null,null,null,null,null,null,null,null,null,0,null,{"$error":"#N/A"},0,{"$error":"#N/A"},{"$error":"#N/A"},0,{"$error":"#N/A"}]
[null,31,{"$f":"'Data Siswa'!D36","v":0},null,null,null,null,null,null,null,null,null,null,null,null,null,null,null,null,null,null,null,null,0,null,{"$error":"#N/A"},0,{"$error":"#N/A"},{"$error":"#N/A"},0,{"$error":"#N/A"}]
[null,32,{"$f":"'Data Siswa'!D37","v":0},null,null,null,null,null,null,null,null,null,null,null,null,null,null,null,null,null,null,null,null,0,null,{"$error":"#N/A"},0,{"$error":"#N/A"},{"$error":"#N/A"},0,{"$error":"#N/A"}]
[null,33,{"$f":"'Data Siswa'!D38","v":0},null,null,null,null,null,null,null,null,null,null,null,null,null,null,null,null,null,null,null,null,{"$f":"IFERROR(AVERAGE(D44:W44),0)","v":0},null,{"$error":"#N/A"},0,{"$error":"#N/A"},{"$error":"#N/A"},0,{"$error":"#N/A"}]
[null,34,{"$f":"'Data Siswa'!D39","v":0},null,null,null,null,null,null,null,null,null,null,null,null,null,null,null,null,null,null,null,null,0,null,{"$error":"#N/A"},0,{"$error":"#N/A"},{"$error":"#N/A"},0,{"$error":"#N/A"}]
[null,35,{"$f":"'Data Siswa'!D40","v":0},null,null,null,null,null,null,null,null,null,null,null,null,null,null,null,null,null,null,null,null,0,null,{"$error":"#N/A"},0,{"$error":"#N/A"},{"$error":"#N/A"},0,{"$error":"#N/A"}]
[null,36,{"$f":"'Data Siswa'!D41","v":0},null,null,null,null,null,null,null,null,null,null,null,null,null,null,null,null,null,null,null,null,0,null,{"$error":"#N/A"},0,{"$error":"#N/A"},{"$error":"#N/A"},0,{"$error":"#N/A"}]
[null,37,{"$f":"'Data Siswa'!D42","v":0},null,null,null,null,null,null,null,null,null,null,null,null,null,null,null,null,null,null,null,null,0,null,{"$error":"#N/A"},0,{"$error":"#N/A"},{"$error":"#N/A"},0,{"$error":"#N/A"}]
[null,38,{"$f":"'Data Siswa'!D43","v":0},null,null,null,null,null,null,null,null,null,null,null,null,null,null,null,null,null,null,null,null,0,null,{"$error":"#N/A"},0,{"$error":"#N/A"},{"$error":"#N/A"},0,{"$error":"#N/A"}]
[null,39,{"$f":"'Data Siswa'!D44","v":0},null,null,null,null,null,null,null,null,null,null,null,null,null,null,null,null,null,null,null,null,0,null,{"$error":"#N/A"},0,{"$error":"#N/A"},{"$error":"#N/A"},0,{"$error":"#N/A"}]
[null,40,{"$f":"'Data Siswa'!D45","v":0},null,null,null,null,null,null,null,null,null,null,null,null,null,null,null,null,null,null,null,null,0,null,{"$error":"#N/A"},0,{"$error":"#N/A"},{"$error":"#N/A"},0,{"$error":"#N/A"}]
[null,41,{"$f":"'Data Siswa'!D46","v":0},null,null,null,null,null,null,null,null,null,null,null,null,null,null,null,null,null,null,null,null,0,null,{"$error":"#N/A"},0,{"$error":"#N/A"},{"$error":"#N/A"},0,{"$error":"#N/A"}]
[null,42,{"$f":"'Data Siswa'!D47","v":0},null,null,null,null,null,null,null,null,null,null,null,null,null,null,null,null,null,null,null,null,0,null,{"$error":"#N/A"},0,{"$error":"#N/A"},{"$error":"#N/A"},0,{"$error":"#N/A"}]
[null,43,{"$f":"'Data Siswa'!D48","v":0},null,null,null,null,null,null,null,null,null,null,null,null,null,null,null,null,null,null,null,null,0,null,{"$error":"#N/A"},0,{"$error":"#N/A"},{"$error":"#N/A"},0,{"$error":"#N/A"}]
[null,44,{"$f":"'Data Siswa'!D49","v":0},null,null,null,null,null,null,null,null,null,null,null,null,null,null,null,null,null,null,null,null,0,null,{"$error":"#N/A"},0,{"$error":"#N/A"},{"$error":"#N/A"},0,{"$error":"#N/A"}]
[null,45,{"$f":"'Data Siswa'!D50","v":0},null,null,null,null,null,null,null,null,null,null,null,null,null,null,null,null,null,null,null,null,0,null,{"$error":"#N/A"},0,{"$error":"#N/A"},{"$error":"#N/A"},0,{"$error":"#N/A"}]
[null,46,{"$f":"'Data Siswa'!D51","v":0},null,null,null,null,null,null,null,null,null,null,null,null,null,null,null,null,null,null,null,null,0,null,{"$error":"#N/A"},0,{"$error":"#N/A"},{"$error":"#N/A"},0,{"$error":"#N/A"}]
[null,47,{"$f":"'Data Siswa'!D52","v":0},null,null,null,null,null,null,null,null,null,null,null,null,null,null,null,null,null,null,null,null,0,null,{"$error":"#N/A"},0,{"$error":"#N/A"},{"$error":"#N/A"},0,{"$error":"#N/A"}]
[null,48,{"$f":"'Data Siswa'!D53","v":0},null,null,null,null,null,null,null,null,null,null,null,null,null,null,null,null,null,null,null,null,0,null,{"$error":"#N/A"},0,{"$error":"#N/A"},{"$error":"#N/A"},0,{"$error":"#N/A"}]
[null,49,{"$f":"'Data Siswa'!D54","v":0},null,null,null,null,null,null,null,null,null,null,null,null,null,null,null,null,null,null,null,null,0,null,{"$error":"#N/A"},0,{"$error":"#N/A"},{"$error":"#N/A"},0,{"$error":"#N/A"}]
[null,50,{"$f":"'Data Siswa'!D55","v":0},null,null,null,null,null,null,null,null,null,null,null,null,null,null,null,null,null,null,null,null,0,null,{"$error":"#N/A"},0,{"$error":"#N/A"},{"$error":"#N/A"},0,{"$error":"#N/A"}]
[null,"RATA-RATA",null,{"$f":"IFERROR(AVERAGE(D12:D61),0)","v":0},{"$f":"IFERROR(AVERAGE(E12:E61),0)","v":0},0,0,0,0,0,0,0,0,0,0,0,0,0,0,0,0,0,0]

{"sheet":"SUMTARI","index":25,"n_rows":62,"n_cols":35,"rows_kept":62,"cut":false,"hidden":false,"merged":[[9,29,9,31],[9,32,9,34],[61,1,61,2],[9,9,9,10],[9,11,9,12],[9,13,9,14],[9,15,9,16],[9,17,9,18],[9,19,9,20],[2,0,2,27],[7,1,10,1],[7,2,10,2],[7,3,7,26],[7,27,10,27],[8,3,8,14],[8,15,8,26],[9,3,9,4],[9,5,9,6],[9,7,9,8],[9,21,9,22],[9,23,9,24],[9,25,9,26]]}
[]
[]
["DAFTAR NILAI ASESMEN SUMATIF"]
[]
[null,null,"Mata Pelajaran",":",null,"Seni Tari"]
[]
[]
[null,"No","NAMA SISWA","Seni Tari",null,null,null,null,null,null,null,null,null,null,null,null,null,null,null,null,null,null,null,null,null,null,null,"NILAI RAPOR"]
[null,null,null,"ASESMEN SUMATIF  AKHIR MATERI",null,null,null,null,null,null,null,null,null,null,null,"ASESMEN SUMATIF AKHIR SEMESTER *"]
[null,null,null,{"$f":"'TP TARI'!J9","v":0},null,{"$f":"'TP TARI'!J10","v":0},null,{"$f":"'TP TARI'!J11","v":0},null,{"$f":"'TP TARI'!J12","v":0},null,{"$f":"'TP TARI'!J13","v":0},null,{"$f":"'TP TARI'!J14","v":0},null,{"$f":"'TP TARI'!J9","v":0},null,{"$f":"'TP TARI'!J10","v":0},null,{"$f":"'TP TARI'!J11","v":0},null,{"$f":"'TP TARI'!J12","v":0},null,{"$f":"'TP TARI'!J13","v":0},null,{"$f":"'TP TARI'!J14","v":0}]
[null,null,null,"Tes","Non Tes","Tes","Non Tes","Tes","Non Tes","Tes","Non Tes","Tes","Non Tes","Tes","Non Tes","Tes","Non Tes","Tes","Non Tes","Tes","Non Tes","Tes","Non Tes","Tes","Non Tes","Tes","Non Tes",null,null,"TP","MAX","DESKRIPSI","TP","MIN","DESKRIPSI"]
[null,1,{"$f":"'Data Siswa'!D6","v":0},null,null,null,null,null,null,null,null,null,null,null,null,null,null,null,null,null,null,null,null,null,null,null,null,{"$f":"IFERROR(AVERAGE(D12:AA12),0)","v":0},null,{"$f":"INDEX($D$11:$AA$11,MATCH(AE12,D12:AA12,0))","v":{"$error":"#N/A"}},{"$f":"MAX(D12:AA12)","v":0},{"$f":"C12&\" sangat menguasai dalam \"&AD12","v":{"$error":"#N/A"}},{"$f":"INDEX($D$11:$AA$11,MATCH(AH12,D12:AA12,0))","v":{"$error":"#N/A"}},{"$f":"MIN(D12:AA12)","v":0},{"$f":"C12&\" perlu bimbingan dalam \"&AG12","v":{"$error":"#N/A"}}]
[null,2,{"$f":"'Data Siswa'!D7","v":0},null,null,null,null,null,null,null,null,null,null,null,null,null,null,null,null,null,null,null,null,null,null,null,null,{"$f":"IFERROR(AVERAGE(D13:AA13),0)","v":0},null,{"$error":"#N/A"},0,{"$error":"#N/A"},{"$error":"#N/A"},0,{"$error":"#N/A"}]
[null,3,{"$f":"'Data Siswa'!D8","v":0},null,null,null,null,null,null,null,null,null,null,null,null,null,null,null,null,null,null,null,null,null,null,null,null,0,null,{"$error":"#N/A"},0,{"$error":"#N/A"},{"$error":"#N/A"},0,{"$error":"#N/A"}]
[null,4,{"$f":"'Data Siswa'!D9","v":0},null,null,null,null,null,null,null,null,null,null,null,null,null,null,null,null,null,null,null,null,null,null,null,null,0,null,{"$error":"#N/A"},0,{"$error":"#N/A"},{"$error":"#N/A"},0,{"$error":"#N/A"}]
[null,5,{"$f":"'Data Siswa'!D10","v":0},null,null,null,null,null,null,null,null,null,null,null,null,null,null,null,null,null,null,null,null,null,null,null,null,0,null,{"$error":"#N/A"},0,{"$error":"#N/A"},{"$error":"#N/A"},0,{"$error":"#N/A"}]
[null,6,{"$f":"'Data Siswa'!D11","v":0},null,null,null,null,null,null,null,null,null,null,null,null,null,null,null,null,null,null,null,null,null,null,null,null,{"$f":"IFERROR(AVERAGE(D17:AA17),0)","v":0},null,{"$error":"#N/A"},0,{"$error":"#N/A"},{"$error":"#N/A"},0,{"$error":"#N/A"}]
[null,7,{"$f":"'Data Siswa'!D12","v":0},null,null,null,null,null,null,null,null,null,null,null,null,null,null,null,null,null,null,null,null,null,null,null,null,0,null,{"$error":"#N/A"},0,{"$error":"#N/A"},{"$error":"#N/A"},0,{"$error":"#N/A"}]
[null,8,{"$f":"'Data Siswa'!D13","v":0},null,null,null,null,null,null,null,null,null,null,null,null,null,null,null,null,null,null,null,null,null,null,null,null,0,null,{"$error":"#N/A"},0,{"$error":"#N/A"},{"$error":"#N/A"},0,{"$error":"#N/A"}]
[null,9,{"$f":"'Data Siswa'!D14","v":0},null,null,null,null,null,null,null,null,null,null,null,null,null,null,null,null,null,null,null,null,null,null,null,null,0,null,{"$error":"#N/A"},0,{"$error":"#N/A"},{"$error":"#N/A"},0,{"$error":"#N/A"}]
[null,10,{"$f":"'Data Siswa'!D15","v":0},null,null,null,null,null,null,null,null,null,null,null,null,null,null,null,null,null,null,null,null,null,null,null,null,0,null,{"$error":"#N/A"},0,{"$error":"#N/A"},{"$error":"#N/A"},0,{"$error":"#N/A"}]
[null,11,{"$f":"'Data Siswa'!D16","v":0},null,null,null,null,null,null,null,null,null,null,null,null,null,null,null,null,null,null,null,null,null,null,null,null,0,null,{"$error":"#N/A"},0,{"$error":"#N/A"},{"$error":"#N/A"},0,{"$error":"#N/A"}]
[null,12,{"$f":"'Data Siswa'!D17","v":0},null,null,null,null,null,null,null,null,null,null,null,null,null,null,null,null,null,null,null,null,null,null,null,null,0,null,{"$error":"#N/A"},0,{"$error":"#N/A"},{"$error":"#N/A"},0,{"$error":"#N/A"}]
[null,13,{"$f":"'Data Siswa'!D18","v":0},null,null,null,null,null,null,null,null,null,null,null,null,null,null,null,null,null,null,null,null,null,null,null,null,0,null,{"$error":"#N/A"},0,{"$error":"#N/A"},{"$error":"#N/A"},0,{"$error":"#N/A"}]
[null,14,{"$f":"'Data Siswa'!D19","v":0},null,null,null,null,null,null,null,null,null,null,null,null,null,null,null,null,null,null,null,null,null,null,null,null,0,null,{"$error":"#N/A"},0,{"$error":"#N/A"},{"$error":"#N/A"},0,{"$error":"#N/A"}]
[null,15,{"$f":"'Data Siswa'!D20","v":0},null,null,null,null,null,null,null,null,null,null,null,null,null,null,null,null,null,null,null,null,null,null,null,null,0,null,{"$error":"#N/A"},0,{"$error":"#N/A"},{"$error":"#N/A"},0,{"$error":"#N/A"}]
[null,16,{"$f":"'Data Siswa'!D21","v":0},null,null,null,null,null,null,null,null,null,null,null,null,null,null,null,null,null,null,null,null,null,null,null,null,0,null,{"$error":"#N/A"},0,{"$error":"#N/A"},{"$error":"#N/A"},0,{"$error":"#N/A"}]
[null,17,{"$f":"'Data Siswa'!D22","v":0},null,null,null,null,null,null,null,null,null,null,null,null,null,null,null,null,null,null,null,null,null,null,null,null,0,null,{"$error":"#N/A"},0,{"$error":"#N/A"},{"$error":"#N/A"},0,{"$error":"#N/A"}]
[null,18,{"$f":"'Data Siswa'!D23","v":0},null,null,null,null,null,null,null,null,null,null,null,null,null,null,null,null,null,null,null,null,null,null,null,null,0,null,{"$error":"#N/A"},0,{"$error":"#N/A"},{"$error":"#N/A"},0,{"$error":"#N/A"}]
[null,19,{"$f":"'Data Siswa'!D24","v":0},null,null,null,null,null,null,null,null,null,null,null,null,null,null,null,null,null,null,null,null,null,null,null,null,0,null,{"$error":"#N/A"},0,{"$error":"#N/A"},{"$error":"#N/A"},0,{"$error":"#N/A"}]
[null,20,{"$f":"'Data Siswa'!D25","v":0},null,null,null,null,null,null,null,null,null,null,null,null,null,null,null,null,null,null,null,null,null,null,null,null,0,null,{"$error":"#N/A"},0,{"$error":"#N/A"},{"$error":"#N/A"},0,{"$error":"#N/A"}]
[null,21,{"$f":"'Data Siswa'!D26","v":0},null,null,null,null,null,null,null,null,null,null,null,null,null,null,null,null,null,null,null,null,null,null,null,null,0,null,{"$error":"#N/A"},0,{"$error":"#N/A"},{"$error":"#N/A"},0,{"$error":"#N/A"}]
[null,22,{"$f":"'Data Siswa'!D27","v":0},null,null,null,null,null,null,null,null,null,null,null,null,null,null,null,null,null,null,null,null,null,null,null,null,0,null,{"$error":"#N/A"},0,{"$error":"#N/A"},{"$error":"#N/A"},0,{"$error":"#N/A"}]
[null,23,{"$f":"'Data Siswa'!D28","v":0},null,null,null,null,null,null,null,null,null,null,null,null,null,null,null,null,null,null,null,null,null,null,null,null,0,null,{"$error":"#N/A"},0,{"$error":"#N/A"},{"$error":"#N/A"},0,{"$error":"#N/A"}]
[null,24,{"$f":"'Data Siswa'!D29","v":0},null,null,null,null,null,null,null,null,null,null,null,null,null,null,null,null,null,null,null,null,null,null,null,null,0,null,{"$error":"#N/A"},0,{"$error":"#N/A"},{"$error":"#N/A"},0,{"$error":"#N/A"}]
[null,25,{"$f":"'Data Siswa'!D30","v":0},null,null,null,null,null,null,null,null,null,null,null,null,null,null,null,null,null,null,null,null,null,null,null,null,0,null,{"$error":"#N/A"},0,{"$error":"#N/A"},{"$error":"#N/A"},0,{"$error":"#N/A"}]
[null,26,{"$f":"'Data Siswa'!D31","v":0},null,null,null,null,null,null,null,null,null,null,null,null,null,null,null,null,null,null,null,null,null,null,null,null,0,null,{"$error":"#N/A"},0,{"$error":"#N/A"},{"$error":"#N/A"},0,{"$error":"#N/A"}]
[null,27,{"$f":"'Data Siswa'!D32","v":0},null,null,null,null,null,null,null,null,null,null,null,null,null,null,null,null,null,null,null,null,null,null,null,null,0,null,{"$error":"#N/A"},0,{"$error":"#N/A"},{"$error":"#N/A"},0,{"$error":"#N/A"}]
[null,28,{"$f":"'Data Siswa'!D33","v":0},null,null,null,null,null,null,null,null,null,null,null,null,null,null,null,null,null,null,null,null,null,null,null,null,0,null,{"$error":"#N/A"},0,{"$error":"#N/A"},{"$error":"#N/A"},0,{"$error":"#N/A"}]
[null,29,{"$f":"'Data Siswa'!D34","v":0},null,null,null,null,null,null,null,null,null,null,null,null,null,null,null,null,null,null,null,null,null,null,null,null,0,null,{"$error":"#N/A"},0,{"$error":"#N/A"},{"$error":"#N/A"},0,{"$error":"#N/A"}]
[null,30,{"$f":"'Data Siswa'!D35","v":0},null,null,null,null,null,null,null,null,null,null,null,null,null,null,null,null,null,null,null,null,null,null,null,null,0,null,{"$error":"#N/A"},0,{"$error":"#N/A"},{"$error":"#N/A"},0,{"$error":"#N/A"}]
[null,31,{"$f":"'Data Siswa'!D36","v":0},null,null,null,null,null,null,null,null,null,null,null,null,null,null,null,null,null,null,null,null,null,null,null,null,0,null,{"$error":"#N/A"},0,{"$error":"#N/A"},{"$error":"#N/A"},0,{"$error":"#N/A"}]
[null,32,{"$f":"'Data Siswa'!D37","v":0},null,null,null,null,null,null,null,null,null,null,null,null,null,null,null,null,null,null,null,null,null,null,null,null,0,null,{"$error":"#N/A"},0,{"$error":"#N/A"},{"$error":"#N/A"},0,{"$error":"#N/A"}]
[null,33,{"$f":"'Data Siswa'!D38","v":0},null,null,null,null,null,null,null,null,null,null,null,null,null,null,null,null,null,null,null,null,null,null,null,null,0,null,{"$error":"#N/A"},0,{"$f":"C44&\" sangat menguasai dalam \"&AD44","v":{"$error":"#N/A"}},{"$error":"#N/A"},0,{"$f":"C44&\" perlu bimbingan dalam \"&AG44","v":{"$error":"#N/A"}}]
[null,34,{"$f":"'Data Siswa'!D39","v":0},null,null,null,null,null,null,null,null,null,null,null,null,null,null,null,null,null,null,null,null,null,null,null,null,0,null,{"$error":"#N/A"},0,{"$error":"#N/A"},{"$error":"#N/A"},0,{"$error":"#N/A"}]
[null,35,{"$f":"'Data Siswa'!D40","v":0},null,null,null,null,null,null,null,null,null,null,null,null,null,null,null,null,null,null,null,null,null,null,null,null,0,null,{"$error":"#N/A"},0,{"$error":"#N/A"},{"$error":"#N/A"},0,{"$error":"#N/A"}]
[null,36,{"$f":"'Data Siswa'!D41","v":0},null,null,null,null,null,null,null,null,null,null,null,null,null,null,null,null,null,null,null,null,null,null,null,null,0,null,{"$error":"#N/A"},0,{"$error":"#N/A"},{"$error":"#N/A"},0,{"$error":"#N/A"}]
[null,37,{"$f":"'Data Siswa'!D42","v":0},null,null,null,null,null,null,null,null,null,null,null,null,null,null,null,null,null,null,null,null,null,null,null,null,0,null,{"$error":"#N/A"},0,{"$error":"#N/A"},{"$error":"#N/A"},0,{"$error":"#N/A"}]
[null,38,{"$f":"'Data Siswa'!D43","v":0},null,null,null,null,null,null,null,null,null,null,null,null,null,null,null,null,null,null,null,null,null,null,null,null,0,null,{"$error":"#N/A"},0,{"$error":"#N/A"},{"$error":"#N/A"},0,{"$error":"#N/A"}]
[null,39,{"$f":"'Data Siswa'!D44","v":0},null,null,null,null,null,null,null,null,null,null,null,null,null,null,null,null,null,null,null,null,null,null,null,null,0,null,{"$error":"#N/A"},0,{"$error":"#N/A"},{"$error":"#N/A"},0,{"$error":"#N/A"}]
[null,40,{"$f":"'Data Siswa'!D45","v":0},null,null,null,null,null,null,null,null,null,null,null,null,null,null,null,null,null,null,null,null,null,null,null,null,0,null,{"$error":"#N/A"},0,{"$error":"#N/A"},{"$error":"#N/A"},0,{"$error":"#N/A"}]
[null,41,{"$f":"'Data Siswa'!D46","v":0},null,null,null,null,null,null,null,null,null,null,null,null,null,null,null,null,null,null,null,null,null,null,null,null,0,null,{"$error":"#N/A"},0,{"$error":"#N/A"},{"$error":"#N/A"},0,{"$error":"#N/A"}]
[null,42,{"$f":"'Data Siswa'!D47","v":0},null,null,null,null,null,null,null,null,null,null,null,null,null,null,null,null,null,null,null,null,null,null,null,null,0,null,{"$error":"#N/A"},0,{"$error":"#N/A"},{"$error":"#N/A"},0,{"$error":"#N/A"}]
[null,43,{"$f":"'Data Siswa'!D48","v":0},null,null,null,null,null,null,null,null,null,null,null,null,null,null,null,null,null,null,null,null,null,null,null,null,0,null,{"$error":"#N/A"},0,{"$error":"#N/A"},{"$error":"#N/A"},0,{"$error":"#N/A"}]
[null,44,{"$f":"'Data Siswa'!D49","v":0},null,null,null,null,null,null,null,null,null,null,null,null,null,null,null,null,null,null,null,null,null,null,null,null,0,null,{"$error":"#N/A"},0,{"$error":"#N/A"},{"$error":"#N/A"},0,{"$error":"#N/A"}]
[null,45,{"$f":"'Data Siswa'!D50","v":0},null,null,null,null,null,null,null,null,null,null,null,null,null,null,null,null,null,null,null,null,null,null,null,null,0,null,{"$error":"#N/A"},0,{"$error":"#N/A"},{"$error":"#N/A"},0,{"$error":"#N/A"}]
[null,46,{"$f":"'Data Siswa'!D51","v":0},null,null,null,null,null,null,null,null,null,null,null,null,null,null,null,null,null,null,null,null,null,null,null,null,0,null,{"$error":"#N/A"},0,{"$error":"#N/A"},{"$error":"#N/A"},0,{"$error":"#N/A"}]
[null,47,{"$f":"'Data Siswa'!D52","v":0},null,null,null,null,null,null,null,null,null,null,null,null,null,null,null,null,null,null,null,null,null,null,null,null,{"$f":"IFERROR(AVERAGE(D58:AA58),0)","v":0},null,{"$error":"#N/A"},0,{"$error":"#N/A"},{"$error":"#N/A"},0,{"$error":"#N/A"}]
[null,48,{"$f":"'Data Siswa'!D53","v":0},null,null,null,null,null,null,null,null,null,null,null,null,null,null,null,null,null,null,null,null,null,null,null,null,0,null,{"$error":"#N/A"},0,{"$error":"#N/A"},{"$error":"#N/A"},0,{"$error":"#N/A"}]
[null,49,{"$f":"'Data Siswa'!D54","v":0},null,null,null,null,null,null,null,null,null,null,null,null,null,null,null,null,null,null,null,null,null,null,null,null,0,null,{"$error":"#N/A"},0,{"$error":"#N/A"},{"$error":"#N/A"},0,{"$error":"#N/A"}]
[null,50,{"$f":"'Data Siswa'!D55","v":0},null,null,null,null,null,null,null,null,null,null,null,null,null,null,null,null,null,null,null,null,null,null,null,null,0,null,{"$error":"#N/A"},0,{"$error":"#N/A"},{"$error":"#N/A"},0,{"$error":"#N/A"}]
[null,"RATA-RATA",null,{"$f":"IFERROR(AVERAGE(D12:D61),0)","v":0},{"$f":"IFERROR(AVERAGE(E12:E61),0)","v":0},0,0,0,0,0,0,0,0,0,0,0,0,0,0,0,0,0,0,0,0,0,0]

{"sheet":"TP KRIYA","index":26,"n_rows":28,"n_cols":10,"rows_kept":28,"cut":false,"hidden":false,"merged":[[2,0,2,5],[2,6,2,9]]}
[]
[]
["ALUR TUJUAN PEMBELAJARAN ",null,null,null,null,null,"LINGKUP MATERI"]
[]
[null,"Mata Pelajaran",null,null,{"$f":"\": \"&IDENTITAS!$G$13","v":": Seni Rupa"},null,null,"Mata Pelajaran",null,{"$f":"\": \"&IDENTITAS!$G$13","v":": Seni Rupa"}]
[null,"Semester",null,null,{"$f":"\": \"&IDENTITAS!$D$21","v":": "},null,null,"Semester",null,{"$f":"\": \"&IDENTITAS!$D$21","v":": "}]
[]
[null,null,null,"No","Tujuan Pembelajaran",null,null,null,"No","Lingkup Materi"]
[null,null,null,1,1,null,null,null,1]
[null,null,null,2,2,null,null,null,2]
[null,null,null,3,3,null,null,null,3]
[null,null,null,4,4,null,null,null,4]
[null,null,null,5,5,null,null,null,5]
[null,null,null,6,6,null,null,null,6]
[null,null,null,7,7,null,null,null,"Catatan: Tuliskan lingkup materi pelajaran yang anda ajarkan. Contoh: Siklus Air"]
[null,null,null,8,8]
[null,null,null,9,9]
[null,null,null,10,10]
[null,null,null,11,11]
[null,null,null,12,12]
[null,null,null,13,13]
[null,null,null,14,14]
[null,null,null,15,15]
[null,null,null,16,16]
[null,null,null,17,17]
[null,null,null,18,18]
[null,null,null,19,19]
[null,null,null,20,20]

{"sheet":"KRIYA","index":27,"n_rows":62,"n_cols":31,"rows_kept":62,"cut":false,"hidden":false,"merged":[[9,25,9,27],[9,28,9,30],[61,1,61,2],[2,0,2,23],[7,1,10,1],[7,2,10,2],[7,3,7,22],[7,23,10,23],[8,3,8,22]]}
[]
[]
["DAFTAR NILAI ASESMEN FORMATIF"]
[]
[null,null,"Mata Pelajaran",":","Seni Rupa"]
[]
[]
[null,"No","NAMA SISWA","Seni Kriya",null,null,null,null,null,null,null,null,null,null,null,null,null,null,null,null,null,null,null,"NILAI RAPOR"]
[null,null,null,"ASESMEN FORMATIF"]
[null,null,null,"TP 1","TP 2","TP 3","TP 4","TP 5","TP 6","TP 7","TP 8","TP 9","TP 10","TP 11","TP 12","TP 13","TP 14","TP 15","TP 16","TP 17","TP 18","TP 19","TP 20"]
[null,null,null,{"$f":"'TP KRIYA'!E9","v":1},{"$f":"'TP KRIYA'!E10","v":2},{"$f":"'TP KRIYA'!E11","v":3},{"$f":"'TP KRIYA'!E12","v":4},{"$f":"'TP KRIYA'!E13","v":5},{"$f":"'TP KRIYA'!E14","v":6},{"$f":"'TP KRIYA'!E15","v":7},{"$f":"'TP KRIYA'!E16","v":8},{"$f":"'TP KRIYA'!E17","v":9},{"$f":"'TP KRIYA'!E18","v":10},{"$f":"'TP KRIYA'!E19","v":11},{"$f":"'TP KRIYA'!E20","v":12},{"$f":"'TP KRIYA'!E21","v":13},{"$f":"'TP KRIYA'!E22","v":14},{"$f":"'TP KRIYA'!E23","v":15},{"$f":"'TP KRIYA'!E24","v":16},{"$f":"'TP KRIYA'!E25","v":17},{"$f":"'TP KRIYA'!E26","v":18},{"$f":"'TP KRIYA'!E27","v":19},{"$f":"'TP KRIYA'!E28","v":20},null,null,"TP","MAX","DESKRIPSI","TP","MIN","DESKRIPSI"]
[null,1,{"$f":"'Data Siswa'!D6","v":0},null,null,null,null,null,null,null,null,null,null,null,null,null,null,null,null,null,null,null,null,{"$f":"IFERROR(AVERAGE(D12:W12),0)","v":0},null,{"$f":"INDEX($D$11:$W$11,MATCH(AA12,D12:W12,0))","v":{"$error":"#N/A"}},{"$f":"MAX(D12:W12)","v":0},{"$f":"C12&\" sangat menguasai dalam \"&Z12","v":{"$error":"#N/A"}},{"$f":"INDEX($D$11:$W$11,MATCH(AD12,D12:W12,0))","v":{"$error":"#N/A"}},{"$f":"MIN(D12:W12)","v":0},{"$f":"C12&\" perlu bimbingan dalam \"&AC12","v":{"$error":"#N/A"}}]
[null,2,{"$f":"'Data Siswa'!D7","v":0},null,null,null,null,null,null,null,null,null,null,null,null,null,null,null,null,null,null,null,null,0,null,{"$f":"INDEX($D$11:$W$11,MATCH(AA13,D13:W13,0))","v":{"$error":"#N/A"}},{"$f":"MAX(D13:W13)","v":0},{"$f":"C13&\" sangat menguasai dalam \"&Z13","v":{"$error":"#N/A"}},{"$f":"INDEX($D$11:$W$11,MATCH(AD13,D13:W13,0))","v":{"$error":"#N/A"}},{"$f":"MIN(D13:W13)","v":0},{"$f":"C13&\" perlu bimbingan dalam \"&AC13","v":{"$error":"#N/A"}}]
[null,3,{"$f":"'Data Siswa'!D8","v":0},null,null,null,null,null,null,null,null,null,null,null,null,null,null,null,null,null,null,null,null,0,null,{"$error":"#N/A"},0,{"$error":"#N/A"},{"$error":"#N/A"},0,{"$error":"#N/A"}]
[null,4,{"$f":"'Data Siswa'!D9","v":0},null,null,null,null,null,null,null,null,null,null,null,null,null,null,null,null,null,null,null,null,0,null,{"$error":"#N/A"},0,{"$error":"#N/A"},{"$error":"#N/A"},0,{"$error":"#N/A"}]
[null,5,{"$f":"'Data Siswa'!D10","v":0},null,null,null,null,null,null,null,null,null,null,null,null,null,null,null,null,null,null,null,null,0,null,{"$error":"#N/A"},0,{"$error":"#N/A"},{"$error":"#N/A"},0,{"$error":"#N/A"}]
[null,6,{"$f":"'Data Siswa'!D11","v":0},null,null,null,null,null,null,null,null,null,null,null,null,null,null,null,null,null,null,null,null,0,null,{"$error":"#N/A"},0,{"$error":"#N/A"},{"$error":"#N/A"},0,{"$error":"#N/A"}]
[null,7,{"$f":"'Data Siswa'!D12","v":0},null,null,null,null,null,null,null,null,null,null,null,null,null,null,null,null,null,null,null,null,0,null,{"$error":"#N/A"},0,{"$error":"#N/A"},{"$error":"#N/A"},0,{"$error":"#N/A"}]
[null,8,{"$f":"'Data Siswa'!D13","v":0},null,null,null,null,null,null,null,null,null,null,null,null,null,null,null,null,null,null,null,null,0,null,{"$error":"#N/A"},0,{"$error":"#N/A"},{"$error":"#N/A"},0,{"$error":"#N/A"}]
[null,9,{"$f":"'Data Siswa'!D14","v":0},null,null,null,null,null,null,null,null,null,null,null,null,null,null,null,null,null,null,null,null,0,null,{"$error":"#N/A"},0,{"$error":"#N/A"},{"$error":"#N/A"},0,{"$error":"#N/A"}]
[null,10,{"$f":"'Data Siswa'!D15","v":0},null,null,null,null,null,null,null,null,null,null,null,null,null,null,null,null,null,null,null,null,0,null,{"$error":"#N/A"},0,{"$error":"#N/A"},{"$error":"#N/A"},0,{"$error":"#N/A"}]
[null,11,{"$f":"'Data Siswa'!D16","v":0},null,null,null,null,null,null,null,null,null,null,null,null,null,null,null,null,null,null,null,null,0,null,{"$error":"#N/A"},0,{"$error":"#N/A"},{"$error":"#N/A"},0,{"$error":"#N/A"}]
[null,12,{"$f":"'Data Siswa'!D17","v":0},null,null,null,null,null,null,null,null,null,null,null,null,null,null,null,null,null,null,null,null,0,null,{"$error":"#N/A"},0,{"$error":"#N/A"},{"$error":"#N/A"},0,{"$error":"#N/A"}]
[null,13,{"$f":"'Data Siswa'!D18","v":0},null,null,null,null,null,null,null,null,null,null,null,null,null,null,null,null,null,null,null,null,0,null,{"$error":"#N/A"},0,{"$error":"#N/A"},{"$error":"#N/A"},0,{"$error":"#N/A"}]
[null,14,{"$f":"'Data Siswa'!D19","v":0},null,null,null,null,null,null,null,null,null,null,null,null,null,null,null,null,null,null,null,null,0,null,{"$error":"#N/A"},0,{"$error":"#N/A"},{"$error":"#N/A"},0,{"$error":"#N/A"}]
[null,15,{"$f":"'Data Siswa'!D20","v":0},null,null,null,null,null,null,null,null,null,null,null,null,null,null,null,null,null,null,null,null,0,null,{"$error":"#N/A"},0,{"$error":"#N/A"},{"$error":"#N/A"},0,{"$error":"#N/A"}]
[null,16,{"$f":"'Data Siswa'!D21","v":0},null,null,null,null,null,null,null,null,null,null,null,null,null,null,null,null,null,null,null,null,0,null,{"$error":"#N/A"},0,{"$error":"#N/A"},{"$error":"#N/A"},0,{"$error":"#N/A"}]
[null,17,{"$f":"'Data Siswa'!D22","v":0},null,null,null,null,null,null,null,null,null,null,null,null,null,null,null,null,null,null,null,null,0,null,{"$error":"#N/A"},0,{"$error":"#N/A"},{"$error":"#N/A"},0,{"$error":"#N/A"}]
[null,18,{"$f":"'Data Siswa'!D23","v":0},null,null,null,null,null,null,null,null,null,null,null,null,null,null,null,null,null,null,null,null,0,null,{"$error":"#N/A"},0,{"$error":"#N/A"},{"$error":"#N/A"},0,{"$error":"#N/A"}]
[null,19,{"$f":"'Data Siswa'!D24","v":0},null,null,null,null,null,null,null,null,null,null,null,null,null,null,null,null,null,null,null,null,0,null,{"$error":"#N/A"},0,{"$error":"#N/A"},{"$error":"#N/A"},0,{"$error":"#N/A"}]
[null,20,{"$f":"'Data Siswa'!D25","v":0},null,null,null,null,null,null,null,null,null,null,null,null,null,null,null,null,null,null,null,null,0,null,{"$error":"#N/A"},0,{"$error":"#N/A"},{"$error":"#N/A"},0,{"$error":"#N/A"}]
[null,21,{"$f":"'Data Siswa'!D26","v":0},null,null,null,null,null,null,null,null,null,null,null,null,null,null,null,null,null,null,null,null,0,null,{"$error":"#N/A"},0,{"$error":"#N/A"},{"$error":"#N/A"},0,{"$error":"#N/A"}]
[null,22,{"$f":"'Data Siswa'!D27","v":0},null,null,null,null,null,null,null,null,null,null,null,null,null,null,null,null,null,null,null,null,0,null,{"$error":"#N/A"},0,{"$error":"#N/A"},{"$error":"#N/A"},0,{"$error":"#N/A"}]
[null,23,{"$f":"'Data Siswa'!D28","v":0},null,null,null,null,null,null,null,null,null,null,null,null,null,null,null,null,null,null,null,null,0,null,{"$error":"#N/A"},0,{"$error":"#N/A"},{"$error":"#N/A"},0,{"$error":"#N/A"}]
[null,24,{"$f":"'Data Siswa'!D29","v":0},null,null,null,null,null,null,null,null,null,null,null,null,null,null,null,null,null,null,null,null,0,null,{"$error":"#N/A"},0,{"$error":"#N/A"},{"$error":"#N/A"},0,{"$error":"#N/A"}]
[null,25,{"$f":"'Data Siswa'!D30","v":0},null,null,null,null,null,null,null,null,null,null,null,null,null,null,null,null,null,null,null,null,0,null,{"$error":"#N/A"},0,{"$error":"#N/A"},{"$error":"#N/A"},0,{"$error":"#N/A"}]
[null,26,{"$f":"'Data Siswa'!D31","v":0},null,null,null,null,null,null,null,null,null,null,null,null,null,null,null,null,null,null,null,null,0,null,{"$error":"#N/A"},0,{"$error":"#N/A"},{"$error":"#N/A"},0,{"$error":"#N/A"}]
[null,27,{"$f":"'Data Siswa'!D32","v":0},null,null,null,null,null,null,null,null,null,null,null,null,null,null,null,null,null,null,null,null,0,null,{"$error":"#N/A"},0,{"$error":"#N/A"},{"$error":"#N/A"},0,{"$error":"#N/A"}]
[null,28,{"$f":"'Data Siswa'!D33","v":0},null,null,null,null,null,null,null,null,null,null,null,null,null,null,null,null,null,null,null,null,0,null,{"$error":"#N/A"},0,{"$error":"#N/A"},{"$error":"#N/A"},0,{"$error":"#N/A"}]
[null,29,{"$f":"'Data Siswa'!D34","v":0},null,null,null,null,null,null,null,null,null,null,null,null,null,null,null,null,null,null,null,null,0,null,{"$error":"#N/A"},0,{"$error":"#N/A"},{"$error":"#N/A"},0,{"$error":"#N/A"}]
[null,30,{"$f":"'Data Siswa'!D35","v":0},null,null,null,null,null,null,null,null,null,null,null,null,null,null,null,null,null,null,null,null,0,null,{"$error":"#N/A"},0,{"$error":"#N/A"},{"$error":"#N/A"},0,{"$error":"#N/A"}]
[null,31,{"$f":"'Data Siswa'!D36","v":0},null,null,null,null,null,null,null,null,null,null,null,null,null,null,null,null,null,null,null,null,0,null,{"$error":"#N/A"},0,{"$error":"#N/A"},{"$error":"#N/A"},0,{"$error":"#N/A"}]
[null,32,{"$f":"'Data Siswa'!D37","v":0},null,null,null,null,null,null,null,null,null,null,null,null,null,null,null,null,null,null,null,null,0,null,{"$error":"#N/A"},0,{"$error":"#N/A"},{"$error":"#N/A"},0,{"$error":"#N/A"}]
[null,33,{"$f":"'Data Siswa'!D38","v":0},null,null,null,null,null,null,null,null,null,null,null,null,null,null,null,null,null,null,null,null,{"$f":"IFERROR(AVERAGE(D44:W44),0)","v":0},null,{"$error":"#N/A"},0,{"$error":"#N/A"},{"$error":"#N/A"},0,{"$error":"#N/A"}]
[null,34,{"$f":"'Data Siswa'!D39","v":0},null,null,null,null,null,null,null,null,null,null,null,null,null,null,null,null,null,null,null,null,0,null,{"$error":"#N/A"},0,{"$error":"#N/A"},{"$error":"#N/A"},0,{"$error":"#N/A"}]
[null,35,{"$f":"'Data Siswa'!D40","v":0},null,null,null,null,null,null,null,null,null,null,null,null,null,null,null,null,null,null,null,null,0,null,{"$error":"#N/A"},0,{"$error":"#N/A"},{"$error":"#N/A"},0,{"$error":"#N/A"}]
[null,36,{"$f":"'Data Siswa'!D41","v":0},null,null,null,null,null,null,null,null,null,null,null,null,null,null,null,null,null,null,null,null,0,null,{"$error":"#N/A"},0,{"$error":"#N/A"},{"$error":"#N/A"},0,{"$error":"#N/A"}]
[null,37,{"$f":"'Data Siswa'!D42","v":0},null,null,null,null,null,null,null,null,null,null,null,null,null,null,null,null,null,null,null,null,0,null,{"$error":"#N/A"},0,{"$error":"#N/A"},{"$error":"#N/A"},0,{"$error":"#N/A"}]
[null,38,{"$f":"'Data Siswa'!D43","v":0},null,null,null,null,null,null,null,null,null,null,null,null,null,null,null,null,null,null,null,null,0,null,{"$error":"#N/A"},0,{"$error":"#N/A"},{"$error":"#N/A"},0,{"$error":"#N/A"}]
[null,39,{"$f":"'Data Siswa'!D44","v":0},null,null,null,null,null,null,null,null,null,null,null,null,null,null,null,null,null,null,null,null,0,null,{"$error":"#N/A"},0,{"$error":"#N/A"},{"$error":"#N/A"},0,{"$error":"#N/A"}]
[null,40,{"$f":"'Data Siswa'!D45","v":0},null,null,null,null,null,null,null,null,null,null,null,null,null,null,null,null,null,null,null,null,0,null,{"$error":"#N/A"},0,{"$error":"#N/A"},{"$error":"#N/A"},0,{"$error":"#N/A"}]
[null,41,{"$f":"'Data Siswa'!D46","v":0},null,null,null,null,null,null,null,null,null,null,null,null,null,null,null,null,null,null,null,null,0,null,{"$error":"#N/A"},0,{"$error":"#N/A"},{"$error":"#N/A"},0,{"$error":"#N/A"}]
[null,42,{"$f":"'Data Siswa'!D47","v":0},null,null,null,null,null,null,null,null,null,null,null,null,null,null,null,null,null,null,null,null,0,null,{"$error":"#N/A"},0,{"$error":"#N/A"},{"$error":"#N/A"},0,{"$error":"#N/A"}]
[null,43,{"$f":"'Data Siswa'!D48","v":0},null,null,null,null,null,null,null,null,null,null,null,null,null,null,null,null,null,null,null,null,0,null,{"$error":"#N/A"},0,{"$error":"#N/A"},{"$error":"#N/A"},0,{"$error":"#N/A"}]
[null,44,{"$f":"'Data Siswa'!D49","v":0},null,null,null,null,null,null,null,null,null,null,null,null,null,null,null,null,null,null,null,null,0,null,{"$error":"#N/A"},0,{"$error":"#N/A"},{"$error":"#N/A"},0,{"$error":"#N/A"}]
[null,45,{"$f":"'Data Siswa'!D50","v":0},null,null,null,null,null,null,null,null,null,null,null,null,null,null,null,null,null,null,null,null,0,null,{"$error":"#N/A"},0,{"$error":"#N/A"},{"$error":"#N/A"},0,{"$error":"#N/A"}]
[null,46,{"$f":"'Data Siswa'!D51","v":0},null,null,null,null,null,null,null,null,null,null,null,null,null,null,null,null,null,null,null,null,0,null,{"$error":"#N/A"},0,{"$error":"#N/A"},{"$error":"#N/A"},0,{"$error":"#N/A"}]
[null,47,{"$f":"'Data Siswa'!D52","v":0},null,null,null,null,null,null,null,null,null,null,null,null,null,null,null,null,null,null,null,null,0,null,{"$error":"#N/A"},0,{"$error":"#N/A"},{"$error":"#N/A"},0,{"$error":"#N/A"}]
[null,48,{"$f":"'Data Siswa'!D53","v":0},null,null,null,null,null,null,null,null,null,null,null,null,null,null,null,null,null,null,null,null,0,null,{"$error":"#N/A"},0,{"$error":"#N/A"},{"$error":"#N/A"},0,{"$error":"#N/A"}]
[null,49,{"$f":"'Data Siswa'!D54","v":0},null,null,null,null,null,null,null,null,null,null,null,null,null,null,null,null,null,null,null,null,0,null,{"$error":"#N/A"},0,{"$error":"#N/A"},{"$error":"#N/A"},0,{"$error":"#N/A"}]
[null,50,{"$f":"'Data Siswa'!D55","v":0},null,null,null,null,null,null,null,null,null,null,null,null,null,null,null,null,null,null,null,null,0,null,{"$error":"#N/A"},0,{"$error":"#N/A"},{"$error":"#N/A"},0,{"$error":"#N/A"}]
[null,"RATA-RATA",null,{"$f":"IFERROR(AVERAGE(D12:D61),0)","v":0},{"$f":"IFERROR(AVERAGE(E12:E61),0)","v":0},0,0,0,0,0,0,0,0,0,0,0,0,0,0,0,0,0,0]

{"sheet":"SUMKRIYA","index":28,"n_rows":62,"n_cols":35,"rows_kept":62,"cut":false,"hidden":false,"merged":[[9,29,9,31],[9,32,9,34],[61,1,61,2],[9,9,9,10],[9,11,9,12],[9,13,9,14],[9,15,9,16],[9,17,9,18],[9,19,9,20],[2,0,2,27],[7,1,10,1],[7,2,10,2],[7,3,7,26],[7,27,10,27],[8,3,8,14],[8,15,8,26],[9,3,9,4],[9,5,9,6],[9,7,9,8],[9,21,9,22],[9,23,9,24],[9,25,9,26]]}
[]
[]
["DAFTAR NILAI ASESMEN SUMATIF"]
[]
[null,null,"Mata Pelajaran",":",null,"Seni Rupa"]
[]
[]
[null,"No","NAMA SISWA","Seni Kriya",null,null,null,null,null,null,null,null,null,null,null,null,null,null,null,null,null,null,null,null,null,null,null,"NILAI RAPOR"]
[null,null,null,"ASESMEN SUMATIF  AKHIR MATERI",null,null,null,null,null,null,null,null,null,null,null,"ASESMEN SUMATIF AKHIR SEMESTER *"]
[null,null,null,{"$f":"'TP KRIYA'!J9","v":0},null,{"$f":"'TP KRIYA'!J10","v":0},null,{"$f":"'TP KRIYA'!J11","v":0},null,{"$f":"'TP KRIYA'!J12","v":0},null,{"$f":"'TP KRIYA'!J13","v":0},null,{"$f":"'TP KRIYA'!J14","v":0},null,{"$f":"'TP KRIYA'!J9","v":0},null,{"$f":"'TP KRIYA'!J10","v":0},null,{"$f":"'TP KRIYA'!J11","v":0},null,{"$f":"'TP KRIYA'!J12","v":0},null,{"$f":"'TP KRIYA'!J13","v":0},null,{"$f":"'TP KRIYA'!J14","v":0}]
[null,null,null,"Tes","Non Tes","Tes","Non Tes","Tes","Non Tes","Tes","Non Tes","Tes","Non Tes","Tes","Non Tes","Tes","Non Tes","Tes","Non Tes","Tes","Non Tes","Tes","Non Tes","Tes","Non Tes","Tes","Non Tes",null,null,"TP","MAX","DESKRIPSI","TP","MIN","DESKRIPSI"]
[null,1,{"$f":"'Data Siswa'!D6","v":0},null,null,null,null,null,null,null,null,null,null,null,null,null,null,null,null,null,null,null,null,null,null,null,null,{"$f":"IFERROR(AVERAGE(D12:AA12),0)","v":0},null,{"$f":"INDEX($D$11:$AA$11,MATCH(AE12,D12:AA12,0))","v":{"$error":"#N/A"}},{"$f":"MAX(D12:AA12)","v":0},{"$f":"C12&\" sangat menguasai dalam \"&AD12","v":{"$error":"#N/A"}},{"$f":"INDEX($D$11:$AA$11,MATCH(AH12,D12:AA12,0))","v":{"$error":"#N/A"}},{"$f":"MIN(D12:AA12)","v":0},{"$f":"C12&\" perlu bimbingan dalam \"&AG12","v":{"$error":"#N/A"}}]
[null,2,{"$f":"'Data Siswa'!D7","v":0},null,null,null,null,null,null,null,null,null,null,null,null,null,null,null,null,null,null,null,null,null,null,null,null,{"$f":"IFERROR(AVERAGE(D13:AA13),0)","v":0},null,{"$error":"#N/A"},0,{"$error":"#N/A"},{"$error":"#N/A"},0,{"$error":"#N/A"}]
[null,3,{"$f":"'Data Siswa'!D8","v":0},null,null,null,null,null,null,null,null,null,null,null,null,null,null,null,null,null,null,null,null,null,null,null,null,0,null,{"$error":"#N/A"},0,{"$error":"#N/A"},{"$error":"#N/A"},0,{"$error":"#N/A"}]
[null,4,{"$f":"'Data Siswa'!D9","v":0},null,null,null,null,null,null,null,null,null,null,null,null,null,null,null,null,null,null,null,null,null,null,null,null,0,null,{"$error":"#N/A"},0,{"$error":"#N/A"},{"$error":"#N/A"},0,{"$error":"#N/A"}]
[null,5,{"$f":"'Data Siswa'!D10","v":0},null,null,null,null,null,null,null,null,null,null,null,null,null,null,null,null,null,null,null,null,null,null,null,null,0,null,{"$error":"#N/A"},0,{"$error":"#N/A"},{"$error":"#N/A"},0,{"$error":"#N/A"}]
[null,6,{"$f":"'Data Siswa'!D11","v":0},null,null,null,null,null,null,null,null,null,null,null,null,null,null,null,null,null,null,null,null,null,null,null,null,{"$f":"IFERROR(AVERAGE(D17:AA17),0)","v":0},null,{"$error":"#N/A"},0,{"$error":"#N/A"},{"$error":"#N/A"},0,{"$error":"#N/A"}]
[null,7,{"$f":"'Data Siswa'!D12","v":0},null,null,null,null,null,null,null,null,null,null,null,null,null,null,null,null,null,null,null,null,null,null,null,null,0,null,{"$error":"#N/A"},0,{"$error":"#N/A"},{"$error":"#N/A"},0,{"$error":"#N/A"}]
[null,8,{"$f":"'Data Siswa'!D13","v":0},null,null,null,null,null,null,null,null,null,null,null,null,null,null,null,null,null,null,null,null,null,null,null,null,0,null,{"$error":"#N/A"},0,{"$error":"#N/A"},{"$error":"#N/A"},0,{"$error":"#N/A"}]
[null,9,{"$f":"'Data Siswa'!D14","v":0},null,null,null,null,null,null,null,null,null,null,null,null,null,null,null,null,null,null,null,null,null,null,null,null,0,null,{"$error":"#N/A"},0,{"$error":"#N/A"},{"$error":"#N/A"},0,{"$error":"#N/A"}]
[null,10,{"$f":"'Data Siswa'!D15","v":0},null,null,null,null,null,null,null,null,null,null,null,null,null,null,null,null,null,null,null,null,null,null,null,null,0,null,{"$error":"#N/A"},0,{"$error":"#N/A"},{"$error":"#N/A"},0,{"$error":"#N/A"}]
[null,11,{"$f":"'Data Siswa'!D16","v":0},null,null,null,null,null,null,null,null,null,null,null,null,null,null,null,null,null,null,null,null,null,null,null,null,0,null,{"$error":"#N/A"},0,{"$error":"#N/A"},{"$error":"#N/A"},0,{"$error":"#N/A"}]
[null,12,{"$f":"'Data Siswa'!D17","v":0},null,null,null,null,null,null,null,null,null,null,null,null,null,null,null,null,null,null,null,null,null,null,null,null,0,null,{"$error":"#N/A"},0,{"$error":"#N/A"},{"$error":"#N/A"},0,{"$error":"#N/A"}]
[null,13,{"$f":"'Data Siswa'!D18","v":0},null,null,null,null,null,null,null,null,null,null,null,null,null,null,null,null,null,null,null,null,null,null,null,null,0,null,{"$error":"#N/A"},0,{"$error":"#N/A"},{"$error":"#N/A"},0,{"$error":"#N/A"}]
[null,14,{"$f":"'Data Siswa'!D19","v":0},null,null,null,null,null,null,null,null,null,null,null,null,null,null,null,null,null,null,null,null,null,null,null,null,0,null,{"$error":"#N/A"},0,{"$error":"#N/A"},{"$error":"#N/A"},0,{"$error":"#N/A"}]
[null,15,{"$f":"'Data Siswa'!D20","v":0},null,null,null,null,null,null,null,null,null,null,null,null,null,null,null,null,null,null,null,null,null,null,null,null,0,null,{"$error":"#N/A"},0,{"$error":"#N/A"},{"$error":"#N/A"},0,{"$error":"#N/A"}]
[null,16,{"$f":"'Data Siswa'!D21","v":0},null,null,null,null,null,null,null,null,null,null,null,null,null,null,null,null,null,null,null,null,null,null,null,null,0,null,{"$error":"#N/A"},0,{"$error":"#N/A"},{"$error":"#N/A"},0,{"$error":"#N/A"}]
[null,17,{"$f":"'Data Siswa'!D22","v":0},null,null,null,null,null,null,null,null,null,null,null,null,null,null,null,null,null,null,null,null,null,null,null,null,0,null,{"$error":"#N/A"},0,{"$error":"#N/A"},{"$error":"#N/A"},0,{"$error":"#N/A"}]
[null,18,{"$f":"'Data Siswa'!D23","v":0},null,null,null,null,null,null,null,null,null,null,null,null,null,null,null,null,null,null,null,null,null,null,null,null,0,null,{"$error":"#N/A"},0,{"$error":"#N/A"},{"$error":"#N/A"},0,{"$error":"#N/A"}]
[null,19,{"$f":"'Data Siswa'!D24","v":0},null,null,null,null,null,null,null,null,null,null,null,null,null,null,null,null,null,null,null,null,null,null,null,null,0,null,{"$error":"#N/A"},0,{"$error":"#N/A"},{"$error":"#N/A"},0,{"$error":"#N/A"}]
[null,20,{"$f":"'Data Siswa'!D25","v":0},null,null,null,null,null,null,null,null,null,null,null,null,null,null,null,null,null,null,null,null,null,null,null,null,0,null,{"$error":"#N/A"},0,{"$error":"#N/A"},{"$error":"#N/A"},0,{"$error":"#N/A"}]
[null,21,{"$f":"'Data Siswa'!D26","v":0},null,null,null,null,null,null,null,null,null,null,null,null,null,null,null,null,null,null,null,null,null,null,null,null,0,null,{"$error":"#N/A"},0,{"$error":"#N/A"},{"$error":"#N/A"},0,{"$error":"#N/A"}]
[null,22,{"$f":"'Data Siswa'!D27","v":0},null,null,null,null,null,null,null,null,null,null,null,null,null,null,null,null,null,null,null,null,null,null,null,null,0,null,{"$error":"#N/A"},0,{"$error":"#N/A"},{"$error":"#N/A"},0,{"$error":"#N/A"}]
[null,23,{"$f":"'Data Siswa'!D28","v":0},null,null,null,null,null,null,null,null,null,null,null,null,null,null,null,null,null,null,null,null,null,null,null,null,0,null,{"$error":"#N/A"},0,{"$error":"#N/A"},{"$error":"#N/A"},0,{"$error":"#N/A"}]
[null,24,{"$f":"'Data Siswa'!D29","v":0},null,null,null,null,null,null,null,null,null,null,null,null,null,null,null,null,null,null,null,null,null,null,null,null,0,null,{"$error":"#N/A"},0,{"$error":"#N/A"},{"$error":"#N/A"},0,{"$error":"#N/A"}]
[null,25,{"$f":"'Data Siswa'!D30","v":0},null,null,null,null,null,null,null,null,null,null,null,null,null,null,null,null,null,null,null,null,null,null,null,null,0,null,{"$error":"#N/A"},0,{"$error":"#N/A"},{"$error":"#N/A"},0,{"$error":"#N/A"}]
[null,26,{"$f":"'Data Siswa'!D31","v":0},null,null,null,null,null,null,null,null,null,null,null,null,null,null,null,null,null,null,null,null,null,null,null,null,0,null,{"$error":"#N/A"},0,{"$error":"#N/A"},{"$error":"#N/A"},0,{"$error":"#N/A"}]
[null,27,{"$f":"'Data Siswa'!D32","v":0},null,null,null,null,null,null,null,null,null,null,null,null,null,null,null,null,null,null,null,null,null,null,null,null,0,null,{"$error":"#N/A"},0,{"$error":"#N/A"},{"$error":"#N/A"},0,{"$error":"#N/A"}]
[null,28,{"$f":"'Data Siswa'!D33","v":0},null,null,null,null,null,null,null,null,null,null,null,null,null,null,null,null,null,null,null,null,null,null,null,null,0,null,{"$error":"#N/A"},0,{"$error":"#N/A"},{"$error":"#N/A"},0,{"$error":"#N/A"}]
[null,29,{"$f":"'Data Siswa'!D34","v":0},null,null,null,null,null,null,null,null,null,null,null,null,null,null,null,null,null,null,null,null,null,null,null,null,0,null,{"$error":"#N/A"},0,{"$error":"#N/A"},{"$error":"#N/A"},0,{"$error":"#N/A"}]
[null,30,{"$f":"'Data Siswa'!D35","v":0},null,null,null,null,null,null,null,null,null,null,null,null,null,null,null,null,null,null,null,null,null,null,null,null,0,null,{"$error":"#N/A"},0,{"$error":"#N/A"},{"$error":"#N/A"},0,{"$error":"#N/A"}]
[null,31,{"$f":"'Data Siswa'!D36","v":0},null,null,null,null,null,null,null,null,null,null,null,null,null,null,null,null,null,null,null,null,null,null,null,null,0,null,{"$error":"#N/A"},0,{"$error":"#N/A"},{"$error":"#N/A"},0,{"$error":"#N/A"}]
[null,32,{"$f":"'Data Siswa'!D37","v":0},null,null,null,null,null,null,null,null,null,null,null,null,null,null,null,null,null,null,null,null,null,null,null,null,0,null,{"$error":"#N/A"},0,{"$error":"#N/A"},{"$error":"#N/A"},0,{"$error":"#N/A"}]
[null,33,{"$f":"'Data Siswa'!D38","v":0},null,null,null,null,null,null,null,null,null,null,null,null,null,null,null,null,null,null,null,null,null,null,null,null,0,null,{"$error":"#N/A"},0,{"$f":"C44&\" sangat menguasai dalam \"&AD44","v":{"$error":"#N/A"}},{"$error":"#N/A"},0,{"$f":"C44&\" perlu bimbingan dalam \"&AG44","v":{"$error":"#N/A"}}]
[null,34,{"$f":"'Data Siswa'!D39","v":0},null,null,null,null,null,null,null,null,null,null,null,null,null,null,null,null,null,null,null,null,null,null,null,null,0,null,{"$error":"#N/A"},0,{"$error":"#N/A"},{"$error":"#N/A"},0,{"$error":"#N/A"}]
[null,35,{"$f":"'Data Siswa'!D40","v":0},null,null,null,null,null,null,null,null,null,null,null,null,null,null,null,null,null,null,null,null,null,null,null,null,0,null,{"$error":"#N/A"},0,{"$error":"#N/A"},{"$error":"#N/A"},0,{"$error":"#N/A"}]
[null,36,{"$f":"'Data Siswa'!D41","v":0},null,null,null,null,null,null,null,null,null,null,null,null,null,null,null,null,null,null,null,null,null,null,null,null,0,null,{"$error":"#N/A"},0,{"$error":"#N/A"},{"$error":"#N/A"},0,{"$error":"#N/A"}]
[null,37,{"$f":"'Data Siswa'!D42","v":0},null,null,null,null,null,null,null,null,null,null,null,null,null,null,null,null,null,null,null,null,null,null,null,null,0,null,{"$error":"#N/A"},0,{"$error":"#N/A"},{"$error":"#N/A"},0,{"$error":"#N/A"}]
[null,38,{"$f":"'Data Siswa'!D43","v":0},null,null,null,null,null,null,null,null,null,null,null,null,null,null,null,null,null,null,null,null,null,null,null,null,0,null,{"$error":"#N/A"},0,{"$error":"#N/A"},{"$error":"#N/A"},0,{"$error":"#N/A"}]
[null,39,{"$f":"'Data Siswa'!D44","v":0},null,null,null,null,null,null,null,null,null,null,null,null,null,null,null,null,null,null,null,null,null,null,null,null,0,null,{"$error":"#N/A"},0,{"$error":"#N/A"},{"$error":"#N/A"},0,{"$error":"#N/A"}]
[null,40,{"$f":"'Data Siswa'!D45","v":0},null,null,null,null,null,null,null,null,null,null,null,null,null,null,null,null,null,null,null,null,null,null,null,null,0,null,{"$error":"#N/A"},0,{"$error":"#N/A"},{"$error":"#N/A"},0,{"$error":"#N/A"}]
[null,41,{"$f":"'Data Siswa'!D46","v":0},null,null,null,null,null,null,null,null,null,null,null,null,null,null,null,null,null,null,null,null,null,null,null,null,0,null,{"$error":"#N/A"},0,{"$error":"#N/A"},{"$error":"#N/A"},0,{"$error":"#N/A"}]
[null,42,{"$f":"'Data Siswa'!D47","v":0},null,null,null,null,null,null,null,null,null,null,null,null,null,null,null,null,null,null,null,null,null,null,null,null,0,null,{"$error":"#N/A"},0,{"$error":"#N/A"},{"$error":"#N/A"},0,{"$error":"#N/A"}]
[null,43,{"$f":"'Data Siswa'!D48","v":0},null,null,null,null,null,null,null,null,null,null,null,null,null,null,null,null,null,null,null,null,null,null,null,null,0,null,{"$error":"#N/A"},0,{"$error":"#N/A"},{"$error":"#N/A"},0,{"$error":"#N/A"}]
[null,44,{"$f":"'Data Siswa'!D49","v":0},null,null,null,null,null,null,null,null,null,null,null,null,null,null,null,null,null,null,null,null,null,null,null,null,0,null,{"$error":"#N/A"},0,{"$error":"#N/A"},{"$error":"#N/A"},0,{"$error":"#N/A"}]
[null,45,{"$f":"'Data Siswa'!D50","v":0},null,null,null,null,null,null,null,null,null,null,null,null,null,null,null,null,null,null,null,null,null,null,null,null,0,null,{"$error":"#N/A"},0,{"$error":"#N/A"},{"$error":"#N/A"},0,{"$error":"#N/A"}]
[null,46,{"$f":"'Data Siswa'!D51","v":0},null,null,null,null,null,null,null,null,null,null,null,null,null,null,null,null,null,null,null,null,null,null,null,null,0,null,{"$error":"#N/A"},0,{"$error":"#N/A"},{"$error":"#N/A"},0,{"$error":"#N/A"}]
[null,47,{"$f":"'Data Siswa'!D52","v":0},null,null,null,null,null,null,null,null,null,null,null,null,null,null,null,null,null,null,null,null,null,null,null,null,{"$f":"IFERROR(AVERAGE(D58:AA58),0)","v":0},null,{"$error":"#N/A"},0,{"$error":"#N/A"},{"$error":"#N/A"},0,{"$error":"#N/A"}]
[null,48,{"$f":"'Data Siswa'!D53","v":0},null,null,null,null,null,null,null,null,null,null,null,null,null,null,null,null,null,null,null,null,null,null,null,null,0,null,{"$error":"#N/A"},0,{"$error":"#N/A"},{"$error":"#N/A"},0,{"$error":"#N/A"}]
[null,49,{"$f":"'Data Siswa'!D54","v":0},null,null,null,null,null,null,null,null,null,null,null,null,null,null,null,null,null,null,null,null,null,null,null,null,0,null,{"$error":"#N/A"},0,{"$error":"#N/A"},{"$error":"#N/A"},0,{"$error":"#N/A"}]
[null,50,{"$f":"'Data Siswa'!D55","v":0},null,null,null,null,null,null,null,null,null,null,null,null,null,null,null,null,null,null,null,null,null,null,null,null,0,null,{"$error":"#N/A"},0,{"$error":"#N/A"},{"$error":"#N/A"},0,{"$error":"#N/A"}]
[null,"RATA-RATA",null,{"$f":"IFERROR(AVERAGE(D12:D61),0)","v":0},{"$f":"IFERROR(AVERAGE(E12:E61),0)","v":0},0,0,0,0,0,0,0,0,0,0,0,0,0,0,0,0,0,0,0,0,0,0]

{"sheet":"TP TEATER","index":29,"n_rows":28,"n_cols":10,"rows_kept":28,"cut":false,"hidden":false,"merged":[[2,0,2,5],[2,6,2,9]]}
[]
[]
["ALUR TUJUAN PEMBELAJARAN ",null,null,null,null,null,"LINGKUP MATERI"]
[]
[null,"Mata Pelajaran",null,null,{"$f":"\": \"&IDENTITAS!$G$14","v":": Seni Teater"},null,null,"Mata Pelajaran",null,{"$f":"\": \"&IDENTITAS!$G$14","v":": Seni Teater"}]
[null,"Semester",null,null,{"$f":"\": \"&IDENTITAS!$D$21","v":": "},null,null,"Semester",null,{"$f":"\": \"&IDENTITAS!$D$21","v":": "}]
[]
[null,null,null,"No","Tujuan Pembelajaran",null,null,null,"No","Lingkup Materi"]
[null,null,null,1,1,null,null,null,1]
[null,null,null,2,2,null,null,null,2]
[null,null,null,3,3,null,null,null,3]
[null,null,null,4,4,null,null,null,4]
[null,null,null,5,5,null,null,null,5]
[null,null,null,6,6,null,null,null,6]
[null,null,null,7,7,null,null,null,"Catatan: Tuliskan lingkup materi pelajaran yang anda ajarkan. Contoh: Siklus Air"]
[null,null,null,8,8]
[null,null,null,9,9]
[null,null,null,10,10]
[null,null,null,11,11]
[null,null,null,12,12]
[null,null,null,13,13]
[null,null,null,14,14]
[null,null,null,15,15]
[null,null,null,16,16]
[null,null,null,17,17]
[null,null,null,18,18]
[null,null,null,19,19]
[null,null,null,20,20]

{"sheet":"TEATER","index":30,"n_rows":62,"n_cols":31,"rows_kept":62,"cut":false,"hidden":false,"merged":[[9,25,9,27],[9,28,9,30],[61,1,61,2],[2,0,2,23],[7,1,10,1],[7,2,10,2],[7,3,7,22],[7,23,10,23],[8,3,8,22]]}
[]
[]
["DAFTAR NILAI ASESMEN FORMATIF"]
[]
[null,null,"Mata Pelajaran",":","Seni Teater"]
[]
[]
[null,"No","NAMA SISWA","Seni Teater",null,null,null,null,null,null,null,null,null,null,null,null,null,null,null,null,null,null,null,"NILAI RAPOR"]
[null,null,null,"ASESMEN FORMATIF"]
[null,null,null,"TP 1","TP 2","TP 3","TP 4","TP 5","TP 6","TP 7","TP 8","TP 9","TP 10","TP 11","TP 12","TP 13","TP 14","TP 15","TP 16","TP 17","TP 18","TP 19","TP 20"]
[null,null,null,{"$f":"'TP TEATER'!E9","v":1},{"$f":"'TP TEATER'!E10","v":2},{"$f":"'TP TEATER'!E11","v":3},{"$f":"'TP TEATER'!E12","v":4},{"$f":"'TP TEATER'!E13","v":5},{"$f":"'TP TEATER'!E14","v":6},{"$f":"'TP TEATER'!E15","v":7},{"$f":"'TP TEATER'!E16","v":8},{"$f":"'TP TEATER'!E17","v":9},{"$f":"'TP TEATER'!E18","v":10},{"$f":"'TP TEATER'!E19","v":11},{"$f":"'TP TEATER'!E20","v":12},{"$f":"'TP TEATER'!E21","v":13},{"$f":"'TP TEATER'!E22","v":14},{"$f":"'TP TEATER'!E23","v":15},{"$f":"'TP TEATER'!E24","v":16},{"$f":"'TP TEATER'!E25","v":17},{"$f":"'TP TEATER'!E26","v":18},{"$f":"'TP TEATER'!E27","v":19},{"$f":"'TP TEATER'!E28","v":20},null,null,"TP","MAX","DESKRIPSI","TP","MIN","DESKRIPSI"]
[null,1,{"$f":"'Data Siswa'!D6","v":0},null,null,null,null,null,null,null,null,null,null,null,null,null,null,null,null,null,null,null,null,{"$f":"IFERROR(AVERAGE(D12:W12),0)","v":0},null,{"$f":"INDEX($D$11:$W$11,MATCH(AA12,D12:W12,0))","v":{"$error":"#N/A"}},{"$f":"MAX(D12:W12)","v":0},{"$f":"C12&\" sangat menguasai dalam \"&Z12","v":{"$error":"#N/A"}},{"$f":"INDEX($D$11:$W$11,MATCH(AD12,D12:W12,0))","v":{"$error":"#N/A"}},{"$f":"MIN(D12:W12)","v":0},{"$f":"C12&\" perlu bimbingan dalam \"&AC12","v":{"$error":"#N/A"}}]
[null,2,{"$f":"'Data Siswa'!D7","v":0},null,null,null,null,null,null,null,null,null,null,null,null,null,null,null,null,null,null,null,null,0,null,{"$f":"INDEX($D$11:$W$11,MATCH(AA13,D13:W13,0))","v":{"$error":"#N/A"}},{"$f":"MAX(D13:W13)","v":0},{"$f":"C13&\" sangat menguasai dalam \"&Z13","v":{"$error":"#N/A"}},{"$f":"INDEX($D$11:$W$11,MATCH(AD13,D13:W13,0))","v":{"$error":"#N/A"}},{"$f":"MIN(D13:W13)","v":0},{"$f":"C13&\" perlu bimbingan dalam \"&AC13","v":{"$error":"#N/A"}}]
[null,3,{"$f":"'Data Siswa'!D8","v":0},null,null,null,null,null,null,null,null,null,null,null,null,null,null,null,null,null,null,null,null,0,null,{"$error":"#N/A"},0,{"$error":"#N/A"},{"$error":"#N/A"},0,{"$error":"#N/A"}]
[null,4,{"$f":"'Data Siswa'!D9","v":0},null,null,null,null,null,null,null,null,null,null,null,null,null,null,null,null,null,null,null,null,0,null,{"$error":"#N/A"},0,{"$error":"#N/A"},{"$error":"#N/A"},0,{"$error":"#N/A"}]
[null,5,{"$f":"'Data Siswa'!D10","v":0},null,null,null,null,null,null,null,null,null,null,null,null,null,null,null,null,null,null,null,null,0,null,{"$error":"#N/A"},0,{"$error":"#N/A"},{"$error":"#N/A"},0,{"$error":"#N/A"}]
[null,6,{"$f":"'Data Siswa'!D11","v":0},null,null,null,null,null,null,null,null,null,null,null,null,null,null,null,null,null,null,null,null,0,null,{"$error":"#N/A"},0,{"$error":"#N/A"},{"$error":"#N/A"},0,{"$error":"#N/A"}]
[null,7,{"$f":"'Data Siswa'!D12","v":0},null,null,null,null,null,null,null,null,null,null,null,null,null,null,null,null,null,null,null,null,0,null,{"$error":"#N/A"},0,{"$error":"#N/A"},{"$error":"#N/A"},0,{"$error":"#N/A"}]
[null,8,{"$f":"'Data Siswa'!D13","v":0},null,null,null,null,null,null,null,null,null,null,null,null,null,null,null,null,null,null,null,null,0,null,{"$error":"#N/A"},0,{"$error":"#N/A"},{"$error":"#N/A"},0,{"$error":"#N/A"}]
[null,9,{"$f":"'Data Siswa'!D14","v":0},null,null,null,null,null,null,null,null,null,null,null,null,null,null,null,null,null,null,null,null,0,null,{"$error":"#N/A"},0,{"$error":"#N/A"},{"$error":"#N/A"},0,{"$error":"#N/A"}]
[null,10,{"$f":"'Data Siswa'!D15","v":0},null,null,null,null,null,null,null,null,null,null,null,null,null,null,null,null,null,null,null,null,0,null,{"$error":"#N/A"},0,{"$error":"#N/A"},{"$error":"#N/A"},0,{"$error":"#N/A"}]
[null,11,{"$f":"'Data Siswa'!D16","v":0},null,null,null,null,null,null,null,null,null,null,null,null,null,null,null,null,null,null,null,null,0,null,{"$error":"#N/A"},0,{"$error":"#N/A"},{"$error":"#N/A"},0,{"$error":"#N/A"}]
[null,12,{"$f":"'Data Siswa'!D17","v":0},null,null,null,null,null,null,null,null,null,null,null,null,null,null,null,null,null,null,null,null,0,null,{"$error":"#N/A"},0,{"$error":"#N/A"},{"$error":"#N/A"},0,{"$error":"#N/A"}]
[null,13,{"$f":"'Data Siswa'!D18","v":0},null,null,null,null,null,null,null,null,null,null,null,null,null,null,null,null,null,null,null,null,0,null,{"$error":"#N/A"},0,{"$error":"#N/A"},{"$error":"#N/A"},0,{"$error":"#N/A"}]
[null,14,{"$f":"'Data Siswa'!D19","v":0},null,null,null,null,null,null,null,null,null,null,null,null,null,null,null,null,null,null,null,null,0,null,{"$error":"#N/A"},0,{"$error":"#N/A"},{"$error":"#N/A"},0,{"$error":"#N/A"}]
[null,15,{"$f":"'Data Siswa'!D20","v":0},null,null,null,null,null,null,null,null,null,null,null,null,null,null,null,null,null,null,null,null,0,null,{"$error":"#N/A"},0,{"$error":"#N/A"},{"$error":"#N/A"},0,{"$error":"#N/A"}]
[null,16,{"$f":"'Data Siswa'!D21","v":0},null,null,null,null,null,null,null,null,null,null,null,null,null,null,null,null,null,null,null,null,0,null,{"$error":"#N/A"},0,{"$error":"#N/A"},{"$error":"#N/A"},0,{"$error":"#N/A"}]
[null,17,{"$f":"'Data Siswa'!D22","v":0},null,null,null,null,null,null,null,null,null,null,null,null,null,null,null,null,null,null,null,null,0,null,{"$error":"#N/A"},0,{"$error":"#N/A"},{"$error":"#N/A"},0,{"$error":"#N/A"}]
[null,18,{"$f":"'Data Siswa'!D23","v":0},null,null,null,null,null,null,null,null,null,null,null,null,null,null,null,null,null,null,null,null,0,null,{"$error":"#N/A"},0,{"$error":"#N/A"},{"$error":"#N/A"},0,{"$error":"#N/A"}]
[null,19,{"$f":"'Data Siswa'!D24","v":0},null,null,null,null,null,null,null,null,null,null,null,null,null,null,null,null,null,null,null,null,0,null,{"$error":"#N/A"},0,{"$error":"#N/A"},{"$error":"#N/A"},0,{"$error":"#N/A"}]
[null,20,{"$f":"'Data Siswa'!D25","v":0},null,null,null,null,null,null,null,null,null,null,null,null,null,null,null,null,null,null,null,null,0,null,{"$error":"#N/A"},0,{"$error":"#N/A"},{"$error":"#N/A"},0,{"$error":"#N/A"}]
[null,21,{"$f":"'Data Siswa'!D26","v":0},null,null,null,null,null,null,null,null,null,null,null,null,null,null,null,null,null,null,null,null,0,null,{"$error":"#N/A"},0,{"$error":"#N/A"},{"$error":"#N/A"},0,{"$error":"#N/A"}]
[null,22,{"$f":"'Data Siswa'!D27","v":0},null,null,null,null,null,null,null,null,null,null,null,null,null,null,null,null,null,null,null,null,0,null,{"$error":"#N/A"},0,{"$error":"#N/A"},{"$error":"#N/A"},0,{"$error":"#N/A"}]
[null,23,{"$f":"'Data Siswa'!D28","v":0},null,null,null,null,null,null,null,null,null,null,null,null,null,null,null,null,null,null,null,null,0,null,{"$error":"#N/A"},0,{"$error":"#N/A"},{"$error":"#N/A"},0,{"$error":"#N/A"}]
[null,24,{"$f":"'Data Siswa'!D29","v":0},null,null,null,null,null,null,null,null,null,null,null,null,null,null,null,null,null,null,null,null,0,null,{"$error":"#N/A"},0,{"$error":"#N/A"},{"$error":"#N/A"},0,{"$error":"#N/A"}]
[null,25,{"$f":"'Data Siswa'!D30","v":0},null,null,null,null,null,null,null,null,null,null,null,null,null,null,null,null,null,null,null,null,0,null,{"$error":"#N/A"},0,{"$error":"#N/A"},{"$error":"#N/A"},0,{"$error":"#N/A"}]
[null,26,{"$f":"'Data Siswa'!D31","v":0},null,null,null,null,null,null,null,null,null,null,null,null,null,null,null,null,null,null,null,null,0,null,{"$error":"#N/A"},0,{"$error":"#N/A"},{"$error":"#N/A"},0,{"$error":"#N/A"}]
[null,27,{"$f":"'Data Siswa'!D32","v":0},null,null,null,null,null,null,null,null,null,null,null,null,null,null,null,null,null,null,null,null,0,null,{"$error":"#N/A"},0,{"$error":"#N/A"},{"$error":"#N/A"},0,{"$error":"#N/A"}]
[null,28,{"$f":"'Data Siswa'!D33","v":0},null,null,null,null,null,null,null,null,null,null,null,null,null,null,null,null,null,null,null,null,0,null,{"$error":"#N/A"},0,{"$error":"#N/A"},{"$error":"#N/A"},0,{"$error":"#N/A"}]
[null,29,{"$f":"'Data Siswa'!D34","v":0},null,null,null,null,null,null,null,null,null,null,null,null,null,null,null,null,null,null,null,null,0,null,{"$error":"#N/A"},0,{"$error":"#N/A"},{"$error":"#N/A"},0,{"$error":"#N/A"}]
[null,30,{"$f":"'Data Siswa'!D35","v":0},null,null,null,null,null,null,null,null,null,null,null,null,null,null,null,null,null,null,null,null,0,null,{"$error":"#N/A"},0,{"$error":"#N/A"},{"$error":"#N/A"},0,{"$error":"#N/A"}]
[null,31,{"$f":"'Data Siswa'!D36","v":0},null,null,null,null,null,null,null,null,null,null,null,null,null,null,null,null,null,null,null,null,0,null,{"$error":"#N/A"},0,{"$error":"#N/A"},{"$error":"#N/A"},0,{"$error":"#N/A"}]
[null,32,{"$f":"'Data Siswa'!D37","v":0},null,null,null,null,null,null,null,null,null,null,null,null,null,null,null,null,null,null,null,null,0,null,{"$error":"#N/A"},0,{"$error":"#N/A"},{"$error":"#N/A"},0,{"$error":"#N/A"}]
[null,33,{"$f":"'Data Siswa'!D38","v":0},null,null,null,null,null,null,null,null,null,null,null,null,null,null,null,null,null,null,null,null,{"$f":"IFERROR(AVERAGE(D44:W44),0)","v":0},null,{"$error":"#N/A"},0,{"$error":"#N/A"},{"$error":"#N/A"},0,{"$error":"#N/A"}]
[null,34,{"$f":"'Data Siswa'!D39","v":0},null,null,null,null,null,null,null,null,null,null,null,null,null,null,null,null,null,null,null,null,0,null,{"$error":"#N/A"},0,{"$error":"#N/A"},{"$error":"#N/A"},0,{"$error":"#N/A"}]
[null,35,{"$f":"'Data Siswa'!D40","v":0},null,null,null,null,null,null,null,null,null,null,null,null,null,null,null,null,null,null,null,null,0,null,{"$error":"#N/A"},0,{"$error":"#N/A"},{"$error":"#N/A"},0,{"$error":"#N/A"}]
[null,36,{"$f":"'Data Siswa'!D41","v":0},null,null,null,null,null,null,null,null,null,null,null,null,null,null,null,null,null,null,null,null,0,null,{"$error":"#N/A"},0,{"$error":"#N/A"},{"$error":"#N/A"},0,{"$error":"#N/A"}]
[null,37,{"$f":"'Data Siswa'!D42","v":0},null,null,null,null,null,null,null,null,null,null,null,null,null,null,null,null,null,null,null,null,0,null,{"$error":"#N/A"},0,{"$error":"#N/A"},{"$error":"#N/A"},0,{"$error":"#N/A"}]
[null,38,{"$f":"'Data Siswa'!D43","v":0},null,null,null,null,null,null,null,null,null,null,null,null,null,null,null,null,null,null,null,null,0,null,{"$error":"#N/A"},0,{"$error":"#N/A"},{"$error":"#N/A"},0,{"$error":"#N/A"}]
[null,39,{"$f":"'Data Siswa'!D44","v":0},null,null,null,null,null,null,null,null,null,null,null,null,null,null,null,null,null,null,null,null,0,null,{"$error":"#N/A"},0,{"$error":"#N/A"},{"$error":"#N/A"},0,{"$error":"#N/A"}]
[null,40,{"$f":"'Data Siswa'!D45","v":0},null,null,null,null,null,null,null,null,null,null,null,null,null,null,null,null,null,null,null,null,0,null,{"$error":"#N/A"},0,{"$error":"#N/A"},{"$error":"#N/A"},0,{"$error":"#N/A"}]
[null,41,{"$f":"'Data Siswa'!D46","v":0},null,null,null,null,null,null,null,null,null,null,null,null,null,null,null,null,null,null,null,null,0,null,{"$error":"#N/A"},0,{"$error":"#N/A"},{"$error":"#N/A"},0,{"$error":"#N/A"}]
[null,42,{"$f":"'Data Siswa'!D47","v":0},null,null,null,null,null,null,null,null,null,null,null,null,null,null,null,null,null,null,null,null,0,null,{"$error":"#N/A"},0,{"$error":"#N/A"},{"$error":"#N/A"},0,{"$error":"#N/A"}]
[null,43,{"$f":"'Data Siswa'!D48","v":0},null,null,null,null,null,null,null,null,null,null,null,null,null,null,null,null,null,null,null,null,0,null,{"$error":"#N/A"},0,{"$error":"#N/A"},{"$error":"#N/A"},0,{"$error":"#N/A"}]
[null,44,{"$f":"'Data Siswa'!D49","v":0},null,null,null,null,null,null,null,null,null,null,null,null,null,null,null,null,null,null,null,null,0,null,{"$error":"#N/A"},0,{"$error":"#N/A"},{"$error":"#N/A"},0,{"$error":"#N/A"}]
[null,45,{"$f":"'Data Siswa'!D50","v":0},null,null,null,null,null,null,null,null,null,null,null,null,null,null,null,null,null,null,null,null,0,null,{"$error":"#N/A"},0,{"$error":"#N/A"},{"$error":"#N/A"},0,{"$error":"#N/A"}]
[null,46,{"$f":"'Data Siswa'!D51","v":0},null,null,null,null,null,null,null,null,null,null,null,null,null,null,null,null,null,null,null,null,0,null,{"$error":"#N/A"},0,{"$error":"#N/A"},{"$error":"#N/A"},0,{"$error":"#N/A"}]
[null,47,{"$f":"'Data Siswa'!D52","v":0},null,null,null,null,null,null,null,null,null,null,null,null,null,null,null,null,null,null,null,null,0,null,{"$error":"#N/A"},0,{"$error":"#N/A"},{"$error":"#N/A"},0,{"$error":"#N/A"}]
[null,48,{"$f":"'Data Siswa'!D53","v":0},null,null,null,null,null,null,null,null,null,null,null,null,null,null,null,null,null,null,null,null,0,null,{"$error":"#N/A"},0,{"$error":"#N/A"},{"$error":"#N/A"},0,{"$error":"#N/A"}]
[null,49,{"$f":"'Data Siswa'!D54","v":0},null,null,null,null,null,null,null,null,null,null,null,null,null,null,null,null,null,null,null,null,0,null,{"$error":"#N/A"},0,{"$error":"#N/A"},{"$error":"#N/A"},0,{"$error":"#N/A"}]
[null,50,{"$f":"'Data Siswa'!D55","v":0},null,null,null,null,null,null,null,null,null,null,null,null,null,null,null,null,null,null,null,null,0,null,{"$error":"#N/A"},0,{"$error":"#N/A"},{"$error":"#N/A"},0,{"$error":"#N/A"}]
[null,"RATA-RATA",null,{"$f":"IFERROR(AVERAGE(D12:D61),0)","v":0},{"$f":"IFERROR(AVERAGE(E12:E61),0)","v":0},0,0,0,0,0,0,0,0,0,0,0,0,0,0,0,0,0,0]

{"sheet":"SUMTEATER","index":31,"n_rows":62,"n_cols":35,"rows_kept":62,"cut":false,"hidden":false,"merged":[[9,29,9,31],[9,32,9,34],[61,1,61,2],[9,9,9,10],[9,11,9,12],[9,13,9,14],[9,15,9,16],[9,17,9,18],[9,19,9,20],[2,0,2,27],[7,1,10,1],[7,2,10,2],[7,3,7,26],[7,27,10,27],[8,3,8,14],[8,15,8,26],[9,3,9,4],[9,5,9,6],[9,7,9,8],[9,21,9,22],[9,23,9,24],[9,25,9,26]]}
[]
[]
["DAFTAR NILAI ASESMEN SUMATIF"]
[]
[null,null,"Mata Pelajaran",":",null,"Seni Teater"]
[]
[]
[null,"No","NAMA SISWA","Seni Teater",null,null,null,null,null,null,null,null,null,null,null,null,null,null,null,null,null,null,null,null,null,null,null,"NILAI RAPOR"]
[null,null,null,"ASESMEN SUMATIF  AKHIR MATERI",null,null,null,null,null,null,null,null,null,null,null,"ASESMEN SUMATIF AKHIR SEMESTER *"]
[null,null,null,{"$f":"'TP TEATER'!J9","v":0},null,{"$f":"'TP TEATER'!J10","v":0},null,{"$f":"'TP TEATER'!J11","v":0},null,{"$f":"'TP TEATER'!J12","v":0},null,{"$f":"'TP TEATER'!J13","v":0},null,{"$f":"'TP TEATER'!J14","v":0},null,{"$f":"'TP TEATER'!J9","v":0},null,{"$f":"'TP TEATER'!J10","v":0},null,{"$f":"'TP TEATER'!J11","v":0},null,{"$f":"'TP TEATER'!J12","v":0},null,{"$f":"'TP TEATER'!J13","v":0},null,{"$f":"'TP TEATER'!J14","v":0}]
[null,null,null,"Tes","Non Tes","Tes","Non Tes","Tes","Non Tes","Tes","Non Tes","Tes","Non Tes","Tes","Non Tes","Tes","Non Tes","Tes","Non Tes","Tes","Non Tes","Tes","Non Tes","Tes","Non Tes","Tes","Non Tes",null,null,"TP","MAX","DESKRIPSI","TP","MIN","DESKRIPSI"]
[null,1,{"$f":"'Data Siswa'!D6","v":0},null,null,null,null,null,null,null,null,null,null,null,null,null,null,null,null,null,null,null,null,null,null,null,null,{"$f":"IFERROR(AVERAGE(D12:AA12),0)","v":0},null,{"$f":"INDEX($D$11:$AA$11,MATCH(AE12,D12:AA12,0))","v":{"$error":"#N/A"}},{"$f":"MAX(D12:AA12)","v":0},{"$f":"C12&\" sangat menguasai dalam \"&AD12","v":{"$error":"#N/A"}},{"$f":"INDEX($D$11:$AA$11,MATCH(AH12,D12:AA12,0))","v":{"$error":"#N/A"}},{"$f":"MIN(D12:AA12)","v":0},{"$f":"C12&\" perlu bimbingan dalam \"&AG12","v":{"$error":"#N/A"}}]
[null,2,{"$f":"'Data Siswa'!D7","v":0},null,null,null,null,null,null,null,null,null,null,null,null,null,null,null,null,null,null,null,null,null,null,null,null,{"$f":"IFERROR(AVERAGE(D13:AA13),0)","v":0},null,{"$error":"#N/A"},0,{"$error":"#N/A"},{"$error":"#N/A"},0,{"$error":"#N/A"}]
[null,3,{"$f":"'Data Siswa'!D8","v":0},null,null,null,null,null,null,null,null,null,null,null,null,null,null,null,null,null,null,null,null,null,null,null,null,0,null,{"$error":"#N/A"},0,{"$error":"#N/A"},{"$error":"#N/A"},0,{"$error":"#N/A"}]
[null,4,{"$f":"'Data Siswa'!D9","v":0},null,null,null,null,null,null,null,null,null,null,null,null,null,null,null,null,null,null,null,null,null,null,null,null,0,null,{"$error":"#N/A"},0,{"$error":"#N/A"},{"$error":"#N/A"},0,{"$error":"#N/A"}]
[null,5,{"$f":"'Data Siswa'!D10","v":0},null,null,null,null,null,null,null,null,null,null,null,null,null,null,null,null,null,null,null,null,null,null,null,null,0,null,{"$error":"#N/A"},0,{"$error":"#N/A"},{"$error":"#N/A"},0,{"$error":"#N/A"}]
[null,6,{"$f":"'Data Siswa'!D11","v":0},null,null,null,null,null,null,null,null,null,null,null,null,null,null,null,null,null,null,null,null,null,null,null,null,{"$f":"IFERROR(AVERAGE(D17:AA17),0)","v":0},null,{"$error":"#N/A"},0,{"$error":"#N/A"},{"$error":"#N/A"},0,{"$error":"#N/A"}]
[null,7,{"$f":"'Data Siswa'!D12","v":0},null,null,null,null,null,null,null,null,null,null,null,null,null,null,null,null,null,null,null,null,null,null,null,null,0,null,{"$error":"#N/A"},0,{"$error":"#N/A"},{"$error":"#N/A"},0,{"$error":"#N/A"}]
[null,8,{"$f":"'Data Siswa'!D13","v":0},null,null,null,null,null,null,null,null,null,null,null,null,null,null,null,null,null,null,null,null,null,null,null,null,0,null,{"$error":"#N/A"},0,{"$error":"#N/A"},{"$error":"#N/A"},0,{"$error":"#N/A"}]
[null,9,{"$f":"'Data Siswa'!D14","v":0},null,null,null,null,null,null,null,null,null,null,null,null,null,null,null,null,null,null,null,null,null,null,null,null,0,null,{"$error":"#N/A"},0,{"$error":"#N/A"},{"$error":"#N/A"},0,{"$error":"#N/A"}]
[null,10,{"$f":"'Data Siswa'!D15","v":0},null,null,null,null,null,null,null,null,null,null,null,null,null,null,null,null,null,null,null,null,null,null,null,null,0,null,{"$error":"#N/A"},0,{"$error":"#N/A"},{"$error":"#N/A"},0,{"$error":"#N/A"}]
[null,11,{"$f":"'Data Siswa'!D16","v":0},null,null,null,null,null,null,null,null,null,null,null,null,null,null,null,null,null,null,null,null,null,null,null,null,0,null,{"$error":"#N/A"},0,{"$error":"#N/A"},{"$error":"#N/A"},0,{"$error":"#N/A"}]
[null,12,{"$f":"'Data Siswa'!D17","v":0},null,null,null,null,null,null,null,null,null,null,null,null,null,null,null,null,null,null,null,null,null,null,null,null,0,null,{"$error":"#N/A"},0,{"$error":"#N/A"},{"$error":"#N/A"},0,{"$error":"#N/A"}]
[null,13,{"$f":"'Data Siswa'!D18","v":0},null,null,null,null,null,null,null,null,null,null,null,null,null,null,null,null,null,null,null,null,null,null,null,null,0,null,{"$error":"#N/A"},0,{"$error":"#N/A"},{"$error":"#N/A"},0,{"$error":"#N/A"}]
[null,14,{"$f":"'Data Siswa'!D19","v":0},null,null,null,null,null,null,null,null,null,null,null,null,null,null,null,null,null,null,null,null,null,null,null,null,0,null,{"$error":"#N/A"},0,{"$error":"#N/A"},{"$error":"#N/A"},0,{"$error":"#N/A"}]
[null,15,{"$f":"'Data Siswa'!D20","v":0},null,null,null,null,null,null,null,null,null,null,null,null,null,null,null,null,null,null,null,null,null,null,null,null,0,null,{"$error":"#N/A"},0,{"$error":"#N/A"},{"$error":"#N/A"},0,{"$error":"#N/A"}]
[null,16,{"$f":"'Data Siswa'!D21","v":0},null,null,null,null,null,null,null,null,null,null,null,null,null,null,null,null,null,null,null,null,null,null,null,null,0,null,{"$error":"#N/A"},0,{"$error":"#N/A"},{"$error":"#N/A"},0,{"$error":"#N/A"}]
[null,17,{"$f":"'Data Siswa'!D22","v":0},null,null,null,null,null,null,null,null,null,null,null,null,null,null,null,null,null,null,null,null,null,null,null,null,0,null,{"$error":"#N/A"},0,{"$error":"#N/A"},{"$error":"#N/A"},0,{"$error":"#N/A"}]
[null,18,{"$f":"'Data Siswa'!D23","v":0},null,null,null,null,null,null,null,null,null,null,null,null,null,null,null,null,null,null,null,null,null,null,null,null,0,null,{"$error":"#N/A"},0,{"$error":"#N/A"},{"$error":"#N/A"},0,{"$error":"#N/A"}]
[null,19,{"$f":"'Data Siswa'!D24","v":0},null,null,null,null,null,null,null,null,null,null,null,null,null,null,null,null,null,null,null,null,null,null,null,null,0,null,{"$error":"#N/A"},0,{"$error":"#N/A"},{"$error":"#N/A"},0,{"$error":"#N/A"}]
[null,20,{"$f":"'Data Siswa'!D25","v":0},null,null,null,null,null,null,null,null,null,null,null,null,null,null,null,null,null,null,null,null,null,null,null,null,0,null,{"$error":"#N/A"},0,{"$error":"#N/A"},{"$error":"#N/A"},0,{"$error":"#N/A"}]
[null,21,{"$f":"'Data Siswa'!D26","v":0},null,null,null,null,null,null,null,null,null,null,null,null,null,null,null,null,null,null,null,null,null,null,null,null,0,null,{"$error":"#N/A"},0,{"$error":"#N/A"},{"$error":"#N/A"},0,{"$error":"#N/A"}]
[null,22,{"$f":"'Data Siswa'!D27","v":0},null,null,null,null,null,null,null,null,null,null,null,null,null,null,null,null,null,null,null,null,null,null,null,null,0,null,{"$error":"#N/A"},0,{"$error":"#N/A"},{"$error":"#N/A"},0,{"$error":"#N/A"}]
[null,23,{"$f":"'Data Siswa'!D28","v":0},null,null,null,null,null,null,null,null,null,null,null,null,null,null,null,null,null,null,null,null,null,null,null,null,0,null,{"$error":"#N/A"},0,{"$error":"#N/A"},{"$error":"#N/A"},0,{"$error":"#N/A"}]
[null,24,{"$f":"'Data Siswa'!D29","v":0},null,null,null,null,null,null,null,null,null,null,null,null,null,null,null,null,null,null,null,null,null,null,null,null,0,null,{"$error":"#N/A"},0,{"$error":"#N/A"},{"$error":"#N/A"},0,{"$error":"#N/A"}]
[null,25,{"$f":"'Data Siswa'!D30","v":0},null,null,null,null,null,null,null,null,null,null,null,null,null,null,null,null,null,null,null,null,null,null,null,null,0,null,{"$error":"#N/A"},0,{"$error":"#N/A"},{"$error":"#N/A"},0,{"$error":"#N/A"}]
[null,26,{"$f":"'Data Siswa'!D31","v":0},null,null,null,null,null,null,null,null,null,null,null,null,null,null,null,null,null,null,null,null,null,null,null,null,0,null,{"$error":"#N/A"},0,{"$error":"#N/A"},{"$error":"#N/A"},0,{"$error":"#N/A"}]
[null,27,{"$f":"'Data Siswa'!D32","v":0},null,null,null,null,null,null,null,null,null,null,null,null,null,null,null,null,null,null,null,null,null,null,null,null,0,null,{"$error":"#N/A"},0,{"$error":"#N/A"},{"$error":"#N/A"},0,{"$error":"#N/A"}]
[null,28,{"$f":"'Data Siswa'!D33","v":0},null,null,null,null,null,null,null,null,null,null,null,null,null,null,null,null,null,null,null,null,null,null,null,null,0,null,{"$error":"#N/A"},0,{"$error":"#N/A"},{"$error":"#N/A"},0,{"$error":"#N/A"}]
[null,29,{"$f":"'Data Siswa'!D34","v":0},null,null,null,null,null,null,null,null,null,null,null,null,null,null,null,null,null,null,null,null,null,null,null,null,0,null,{"$error":"#N/A"},0,{"$error":"#N/A"},{"$error":"#N/A"},0,{"$error":"#N/A"}]
[null,30,{"$f":"'Data Siswa'!D35","v":0},null,null,null,null,null,null,null,null,null,null,null,null,null,null,null,null,null,null,null,null,null,null,null,null,0,null,{"$error":"#N/A"},0,{"$error":"#N/A"},{"$error":"#N/A"},0,{"$error":"#N/A"}]
[null,31,{"$f":"'Data Siswa'!D36","v":0},null,null,null,null,null,null,null,null,null,null,null,null,null,null,null,null,null,null,null,null,null,null,null,null,0,null,{"$error":"#N/A"},0,{"$error":"#N/A"},{"$error":"#N/A"},0,{"$error":"#N/A"}]
[null,32,{"$f":"'Data Siswa'!D37","v":0},null,null,null,null,null,null,null,null,null,null,null,null,null,null,null,null,null,null,null,null,null,null,null,null,0,null,{"$error":"#N/A"},0,{"$error":"#N/A"},{"$error":"#N/A"},0,{"$error":"#N/A"}]
[null,33,{"$f":"'Data Siswa'!D38","v":0},null,null,null,null,null,null,null,null,null,null,null,null,null,null,null,null,null,null,null,null,null,null,null,null,0,null,{"$error":"#N/A"},0,{"$f":"C44&\" sangat menguasai dalam \"&AD44","v":{"$error":"#N/A"}},{"$error":"#N/A"},0,{"$f":"C44&\" perlu bimbingan dalam \"&AG44","v":{"$error":"#N/A"}}]
[null,34,{"$f":"'Data Siswa'!D39","v":0},null,null,null,null,null,null,null,null,null,null,null,null,null,null,null,null,null,null,null,null,null,null,null,null,0,null,{"$error":"#N/A"},0,{"$error":"#N/A"},{"$error":"#N/A"},0,{"$error":"#N/A"}]
[null,35,{"$f":"'Data Siswa'!D40","v":0},null,null,null,null,null,null,null,null,null,null,null,null,null,null,null,null,null,null,null,null,null,null,null,null,0,null,{"$error":"#N/A"},0,{"$error":"#N/A"},{"$error":"#N/A"},0,{"$error":"#N/A"}]
[null,36,{"$f":"'Data Siswa'!D41","v":0},null,null,null,null,null,null,null,null,null,null,null,null,null,null,null,null,null,null,null,null,null,null,null,null,0,null,{"$error":"#N/A"},0,{"$error":"#N/A"},{"$error":"#N/A"},0,{"$error":"#N/A"}]
[null,37,{"$f":"'Data Siswa'!D42","v":0},null,null,null,null,null,null,null,null,null,null,null,null,null,null,null,null,null,null,null,null,null,null,null,null,0,null,{"$error":"#N/A"},0,{"$error":"#N/A"},{"$error":"#N/A"},0,{"$error":"#N/A"}]
[null,38,{"$f":"'Data Siswa'!D43","v":0},null,null,null,null,null,null,null,null,null,null,null,null,null,null,null,null,null,null,null,null,null,null,null,null,0,null,{"$error":"#N/A"},0,{"$error":"#N/A"},{"$error":"#N/A"},0,{"$error":"#N/A"}]
[null,39,{"$f":"'Data Siswa'!D44","v":0},null,null,null,null,null,null,null,null,null,null,null,null,null,null,null,null,null,null,null,null,null,null,null,null,0,null,{"$error":"#N/A"},0,{"$error":"#N/A"},{"$error":"#N/A"},0,{"$error":"#N/A"}]
[null,40,{"$f":"'Data Siswa'!D45","v":0},null,null,null,null,null,null,null,null,null,null,null,null,null,null,null,null,null,null,null,null,null,null,null,null,0,null,{"$error":"#N/A"},0,{"$error":"#N/A"},{"$error":"#N/A"},0,{"$error":"#N/A"}]
[null,41,{"$f":"'Data Siswa'!D46","v":0},null,null,null,null,null,null,null,null,null,null,null,null,null,null,null,null,null,null,null,null,null,null,null,null,0,null,{"$error":"#N/A"},0,{"$error":"#N/A"},{"$error":"#N/A"},0,{"$error":"#N/A"}]
[null,42,{"$f":"'Data Siswa'!D47","v":0},null,null,null,null,null,null,null,null,null,null,null,null,null,null,null,null,null,null,null,null,null,null,null,null,0,null,{"$error":"#N/A"},0,{"$error":"#N/A"},{"$error":"#N/A"},0,{"$error":"#N/A"}]
[null,43,{"$f":"'Data Siswa'!D48","v":0},null,null,null,null,null,null,null,null,null,null,null,null,null,null,null,null,null,null,null,null,null,null,null,null,0,null,{"$error":"#N/A"},0,{"$error":"#N/A"},{"$error":"#N/A"},0,{"$error":"#N/A"}]
[null,44,{"$f":"'Data Siswa'!D49","v":0},null,null,null,null,null,null,null,null,null,null,null,null,null,null,null,null,null,null,null,null,null,null,null,null,0,null,{"$error":"#N/A"},0,{"$error":"#N/A"},{"$error":"#N/A"},0,{"$error":"#N/A"}]
[null,45,{"$f":"'Data Siswa'!D50","v":0},null,null,null,null,null,null,null,null,null,null,null,null,null,null,null,null,null,null,null,null,null,null,null,null,0,null,{"$error":"#N/A"},0,{"$error":"#N/A"},{"$error":"#N/A"},0,{"$error":"#N/A"}]
[null,46,{"$f":"'Data Siswa'!D51","v":0},null,null,null,null,null,null,null,null,null,null,null,null,null,null,null,null,null,null,null,null,null,null,null,null,0,null,{"$error":"#N/A"},0,{"$error":"#N/A"},{"$error":"#N/A"},0,{"$error":"#N/A"}]
[null,47,{"$f":"'Data Siswa'!D52","v":0},null,null,null,null,null,null,null,null,null,null,null,null,null,null,null,null,null,null,null,null,null,null,null,null,{"$f":"IFERROR(AVERAGE(D58:AA58),0)","v":0},null,{"$error":"#N/A"},0,{"$error":"#N/A"},{"$error":"#N/A"},0,{"$error":"#N/A"}]
[null,48,{"$f":"'Data Siswa'!D53","v":0},null,null,null,null,null,null,null,null,null,null,null,null,null,null,null,null,null,null,null,null,null,null,null,null,0,null,{"$error":"#N/A"},0,{"$error":"#N/A"},{"$error":"#N/A"},0,{"$error":"#N/A"}]
[null,49,{"$f":"'Data Siswa'!D54","v":0},null,null,null,null,null,null,null,null,null,null,null,null,null,null,null,null,null,null,null,null,null,null,null,null,0,null,{"$error":"#N/A"},0,{"$error":"#N/A"},{"$error":"#N/A"},0,{"$error":"#N/A"}]
[null,50,{"$f":"'Data Siswa'!D55","v":0},null,null,null,null,null,null,null,null,null,null,null,null,null,null,null,null,null,null,null,null,null,null,null,null,0,null,{"$error":"#N/A"},0,{"$error":"#N/A"},{"$error":"#N/A"},0,{"$error":"#N/A"}]
[null,"RATA-RATA",null,{"$f":"IFERROR(AVERAGE(D12:D61),0)","v":0},{"$f":"IFERROR(AVERAGE(E12:E61),0)","v":0},0,0,0,0,0,0,0,0,0,0,0,0,0,0,0,0,0,0,0,0,0,0]

{"sheet":"TP PJOK","index":32,"n_rows":28,"n_cols":10,"rows_kept":28,"cut":false,"hidden":false,"merged":[[2,0,2,5],[2,6,2,9]]}
[]
[]
["ALUR TUJUAN PEMBELAJARAN ",null,null,null,null,null,"LINGKUP MATERI"]
[]
[null,"Mata Pelajaran",null,null,{"$f":"\": \"&IDENTITAS!$G$15","v":": Pendidikan Jasmani dan Olahraga"},null,null,"Mata Pelajaran",null,{"$f":"\": \"&IDENTITAS!$G$15","v":": Pendidikan Jasmani dan Olahraga"}]
[null,"Semester",null,null,{"$f":"\": \"&IDENTITAS!$D$21","v":": "},null,null,"Semester",null,{"$f":"\": \"&IDENTITAS!$D$21","v":": "}]
[]
[null,null,null,"No","Tujuan Pembelajaran",null,null,null,"No","Lingkup Materi"]
[null,null,null,1,null,null,null,null,1]
[null,null,null,2,null,null,null,null,2]
[null,null,null,3,null,null,null,null,3]
[null,null,null,4,null,null,null,null,4]
[null,null,null,5,null,null,null,null,5]
[null,null,null,6,null,null,null,null,6]
[null,null,null,7,null,null,null,null,"Catatan: Tuliskan lingkup materi pelajaran yang anda ajarkan. Contoh: Siklus Air"]
[null,null,null,8]
[null,null,null,9]
[null,null,null,10]
[null,null,null,11]
[null,null,null,12]
[null,null,null,13]
[null,null,null,14]
[null,null,null,15]
[null,null,null,16]
[null,null,null,17]
[null,null,null,18]
[null,null,null,19]
[null,null,null,20]

{"sheet":"PJOK","index":33,"n_rows":62,"n_cols":31,"rows_kept":62,"cut":false,"hidden":false,"merged":[[9,25,9,27],[9,28,9,30],[61,1,61,2],[2,0,2,23],[7,1,10,1],[7,2,10,2],[7,3,7,22],[7,23,10,23],[8,3,8,22]]}
[]
[]
["DAFTAR NILAI ASESMEN FORMATIF"]
[]
[null,null,"Mata Pelajaran",":","Pendidikan Jasmani dan Olahraga"]
[]
[]
[null,"No","NAMA SISWA","Pendidikan Jasmani dan Olahraga",null,null,null,null,null,null,null,null,null,null,null,null,null,null,null,null,null,null,null,"NILAI RAPOR"]
[null,null,null,"ASESMEN FORMATIF"]
[null,null,null,"TP 1","TP 2","TP 3","TP 4","TP 5","TP 6","TP 7","TP 8","TP 9","TP 10","TP 11","TP 12","TP 13","TP 14","TP 15","TP 16","TP 17","TP 18","TP 19","TP 20"]
[null,null,null,{"$f":"'TP PJOK'!E9","v":0},{"$f":"'TP PJOK'!E10","v":0},{"$f":"'TP PJOK'!E11","v":0},{"$f":"'TP PJOK'!E12","v":0},{"$f":"'TP PJOK'!E13","v":0},{"$f":"'TP PJOK'!E14","v":0},{"$f":"'TP PJOK'!E15","v":0},{"$f":"'TP PJOK'!E16","v":0},{"$f":"'TP PJOK'!E17","v":0},{"$f":"'TP PJOK'!E18","v":0},{"$f":"'TP PJOK'!E19","v":0},{"$f":"'TP PJOK'!E20","v":0},{"$f":"'TP PJOK'!E21","v":0},{"$f":"'TP PJOK'!E22","v":0},{"$f":"'TP PJOK'!E23","v":0},{"$f":"'TP PJOK'!E24","v":0},{"$f":"'TP PJOK'!E25","v":0},{"$f":"'TP PJOK'!E26","v":0},{"$f":"'TP PJOK'!E27","v":0},{"$f":"'TP PJOK'!E28","v":0},null,null,"TP","MAX","DESKRIPSI","TP","MIN","DESKRIPSI"]
[null,1,{"$f":"'Data Siswa'!D6","v":0},null,null,null,null,null,null,null,null,null,null,null,null,null,null,null,null,null,null,null,null,{"$f":"IFERROR(AVERAGE(D12:W12),0)","v":0},null,{"$f":"INDEX($D$11:$W$11,MATCH(AA12,D12:W12,0))","v":{"$error":"#N/A"}},{"$f":"MAX(D12:W12)","v":0},{"$f":"C12&\" sangat menguasai dalam \"&Z12","v":{"$error":"#N/A"}},{"$f":"INDEX($D$11:$W$11,MATCH(AD12,D12:W12,0))","v":{"$error":"#N/A"}},{"$f":"MIN(D12:W12)","v":0},{"$f":"C12&\" perlu bimbingan dalam \"&AC12","v":{"$error":"#N/A"}}]
[null,2,{"$f":"'Data Siswa'!D7","v":0},null,null,null,null,null,null,null,null,null,null,null,null,null,null,null,null,null,null,null,null,0,null,{"$f":"INDEX($D$11:$W$11,MATCH(AA13,D13:W13,0))","v":{"$error":"#N/A"}},{"$f":"MAX(D13:W13)","v":0},{"$f":"C13&\" sangat menguasai dalam \"&Z13","v":{"$error":"#N/A"}},{"$f":"INDEX($D$11:$W$11,MATCH(AD13,D13:W13,0))","v":{"$error":"#N/A"}},{"$f":"MIN(D13:W13)","v":0},{"$f":"C13&\" perlu bimbingan dalam \"&AC13","v":{"$error":"#N/A"}}]
[null,3,{"$f":"'Data Siswa'!D8","v":0},null,null,null,null,null,null,null,null,null,null,null,null,null,null,null,null,null,null,null,null,0,null,{"$error":"#N/A"},0,{"$error":"#N/A"},{"$error":"#N/A"},0,{"$error":"#N/A"}]
[null,4,{"$f":"'Data Siswa'!D9","v":0},null,null,null,null,null,null,null,null,null,null,null,null,null,null,null,null,null,null,null,null,0,null,{"$error":"#N/A"},0,{"$error":"#N/A"},{"$error":"#N/A"},0,{"$error":"#N/A"}]
[null,5,{"$f":"'Data Siswa'!D10","v":0},null,null,null,null,null,null,null,null,null,null,null,null,null,null,null,null,null,null,null,null,0,null,{"$error":"#N/A"},0,{"$error":"#N/A"},{"$error":"#N/A"},0,{"$error":"#N/A"}]
[null,6,{"$f":"'Data Siswa'!D11","v":0},null,null,null,null,null,null,null,null,null,null,null,null,null,null,null,null,null,null,null,null,0,null,{"$error":"#N/A"},0,{"$error":"#N/A"},{"$error":"#N/A"},0,{"$error":"#N/A"}]
[null,7,{"$f":"'Data Siswa'!D12","v":0},null,null,null,null,null,null,null,null,null,null,null,null,null,null,null,null,null,null,null,null,0,null,{"$error":"#N/A"},0,{"$error":"#N/A"},{"$error":"#N/A"},0,{"$error":"#N/A"}]
[null,8,{"$f":"'Data Siswa'!D13","v":0},null,null,null,null,null,null,null,null,null,null,null,null,null,null,null,null,null,null,null,null,0,null,{"$error":"#N/A"},0,{"$error":"#N/A"},{"$error":"#N/A"},0,{"$error":"#N/A"}]
[null,9,{"$f":"'Data Siswa'!D14","v":0},null,null,null,null,null,null,null,null,null,null,null,null,null,null,null,null,null,null,null,null,0,null,{"$error":"#N/A"},0,{"$error":"#N/A"},{"$error":"#N/A"},0,{"$error":"#N/A"}]
[null,10,{"$f":"'Data Siswa'!D15","v":0},null,null,null,null,null,null,null,null,null,null,null,null,null,null,null,null,null,null,null,null,0,null,{"$error":"#N/A"},0,{"$error":"#N/A"},{"$error":"#N/A"},0,{"$error":"#N/A"}]
[null,11,{"$f":"'Data Siswa'!D16","v":0},null,null,null,null,null,null,null,null,null,null,null,null,null,null,null,null,null,null,null,null,0,null,{"$error":"#N/A"},0,{"$error":"#N/A"},{"$error":"#N/A"},0,{"$error":"#N/A"}]
[null,12,{"$f":"'Data Siswa'!D17","v":0},null,null,null,null,null,null,null,null,null,null,null,null,null,null,null,null,null,null,null,null,0,null,{"$error":"#N/A"},0,{"$error":"#N/A"},{"$error":"#N/A"},0,{"$error":"#N/A"}]
[null,13,{"$f":"'Data Siswa'!D18","v":0},null,null,null,null,null,null,null,null,null,null,null,null,null,null,null,null,null,null,null,null,0,null,{"$error":"#N/A"},0,{"$error":"#N/A"},{"$error":"#N/A"},0,{"$error":"#N/A"}]
[null,14,{"$f":"'Data Siswa'!D19","v":0},null,null,null,null,null,null,null,null,null,null,null,null,null,null,null,null,null,null,null,null,0,null,{"$error":"#N/A"},0,{"$error":"#N/A"},{"$error":"#N/A"},0,{"$error":"#N/A"}]
[null,15,{"$f":"'Data Siswa'!D20","v":0},null,null,null,null,null,null,null,null,null,null,null,null,null,null,null,null,null,null,null,null,0,null,{"$error":"#N/A"},0,{"$error":"#N/A"},{"$error":"#N/A"},0,{"$error":"#N/A"}]
[null,16,{"$f":"'Data Siswa'!D21","v":0},null,null,null,null,null,null,null,null,null,null,null,null,null,null,null,null,null,null,null,null,0,null,{"$error":"#N/A"},0,{"$error":"#N/A"},{"$error":"#N/A"},0,{"$error":"#N/A"}]
[null,17,{"$f":"'Data Siswa'!D22","v":0},null,null,null,null,null,null,null,null,null,null,null,null,null,null,null,null,null,null,null,null,0,null,{"$error":"#N/A"},0,{"$error":"#N/A"},{"$error":"#N/A"},0,{"$error":"#N/A"}]
[null,18,{"$f":"'Data Siswa'!D23","v":0},null,null,null,null,null,null,null,null,null,null,null,null,null,null,null,null,null,null,null,null,0,null,{"$error":"#N/A"},0,{"$error":"#N/A"},{"$error":"#N/A"},0,{"$error":"#N/A"}]
[null,19,{"$f":"'Data Siswa'!D24","v":0},null,null,null,null,null,null,null,null,null,null,null,null,null,null,null,null,null,null,null,null,0,null,{"$error":"#N/A"},0,{"$error":"#N/A"},{"$error":"#N/A"},0,{"$error":"#N/A"}]
[null,20,{"$f":"'Data Siswa'!D25","v":0},null,null,null,null,null,null,null,null,null,null,null,null,null,null,null,null,null,null,null,null,0,null,{"$error":"#N/A"},0,{"$error":"#N/A"},{"$error":"#N/A"},0,{"$error":"#N/A"}]
[null,21,{"$f":"'Data Siswa'!D26","v":0},null,null,null,null,null,null,null,null,null,null,null,null,null,null,null,null,null,null,null,null,0,null,{"$error":"#N/A"},0,{"$error":"#N/A"},{"$error":"#N/A"},0,{"$error":"#N/A"}]
[null,22,{"$f":"'Data Siswa'!D27","v":0},null,null,null,null,null,null,null,null,null,null,null,null,null,null,null,null,null,null,null,null,0,null,{"$error":"#N/A"},0,{"$error":"#N/A"},{"$error":"#N/A"},0,{"$error":"#N/A"}]
[null,23,{"$f":"'Data Siswa'!D28","v":0},null,null,null,null,null,null,null,null,null,null,null,null,null,null,null,null,null,null,null,null,0,null,{"$error":"#N/A"},0,{"$error":"#N/A"},{"$error":"#N/A"},0,{"$error":"#N/A"}]
[null,24,{"$f":"'Data Siswa'!D29","v":0},null,null,null,null,null,null,null,null,null,null,null,null,null,null,null,null,null,null,null,null,0,null,{"$error":"#N/A"},0,{"$error":"#N/A"},{"$error":"#N/A"},0,{"$error":"#N/A"}]
[null,25,{"$f":"'Data Siswa'!D30","v":0},null,null,null,null,null,null,null,null,null,null,null,null,null,null,null,null,null,null,null,null,0,null,{"$error":"#N/A"},0,{"$error":"#N/A"},{"$error":"#N/A"},0,{"$error":"#N/A"}]
[null,26,{"$f":"'Data Siswa'!D31","v":0},null,null,null,null,null,null,null,null,null,null,null,null,null,null,null,null,null,null,null,null,0,null,{"$error":"#N/A"},0,{"$error":"#N/A"},{"$error":"#N/A"},0,{"$error":"#N/A"}]
[null,27,{"$f":"'Data Siswa'!D32","v":0},null,null,null,null,null,null,null,null,null,null,null,null,null,null,null,null,null,null,null,null,0,null,{"$error":"#N/A"},0,{"$error":"#N/A"},{"$error":"#N/A"},0,{"$error":"#N/A"}]
[null,28,{"$f":"'Data Siswa'!D33","v":0},null,null,null,null,null,null,null,null,null,null,null,null,null,null,null,null,null,null,null,null,0,null,{"$error":"#N/A"},0,{"$error":"#N/A"},{"$error":"#N/A"},0,{"$error":"#N/A"}]
[null,29,{"$f":"'Data Siswa'!D34","v":0},null,null,null,null,null,null,null,null,null,null,null,null,null,null,null,null,null,null,null,null,0,null,{"$error":"#N/A"},0,{"$error":"#N/A"},{"$error":"#N/A"},0,{"$error":"#N/A"}]
[null,30,{"$f":"'Data Siswa'!D35","v":0},null,null,null,null,null,null,null,null,null,null,null,null,null,null,null,null,null,null,null,null,0,null,{"$error":"#N/A"},0,{"$error":"#N/A"},{"$error":"#N/A"},0,{"$error":"#N/A"}]
[null,31,{"$f":"'Data Siswa'!D36","v":0},null,null,null,null,null,null,null,null,null,null,null,null,null,null,null,null,null,null,null,null,0,null,{"$error":"#N/A"},0,{"$error":"#N/A"},{"$error":"#N/A"},0,{"$error":"#N/A"}]
[null,32,{"$f":"'Data Siswa'!D37","v":0},null,null,null,null,null,null,null,null,null,null,null,null,null,null,null,null,null,null,null,null,0,null,{"$error":"#N/A"},0,{"$error":"#N/A"},{"$error":"#N/A"},0,{"$error":"#N/A"}]
[null,33,{"$f":"'Data Siswa'!D38","v":0},null,null,null,null,null,null,null,null,null,null,null,null,null,null,null,null,null,null,null,null,{"$f":"IFERROR(AVERAGE(D44:W44),0)","v":0},null,{"$error":"#N/A"},0,{"$error":"#N/A"},{"$error":"#N/A"},0,{"$error":"#N/A"}]
[null,34,{"$f":"'Data Siswa'!D39","v":0},null,null,null,null,null,null,null,null,null,null,null,null,null,null,null,null,null,null,null,null,0,null,{"$error":"#N/A"},0,{"$error":"#N/A"},{"$error":"#N/A"},0,{"$error":"#N/A"}]
[null,35,{"$f":"'Data Siswa'!D40","v":0},null,null,null,null,null,null,null,null,null,null,null,null,null,null,null,null,null,null,null,null,0,null,{"$error":"#N/A"},0,{"$error":"#N/A"},{"$error":"#N/A"},0,{"$error":"#N/A"}]
[null,36,{"$f":"'Data Siswa'!D41","v":0},null,null,null,null,null,null,null,null,null,null,null,null,null,null,null,null,null,null,null,null,0,null,{"$error":"#N/A"},0,{"$error":"#N/A"},{"$error":"#N/A"},0,{"$error":"#N/A"}]
[null,37,{"$f":"'Data Siswa'!D42","v":0},null,null,null,null,null,null,null,null,null,null,null,null,null,null,null,null,null,null,null,null,0,null,{"$error":"#N/A"},0,{"$error":"#N/A"},{"$error":"#N/A"},0,{"$error":"#N/A"}]
[null,38,{"$f":"'Data Siswa'!D43","v":0},null,null,null,null,null,null,null,null,null,null,null,null,null,null,null,null,null,null,null,null,0,null,{"$error":"#N/A"},0,{"$error":"#N/A"},{"$error":"#N/A"},0,{"$error":"#N/A"}]
[null,39,{"$f":"'Data Siswa'!D44","v":0},null,null,null,null,null,null,null,null,null,null,null,null,null,null,null,null,null,null,null,null,0,null,{"$error":"#N/A"},0,{"$error":"#N/A"},{"$error":"#N/A"},0,{"$error":"#N/A"}]
[null,40,{"$f":"'Data Siswa'!D45","v":0},null,null,null,null,null,null,null,null,null,null,null,null,null,null,null,null,null,null,null,null,0,null,{"$error":"#N/A"},0,{"$error":"#N/A"},{"$error":"#N/A"},0,{"$error":"#N/A"}]
[null,41,{"$f":"'Data Siswa'!D46","v":0},null,null,null,null,null,null,null,null,null,null,null,null,null,null,null,null,null,null,null,null,0,null,{"$error":"#N/A"},0,{"$error":"#N/A"},{"$error":"#N/A"},0,{"$error":"#N/A"}]
[null,42,{"$f":"'Data Siswa'!D47","v":0},null,null,null,null,null,null,null,null,null,null,null,null,null,null,null,null,null,null,null,null,0,null,{"$error":"#N/A"},0,{"$error":"#N/A"},{"$error":"#N/A"},0,{"$error":"#N/A"}]
[null,43,{"$f":"'Data Siswa'!D48","v":0},null,null,null,null,null,null,null,null,null,null,null,null,null,null,null,null,null,null,null,null,0,null,{"$error":"#N/A"},0,{"$error":"#N/A"},{"$error":"#N/A"},0,{"$error":"#N/A"}]
[null,44,{"$f":"'Data Siswa'!D49","v":0},null,null,null,null,null,null,null,null,null,null,null,null,null,null,null,null,null,null,null,null,0,null,{"$error":"#N/A"},0,{"$error":"#N/A"},{"$error":"#N/A"},0,{"$error":"#N/A"}]
[null,45,{"$f":"'Data Siswa'!D50","v":0},null,null,null,null,null,null,null,null,null,null,null,null,null,null,null,null,null,null,null,null,0,null,{"$error":"#N/A"},0,{"$error":"#N/A"},{"$error":"#N/A"},0,{"$error":"#N/A"}]
[null,46,{"$f":"'Data Siswa'!D51","v":0},null,null,null,null,null,null,null,null,null,null,null,null,null,null,null,null,null,null,null,null,0,null,{"$error":"#N/A"},0,{"$error":"#N/A"},{"$error":"#N/A"},0,{"$error":"#N/A"}]
[null,47,{"$f":"'Data Siswa'!D52","v":0},null,null,null,null,null,null,null,null,null,null,null,null,null,null,null,null,null,null,null,null,0,null,{"$error":"#N/A"},0,{"$error":"#N/A"},{"$error":"#N/A"},0,{"$error":"#N/A"}]
[null,48,{"$f":"'Data Siswa'!D53","v":0},null,null,null,null,null,null,null,null,null,null,null,null,null,null,null,null,null,null,null,null,0,null,{"$error":"#N/A"},0,{"$error":"#N/A"},{"$error":"#N/A"},0,{"$error":"#N/A"}]
[null,49,{"$f":"'Data Siswa'!D54","v":0},null,null,null,null,null,null,null,null,null,null,null,null,null,null,null,null,null,null,null,null,0,null,{"$error":"#N/A"},0,{"$error":"#N/A"},{"$error":"#N/A"},0,{"$error":"#N/A"}]
[null,50,{"$f":"'Data Siswa'!D55","v":0},null,null,null,null,null,null,null,null,null,null,null,null,null,null,null,null,null,null,null,null,0,null,{"$error":"#N/A"},0,{"$error":"#N/A"},{"$error":"#N/A"},0,{"$error":"#N/A"}]
[null,"RATA-RATA",null,{"$f":"IFERROR(AVERAGE(D12:D61),0)","v":0},{"$f":"IFERROR(AVERAGE(E12:E61),0)","v":0},0,0,0,0,0,0,0,0,0,0,0,0,0,0,0,0,0,0]

{"sheet":"SUMPJOK","index":34,"n_rows":62,"n_cols":35,"rows_kept":62,"cut":false,"hidden":false,"merged":[[9,29,9,31],[9,32,9,34],[61,1,61,2],[9,9,9,10],[9,11,9,12],[9,13,9,14],[9,15,9,16],[9,17,9,18],[9,19,9,20],[2,0,2,27],[7,1,10,1],[7,2,10,2],[7,3,7,26],[7,27,10,27],[8,3,8,14],[8,15,8,26],[9,3,9,4],[9,5,9,6],[9,7,9,8],[9,21,9,22],[9,23,9,24],[9,25,9,26]]}
[]
[]
["DAFTAR NILAI ASESMEN SUMATIF"]
[]
[null,null,"Mata Pelajaran",":",null,"Pendidikan Jasmani dan Olahraga"]
[]
[]
[null,"No","NAMA SISWA","Pendidikan Jasmani dan Olahraga",null,null,null,null,null,null,null,null,null,null,null,null,null,null,null,null,null,null,null,null,null,null,null,"NILAI RAPOR"]
[null,null,null,"ASESMEN SUMATIF  AKHIR MATERI",null,null,null,null,null,null,null,null,null,null,null,"ASESMEN SUMATIF AKHIR SEMESTER *"]
[null,null,null,{"$f":"'TP PJOK'!J9","v":0},null,{"$f":"'TP PJOK'!J10","v":0},null,{"$f":"'TP PJOK'!J11","v":0},null,{"$f":"'TP PJOK'!J12","v":0},null,{"$f":"'TP PJOK'!J13","v":0},null,{"$f":"'TP PJOK'!J14","v":0},null,{"$f":"'TP PJOK'!J9","v":0},null,{"$f":"'TP PJOK'!J10","v":0},null,{"$f":"'TP PJOK'!J11","v":0},null,{"$f":"'TP PJOK'!J12","v":0},null,{"$f":"'TP PJOK'!J13","v":0},null,{"$f":"'TP PJOK'!J14","v":0}]
[null,null,null,"Tes","Non Tes","Tes","Non Tes","Tes","Non Tes","Tes","Non Tes","Tes","Non Tes","Tes","Non Tes","Tes","Non Tes","Tes","Non Tes","Tes","Non Tes","Tes","Non Tes","Tes","Non Tes","Tes","Non Tes",null,null,"TP","MAX","DESKRIPSI","TP","MIN","DESKRIPSI"]
[null,1,{"$f":"'Data Siswa'!D6","v":0},null,null,null,null,null,null,null,null,null,null,null,null,null,null,null,null,null,null,null,null,null,null,null,null,{"$f":"IFERROR(AVERAGE(D12:AA12),0)","v":0},null,{"$f":"INDEX($D$11:$AA$11,MATCH(AE12,D12:AA12,0))","v":{"$error":"#N/A"}},{"$f":"MAX(D12:AA12)","v":0},{"$f":"C12&\" sangat menguasai dalam \"&AD12","v":{"$error":"#N/A"}},{"$f":"INDEX($D$11:$AA$11,MATCH(AH12,D12:AA12,0))","v":{"$error":"#N/A"}},{"$f":"MIN(D12:AA12)","v":0},{"$f":"C12&\" perlu bimbingan dalam \"&AG12","v":{"$error":"#N/A"}}]
[null,2,{"$f":"'Data Siswa'!D7","v":0},null,null,null,null,null,null,null,null,null,null,null,null,null,null,null,null,null,null,null,null,null,null,null,null,{"$f":"IFERROR(AVERAGE(D13:AA13),0)","v":0},null,{"$error":"#N/A"},0,{"$error":"#N/A"},{"$error":"#N/A"},0,{"$error":"#N/A"}]
[null,3,{"$f":"'Data Siswa'!D8","v":0},null,null,null,null,null,null,null,null,null,null,null,null,null,null,null,null,null,null,null,null,null,null,null,null,0,null,{"$error":"#N/A"},0,{"$error":"#N/A"},{"$error":"#N/A"},0,{"$error":"#N/A"}]
[null,4,{"$f":"'Data Siswa'!D9","v":0},null,null,null,null,null,null,null,null,null,null,null,null,null,null,null,null,null,null,null,null,null,null,null,null,0,null,{"$error":"#N/A"},0,{"$error":"#N/A"},{"$error":"#N/A"},0,{"$error":"#N/A"}]
[null,5,{"$f":"'Data Siswa'!D10","v":0},null,null,null,null,null,null,null,null,null,null,null,null,null,null,null,null,null,null,null,null,null,null,null,null,0,null,{"$error":"#N/A"},0,{"$error":"#N/A"},{"$error":"#N/A"},0,{"$error":"#N/A"}]
[null,6,{"$f":"'Data Siswa'!D11","v":0},null,null,null,null,null,null,null,null,null,null,null,null,null,null,null,null,null,null,null,null,null,null,null,null,{"$f":"IFERROR(AVERAGE(D17:AA17),0)","v":0},null,{"$error":"#N/A"},0,{"$error":"#N/A"},{"$error":"#N/A"},0,{"$error":"#N/A"}]
[null,7,{"$f":"'Data Siswa'!D12","v":0},null,null,null,null,null,null,null,null,null,null,null,null,null,null,null,null,null,null,null,null,null,null,null,null,0,null,{"$error":"#N/A"},0,{"$error":"#N/A"},{"$error":"#N/A"},0,{"$error":"#N/A"}]
[null,8,{"$f":"'Data Siswa'!D13","v":0},null,null,null,null,null,null,null,null,null,null,null,null,null,null,null,null,null,null,null,null,null,null,null,null,0,null,{"$error":"#N/A"},0,{"$error":"#N/A"},{"$error":"#N/A"},0,{"$error":"#N/A"}]
[null,9,{"$f":"'Data Siswa'!D14","v":0},null,null,null,null,null,null,null,null,null,null,null,null,null,null,null,null,null,null,null,null,null,null,null,null,0,null,{"$error":"#N/A"},0,{"$error":"#N/A"},{"$error":"#N/A"},0,{"$error":"#N/A"}]
[null,10,{"$f":"'Data Siswa'!D15","v":0},null,null,null,null,null,null,null,null,null,null,null,null,null,null,null,null,null,null,null,null,null,null,null,null,0,null,{"$error":"#N/A"},0,{"$error":"#N/A"},{"$error":"#N/A"},0,{"$error":"#N/A"}]
[null,11,{"$f":"'Data Siswa'!D16","v":0},null,null,null,null,null,null,null,null,null,null,null,null,null,null,null,null,null,null,null,null,null,null,null,null,0,null,{"$error":"#N/A"},0,{"$error":"#N/A"},{"$error":"#N/A"},0,{"$error":"#N/A"}]
[null,12,{"$f":"'Data Siswa'!D17","v":0},null,null,null,null,null,null,null,null,null,null,null,null,null,null,null,null,null,null,null,null,null,null,null,null,0,null,{"$error":"#N/A"},0,{"$error":"#N/A"},{"$error":"#N/A"},0,{"$error":"#N/A"}]
[null,13,{"$f":"'Data Siswa'!D18","v":0},null,null,null,null,null,null,null,null,null,null,null,null,null,null,null,null,null,null,null,null,null,null,null,null,0,null,{"$error":"#N/A"},0,{"$error":"#N/A"},{"$error":"#N/A"},0,{"$error":"#N/A"}]
[null,14,{"$f":"'Data Siswa'!D19","v":0},null,null,null,null,null,null,null,null,null,null,null,null,null,null,null,null,null,null,null,null,null,null,null,null,0,null,{"$error":"#N/A"},0,{"$error":"#N/A"},{"$error":"#N/A"},0,{"$error":"#N/A"}]
[null,15,{"$f":"'Data Siswa'!D20","v":0},null,null,null,null,null,null,null,null,null,null,null,null,null,null,null,null,null,null,null,null,null,null,null,null,0,null,{"$error":"#N/A"},0,{"$error":"#N/A"},{"$error":"#N/A"},0,{"$error":"#N/A"}]
[null,16,{"$f":"'Data Siswa'!D21","v":0},null,null,null,null,null,null,null,null,null,null,null,null,null,null,null,null,null,null,null,null,null,null,null,null,0,null,{"$error":"#N/A"},0,{"$error":"#N/A"},{"$error":"#N/A"},0,{"$error":"#N/A"}]
[null,17,{"$f":"'Data Siswa'!D22","v":0},null,null,null,null,null,null,null,null,null,null,null,null,null,null,null,null,null,null,null,null,null,null,null,null,0,null,{"$error":"#N/A"},0,{"$error":"#N/A"},{"$error":"#N/A"},0,{"$error":"#N/A"}]
[null,18,{"$f":"'Data Siswa'!D23","v":0},null,null,null,null,null,null,null,null,null,null,null,null,null,null,null,null,null,null,null,null,null,null,null,null,0,null,{"$error":"#N/A"},0,{"$error":"#N/A"},{"$error":"#N/A"},0,{"$error":"#N/A"}]
[null,19,{"$f":"'Data Siswa'!D24","v":0},null,null,null,null,null,null,null,null,null,null,null,null,null,null,null,null,null,null,null,null,null,null,null,null,0,null,{"$error":"#N/A"},0,{"$error":"#N/A"},{"$error":"#N/A"},0,{"$error":"#N/A"}]
[null,20,{"$f":"'Data Siswa'!D25","v":0},null,null,null,null,null,null,null,null,null,null,null,null,null,null,null,null,null,null,null,null,null,null,null,null,0,null,{"$error":"#N/A"},0,{"$error":"#N/A"},{"$error":"#N/A"},0,{"$error":"#N/A"}]
[null,21,{"$f":"'Data Siswa'!D26","v":0},null,null,null,null,null,null,null,null,null,null,null,null,null,null,null,null,null,null,null,null,null,null,null,null,0,null,{"$error":"#N/A"},0,{"$error":"#N/A"},{"$error":"#N/A"},0,{"$error":"#N/A"}]
[null,22,{"$f":"'Data Siswa'!D27","v":0},null,null,null,null,null,null,null,null,null,null,null,null,null,null,null,null,null,null,null,null,null,null,null,null,0,null,{"$error":"#N/A"},0,{"$error":"#N/A"},{"$error":"#N/A"},0,{"$error":"#N/A"}]
[null,23,{"$f":"'Data Siswa'!D28","v":0},null,null,null,null,null,null,null,null,null,null,null,null,null,null,null,null,null,null,null,null,null,null,null,null,0,null,{"$error":"#N/A"},0,{"$error":"#N/A"},{"$error":"#N/A"},0,{"$error":"#N/A"}]
[null,24,{"$f":"'Data Siswa'!D29","v":0},null,null,null,null,null,null,null,null,null,null,null,null,null,null,null,null,null,null,null,null,null,null,null,null,0,null,{"$error":"#N/A"},0,{"$error":"#N/A"},{"$error":"#N/A"},0,{"$error":"#N/A"}]
[null,25,{"$f":"'Data Siswa'!D30","v":0},null,null,null,null,null,null,null,null,null,null,null,null,null,null,null,null,null,null,null,null,null,null,null,null,0,null,{"$error":"#N/A"},0,{"$error":"#N/A"},{"$error":"#N/A"},0,{"$error":"#N/A"}]
[null,26,{"$f":"'Data Siswa'!D31","v":0},null,null,null,null,null,null,null,null,null,null,null,null,null,null,null,null,null,null,null,null,null,null,null,null,0,null,{"$error":"#N/A"},0,{"$error":"#N/A"},{"$error":"#N/A"},0,{"$error":"#N/A"}]
[null,27,{"$f":"'Data Siswa'!D32","v":0},null,null,null,null,null,null,null,null,null,null,null,null,null,null,null,null,null,null,null,null,null,null,null,null,0,null,{"$error":"#N/A"},0,{"$error":"#N/A"},{"$error":"#N/A"},0,{"$error":"#N/A"}]
[null,28,{"$f":"'Data Siswa'!D33","v":0},null,null,null,null,null,null,null,null,null,null,null,null,null,null,null,null,null,null,null,null,null,null,null,null,0,null,{"$error":"#N/A"},0,{"$error":"#N/A"},{"$error":"#N/A"},0,{"$error":"#N/A"}]
[null,29,{"$f":"'Data Siswa'!D34","v":0},null,null,null,null,null,null,null,null,null,null,null,null,null,null,null,null,null,null,null,null,null,null,null,null,0,null,{"$error":"#N/A"},0,{"$error":"#N/A"},{"$error":"#N/A"},0,{"$error":"#N/A"}]
[null,30,{"$f":"'Data Siswa'!D35","v":0},null,null,null,null,null,null,null,null,null,null,null,null,null,null,null,null,null,null,null,null,null,null,null,null,0,null,{"$error":"#N/A"},0,{"$error":"#N/A"},{"$error":"#N/A"},0,{"$error":"#N/A"}]
[null,31,{"$f":"'Data Siswa'!D36","v":0},null,null,null,null,null,null,null,null,null,null,null,null,null,null,null,null,null,null,null,null,null,null,null,null,0,null,{"$error":"#N/A"},0,{"$error":"#N/A"},{"$error":"#N/A"},0,{"$error":"#N/A"}]
[null,32,{"$f":"'Data Siswa'!D37","v":0},null,null,null,null,null,null,null,null,null,null,null,null,null,null,null,null,null,null,null,null,null,null,null,null,0,null,{"$error":"#N/A"},0,{"$error":"#N/A"},{"$error":"#N/A"},0,{"$error":"#N/A"}]
[null,33,{"$f":"'Data Siswa'!D38","v":0},null,null,null,null,null,null,null,null,null,null,null,null,null,null,null,null,null,null,null,null,null,null,null,null,0,null,{"$error":"#N/A"},0,{"$f":"C44&\" sangat menguasai dalam \"&AD44","v":{"$error":"#N/A"}},{"$error":"#N/A"},0,{"$f":"C44&\" perlu bimbingan dalam \"&AG44","v":{"$error":"#N/A"}}]
[null,34,{"$f":"'Data Siswa'!D39","v":0},null,null,null,null,null,null,null,null,null,null,null,null,null,null,null,null,null,null,null,null,null,null,null,null,0,null,{"$error":"#N/A"},0,{"$error":"#N/A"},{"$error":"#N/A"},0,{"$error":"#N/A"}]
[null,35,{"$f":"'Data Siswa'!D40","v":0},null,null,null,null,null,null,null,null,null,null,null,null,null,null,null,null,null,null,null,null,null,null,null,null,0,null,{"$error":"#N/A"},0,{"$error":"#N/A"},{"$error":"#N/A"},0,{"$error":"#N/A"}]
[null,36,{"$f":"'Data Siswa'!D41","v":0},null,null,null,null,null,null,null,null,null,null,null,null,null,null,null,null,null,null,null,null,null,null,null,null,0,null,{"$error":"#N/A"},0,{"$error":"#N/A"},{"$error":"#N/A"},0,{"$error":"#N/A"}]
[null,37,{"$f":"'Data Siswa'!D42","v":0},null,null,null,null,null,null,null,null,null,null,null,null,null,null,null,null,null,null,null,null,null,null,null,null,0,null,{"$error":"#N/A"},0,{"$error":"#N/A"},{"$error":"#N/A"},0,{"$error":"#N/A"}]
[null,38,{"$f":"'Data Siswa'!D43","v":0},null,null,null,null,null,null,null,null,null,null,null,null,null,null,null,null,null,null,null,null,null,null,null,null,0,null,{"$error":"#N/A"},0,{"$error":"#N/A"},{"$error":"#N/A"},0,{"$error":"#N/A"}]
[null,39,{"$f":"'Data Siswa'!D44","v":0},null,null,null,null,null,null,null,null,null,null,null,null,null,null,null,null,null,null,null,null,null,null,null,null,0,null,{"$error":"#N/A"},0,{"$error":"#N/A"},{"$error":"#N/A"},0,{"$error":"#N/A"}]
[null,40,{"$f":"'Data Siswa'!D45","v":0},null,null,null,null,null,null,null,null,null,null,null,null,null,null,null,null,null,null,null,null,null,null,null,null,0,null,{"$error":"#N/A"},0,{"$error":"#N/A"},{"$error":"#N/A"},0,{"$error":"#N/A"}]
[null,41,{"$f":"'Data Siswa'!D46","v":0},null,null,null,null,null,null,null,null,null,null,null,null,null,null,null,null,null,null,null,null,null,null,null,null,0,null,{"$error":"#N/A"},0,{"$error":"#N/A"},{"$error":"#N/A"},0,{"$error":"#N/A"}]
[null,42,{"$f":"'Data Siswa'!D47","v":0},null,null,null,null,null,null,null,null,null,null,null,null,null,null,null,null,null,null,null,null,null,null,null,null,0,null,{"$error":"#N/A"},0,{"$error":"#N/A"},{"$error":"#N/A"},0,{"$error":"#N/A"}]
[null,43,{"$f":"'Data Siswa'!D48","v":0},null,null,null,null,null,null,null,null,null,null,null,null,null,null,null,null,null,null,null,null,null,null,null,null,0,null,{"$error":"#N/A"},0,{"$error":"#N/A"},{"$error":"#N/A"},0,{"$error":"#N/A"}]
[null,44,{"$f":"'Data Siswa'!D49","v":0},null,null,null,null,null,null,null,null,null,null,null,null,null,null,null,null,null,null,null,null,null,null,null,null,0,null,{"$error":"#N/A"},0,{"$error":"#N/A"},{"$error":"#N/A"},0,{"$error":"#N/A"}]
[null,45,{"$f":"'Data Siswa'!D50","v":0},null,null,null,null,null,null,null,null,null,null,null,null,null,null,null,null,null,null,null,null,null,null,null,null,0,null,{"$error":"#N/A"},0,{"$error":"#N/A"},{"$error":"#N/A"},0,{"$error":"#N/A"}]
[null,46,{"$f":"'Data Siswa'!D51","v":0},null,null,null,null,null,null,null,null,null,null,null,null,null,null,null,null,null,null,null,null,null,null,null,null,0,null,{"$error":"#N/A"},0,{"$error":"#N/A"},{"$error":"#N/A"},0,{"$error":"#N/A"}]
[null,47,{"$f":"'Data Siswa'!D52","v":0},null,null,null,null,null,null,null,null,null,null,null,null,null,null,null,null,null,null,null,null,null,null,null,null,{"$f":"IFERROR(AVERAGE(D58:AA58),0)","v":0},null,{"$error":"#N/A"},0,{"$error":"#N/A"},{"$error":"#N/A"},0,{"$error":"#N/A"}]
[null,48,{"$f":"'Data Siswa'!D53","v":0},null,null,null,null,null,null,null,null,null,null,null,null,null,null,null,null,null,null,null,null,null,null,null,null,0,null,{"$error":"#N/A"},0,{"$error":"#N/A"},{"$error":"#N/A"},0,{"$error":"#N/A"}]
[null,49,{"$f":"'Data Siswa'!D54","v":0},null,null,null,null,null,null,null,null,null,null,null,null,null,null,null,null,null,null,null,null,null,null,null,null,0,null,{"$error":"#N/A"},0,{"$error":"#N/A"},{"$error":"#N/A"},0,{"$error":"#N/A"}]
[null,50,{"$f":"'Data Siswa'!D55","v":0},null,null,null,null,null,null,null,null,null,null,null,null,null,null,null,null,null,null,null,null,null,null,null,null,0,null,{"$error":"#N/A"},0,{"$error":"#N/A"},{"$error":"#N/A"},0,{"$error":"#N/A"}]
[null,"RATA-RATA",null,{"$f":"IFERROR(AVERAGE(D12:D61),0)","v":0},{"$f":"IFERROR(AVERAGE(E12:E61),0)","v":0},0,0,0,0,0,0,0,0,0,0,0,0,0,0,0,0,0,0,0,0,0,0]

{"sheet":"REKAPNA","index":35,"n_rows":62,"n_cols":23,"rows_kept":62,"cut":false,"hidden":false,"merged":[[59,1,59,2],[0,1,0,18],[1,1,1,18],[2,1,2,18],[4,1,8,1],[4,2,8,2],[4,3,5,17],[4,18,8,18]]}
[null,"REKAP NILAI AKHIR SISWA"]
[null,{"$f":"\"SEMESTER\"&\" \"&UPPER(IDENTITAS!D21)","v":"SEMESTER "}]
[null,{"$f":"\"TAHUN PELAJARAN\"&\" : \"&IDENTITAS!D22","v":"TAHUN PELAJARAN : "}]
[]
[null,"NO","Nama Siswa","REKAP MAPEL",null,null,null,null,null,null,null,null,null,null,null,null,null,null,"Keputusan"]
[]
[null,null,null,"Pend. Agama","PPKn","Bhs. Indonesia","Matematika","IPAS","Seni Musik","Seni Tari","Seni Rupa","Seni Teater","PJOK","Bahasa Inggris",{"$f":"IDENTITAS!G21","v":0},{"$f":"IDENTITAS!G22","v":0},"JML","CAPAIAN KELAS"]
[]
[]
[null,1,{"$f":"'Data Siswa'!D6","v":0},{"$f":"IFERROR(AVERAGE(PA!X12,SUMPA!AB12),\"\")","v":0},{"$f":"IFERROR(AVERAGE(PKN!X12,SUMPKN!AB12),\" \")","v":0},{"$f":"IFERROR(AVERAGE(BI!X12,SUMBI!AB12),\" \")","v":0},{"$f":"IFERROR(AVERAGE(MAT!X12,SUMMAT!AB12),\" \")","v":0},{"$f":"IFERROR(AVERAGE(IPAS!X12,SUMIPAS!AB12),\" \")","v":0},{"$f":"IFERROR(AVERAGE(MUSIK!X12,SUMMUSIK!AB12),\" \")","v":0},{"$f":"IFERROR(AVERAGE(TARI!X12,SUMTARI!AB12),\" \")","v":0},{"$f":"IFERROR(AVERAGE(KRIYA!X12,SUMKRIYA!AB12),\" \")","v":0},{"$f":"IFERROR(AVERAGE(TEATER!X12,SUMTEATER!AB12),\" \")","v":0},{"$f":"IFERROR(AVERAGE(PJOK!X12,SUMPJOK!AB12),\" \")","v":0},{"$f":"IFERROR(AVERAGE(BING!X12,SUMBING!AB12),\" \")","v":0},{"$f":"IFERROR(AVERAGE(MULOK1!X12,SUMM1!AB12),\" \")","v":0},{"$f":"IFERROR(AVERAGE(MULOK2!X12,SUMM2!AB12),\" \")","v":0},{"$f":"SUM(D10:P10)","v":0},{"$f":"RANK(Q10,$Q$10:$Q$59,0)","v":1},null,null,null,null,"Naik"]
[null,2,{"$f":"'Data Siswa'!D7","v":0},{"$f":"IFERROR(AVERAGE(PA!X13,SUMPA!AB13),\"\")","v":0},{"$f":"IFERROR(AVERAGE(PKN!X13,SUMPKN!AB13),\" \")","v":0},{"$f":"IFERROR(AVERAGE(BI!X13,SUMBI!AB13),\" \")","v":0},{"$f":"IFERROR(AVERAGE(MAT!X13,SUMMAT!AB13),\" \")","v":0},{"$f":"IFERROR(AVERAGE(IPAS!X13,SUMIPAS!AB13),\" \")","v":0},{"$f":"IFERROR(AVERAGE(MUSIK!X13,SUMMUSIK!AB13),\" \")","v":0},{"$f":"IFERROR(AVERAGE(TARI!X13,SUMTARI!AB13),\" \")","v":0},{"$f":"IFERROR(AVERAGE(KRIYA!X13,SUMKRIYA!AB13),\" \")","v":0},{"$f":"IFERROR(AVERAGE(TEATER!X13,SUMTEATER!AB13),\" \")","v":0},{"$f":"IFERROR(AVERAGE(PJOK!X13,SUMPJOK!AB13),\" \")","v":0},{"$f":"IFERROR(AVERAGE(BING!X13,SUMBING!AB13),\" \")","v":0},{"$f":"IFERROR(AVERAGE(MULOK1!X13,SUMM1!AB13),\" \")","v":0},{"$f":"IFERROR(AVERAGE(MULOK2!X13,SUMM2!AB13),\" \")","v":0},{"$f":"SUM(D11:P11)","v":0},{"$f":"RANK(Q11,$Q$10:$Q$59,0)","v":1},null,null,null,null,"Tidak Naik"]
[null,3,{"$f":"'Data Siswa'!D8","v":0},{"$f":"IFERROR(AVERAGE(PA!X14,SUMPA!AB14),\"\")","v":0},{"$f":"IFERROR(AVERAGE(PKN!X14,SUMPKN!AB14),\" \")","v":0},{"$f":"IFERROR(AVERAGE(BI!X14,SUMBI!AB14),\" \")","v":0},{"$f":"IFERROR(AVERAGE(MAT!X14,SUMMAT!AB14),\" \")","v":0},{"$f":"IFERROR(AVERAGE(IPAS!X14,SUMIPAS!AB14),\" \")","v":0},{"$f":"IFERROR(AVERAGE(MUSIK!X14,SUMMUSIK!AB14),\" \")","v":0},{"$f":"IFERROR(AVERAGE(TARI!X14,SUMTARI!AB14),\" \")","v":0},{"$f":"IFERROR(AVERAGE(KRIYA!X14,SUMKRIYA!AB14),\" \")","v":0},{"$f":"IFERROR(AVERAGE(TEATER!X14,SUMTEATER!AB14),\" \")","v":0},{"$f":"IFERROR(AVERAGE(PJOK!X14,SUMPJOK!AB14),\" \")","v":0},{"$f":"IFERROR(AVERAGE(BING!X14,SUMBING!AB14),\" \")","v":0},{"$f":"IFERROR(AVERAGE(MULOK1!X14,SUMM1!AB14),\" \")","v":0},{"$f":"IFERROR(AVERAGE(MULOK2!X14,SUMM2!AB14),\" \")","v":0},0,1]
[null,4,{"$f":"'Data Siswa'!D9","v":0},{"$f":"IFERROR(AVERAGE(PA!X15,SUMPA!AB15),\"\")","v":0},{"$f":"IFERROR(AVERAGE(PKN!X15,SUMPKN!AB15),\" \")","v":0},{"$f":"IFERROR(AVERAGE(BI!X15,SUMBI!AB15),\" \")","v":0},{"$f":"IFERROR(AVERAGE(MAT!X15,SUMMAT!AB15),\" \")","v":0},{"$f":"IFERROR(AVERAGE(IPAS!X15,SUMIPAS!AB15),\" \")","v":0},{"$f":"IFERROR(AVERAGE(MUSIK!X15,SUMMUSIK!AB15),\" \")","v":0},{"$f":"IFERROR(AVERAGE(TARI!X15,SUMTARI!AB15),\" \")","v":0},{"$f":"IFERROR(AVERAGE(KRIYA!X15,SUMKRIYA!AB15),\" \")","v":0},{"$f":"IFERROR(AVERAGE(TEATER!X15,SUMTEATER!AB15),\" \")","v":0},{"$f":"IFERROR(AVERAGE(PJOK!X15,SUMPJOK!AB15),\" \")","v":0},{"$f":"IFERROR(AVERAGE(BING!X15,SUMBING!AB15),\" \")","v":0},{"$f":"IFERROR(AVERAGE(MULOK1!X15,SUMM1!AB15),\" \")","v":0},{"$f":"IFERROR(AVERAGE(MULOK2!X15,SUMM2!AB15),\" \")","v":0},0,1]
[null,5,{"$f":"'Data Siswa'!D10","v":0},{"$f":"IFERROR(AVERAGE(PA!X16,SUMPA!AB16),\"\")","v":0},{"$f":"IFERROR(AVERAGE(PKN!X16,SUMPKN!AB16),\" \")","v":0},{"$f":"IFERROR(AVERAGE(BI!X16,SUMBI!AB16),\" \")","v":0},{"$f":"IFERROR(AVERAGE(MAT!X16,SUMMAT!AB16),\" \")","v":0},{"$f":"IFERROR(AVERAGE(IPAS!X16,SUMIPAS!AB16),\" \")","v":0},{"$f":"IFERROR(AVERAGE(MUSIK!X16,SUMMUSIK!AB16),\" \")","v":0},{"$f":"IFERROR(AVERAGE(TARI!X16,SUMTARI!AB16),\" \")","v":0},{"$f":"IFERROR(AVERAGE(KRIYA!X16,SUMKRIYA!AB16),\" \")","v":0},{"$f":"IFERROR(AVERAGE(TEATER!X16,SUMTEATER!AB16),\" \")","v":0},{"$f":"IFERROR(AVERAGE(PJOK!X16,SUMPJOK!AB16),\" \")","v":0},{"$f":"IFERROR(AVERAGE(BING!X16,SUMBING!AB16),\" \")","v":0},{"$f":"IFERROR(AVERAGE(MULOK1!X16,SUMM1!AB16),\" \")","v":0},{"$f":"IFERROR(AVERAGE(MULOK2!X16,SUMM2!AB16),\" \")","v":0},0,1]
[null,6,{"$f":"'Data Siswa'!D11","v":0},{"$f":"IFERROR(AVERAGE(PA!X17,SUMPA!AB17),\"\")","v":0},{"$f":"IFERROR(AVERAGE(PKN!X17,SUMPKN!AB17),\" \")","v":0},{"$f":"IFERROR(AVERAGE(BI!X17,SUMBI!AB17),\" \")","v":0},{"$f":"IFERROR(AVERAGE(MAT!X17,SUMMAT!AB17),\" \")","v":0},{"$f":"IFERROR(AVERAGE(IPAS!X17,SUMIPAS!AB17),\" \")","v":0},{"$f":"IFERROR(AVERAGE(MUSIK!X17,SUMMUSIK!AB17),\" \")","v":0},{"$f":"IFERROR(AVERAGE(TARI!X17,SUMTARI!AB17),\" \")","v":0},{"$f":"IFERROR(AVERAGE(KRIYA!X17,SUMKRIYA!AB17),\" \")","v":0},{"$f":"IFERROR(AVERAGE(TEATER!X17,SUMTEATER!AB17),\" \")","v":0},{"$f":"IFERROR(AVERAGE(PJOK!X17,SUMPJOK!AB17),\" \")","v":0},{"$f":"IFERROR(AVERAGE(BING!X17,SUMBING!AB17),\" \")","v":0},{"$f":"IFERROR(AVERAGE(MULOK1!X17,SUMM1!AB17),\" \")","v":0},{"$f":"IFERROR(AVERAGE(MULOK2!X17,SUMM2!AB17),\" \")","v":0},0,1]
[null,7,{"$f":"'Data Siswa'!D12","v":0},{"$f":"IFERROR(AVERAGE(PA!X18,SUMPA!AB18),\"\")","v":0},{"$f":"IFERROR(AVERAGE(PKN!X18,SUMPKN!AB18),\" \")","v":0},{"$f":"IFERROR(AVERAGE(BI!X18,SUMBI!AB18),\" \")","v":0},{"$f":"IFERROR(AVERAGE(MAT!X18,SUMMAT!AB18),\" \")","v":0},{"$f":"IFERROR(AVERAGE(IPAS!X18,SUMIPAS!AB18),\" \")","v":0},{"$f":"IFERROR(AVERAGE(MUSIK!X18,SUMMUSIK!AB18),\" \")","v":0},{"$f":"IFERROR(AVERAGE(TARI!X18,SUMTARI!AB18),\" \")","v":0},{"$f":"IFERROR(AVERAGE(KRIYA!X18,SUMKRIYA!AB18),\" \")","v":0},{"$f":"IFERROR(AVERAGE(TEATER!X18,SUMTEATER!AB18),\" \")","v":0},{"$f":"IFERROR(AVERAGE(PJOK!X18,SUMPJOK!AB18),\" \")","v":0},{"$f":"IFERROR(AVERAGE(BING!X18,SUMBING!AB18),\" \")","v":0},{"$f":"IFERROR(AVERAGE(MULOK1!X18,SUMM1!AB18),\" \")","v":0},{"$f":"IFERROR(AVERAGE(MULOK2!X18,SUMM2!AB18),\" \")","v":0},0,1]
[null,8,{"$f":"'Data Siswa'!D13","v":0},{"$f":"IFERROR(AVERAGE(PA!X19,SUMPA!AB19),\"\")","v":0},{"$f":"IFERROR(AVERAGE(PKN!X19,SUMPKN!AB19),\" \")","v":0},{"$f":"IFERROR(AVERAGE(BI!X19,SUMBI!AB19),\" \")","v":0},{"$f":"IFERROR(AVERAGE(MAT!X19,SUMMAT!AB19),\" \")","v":0},{"$f":"IFERROR(AVERAGE(IPAS!X19,SUMIPAS!AB19),\" \")","v":0},{"$f":"IFERROR(AVERAGE(MUSIK!X19,SUMMUSIK!AB19),\" \")","v":0},{"$f":"IFERROR(AVERAGE(TARI!X19,SUMTARI!AB19),\" \")","v":0},{"$f":"IFERROR(AVERAGE(KRIYA!X19,SUMKRIYA!AB19),\" \")","v":0},{"$f":"IFERROR(AVERAGE(TEATER!X19,SUMTEATER!AB19),\" \")","v":0},{"$f":"IFERROR(AVERAGE(PJOK!X19,SUMPJOK!AB19),\" \")","v":0},{"$f":"IFERROR(AVERAGE(BING!X19,SUMBING!AB19),\" \")","v":0},{"$f":"IFERROR(AVERAGE(MULOK1!X19,SUMM1!AB19),\" \")","v":0},{"$f":"IFERROR(AVERAGE(MULOK2!X19,SUMM2!AB19),\" \")","v":0},0,1]
[null,9,{"$f":"'Data Siswa'!D14","v":0},{"$f":"IFERROR(AVERAGE(PA!X20,SUMPA!AB20),\"\")","v":0},{"$f":"IFERROR(AVERAGE(PKN!X20,SUMPKN!AB20),\" \")","v":0},{"$f":"IFERROR(AVERAGE(BI!X20,SUMBI!AB20),\" \")","v":0},{"$f":"IFERROR(AVERAGE(MAT!X20,SUMMAT!AB20),\" \")","v":0},{"$f":"IFERROR(AVERAGE(IPAS!X20,SUMIPAS!AB20),\" \")","v":0},{"$f":"IFERROR(AVERAGE(MUSIK!X20,SUMMUSIK!AB20),\" \")","v":0},{"$f":"IFERROR(AVERAGE(TARI!X20,SUMTARI!AB20),\" \")","v":0},{"$f":"IFERROR(AVERAGE(KRIYA!X20,SUMKRIYA!AB20),\" \")","v":0},{"$f":"IFERROR(AVERAGE(TEATER!X20,SUMTEATER!AB20),\" \")","v":0},{"$f":"IFERROR(AVERAGE(PJOK!X20,SUMPJOK!AB20),\" \")","v":0},{"$f":"IFERROR(AVERAGE(BING!X20,SUMBING!AB20),\" \")","v":0},{"$f":"IFERROR(AVERAGE(MULOK1!X20,SUMM1!AB20),\" \")","v":0},{"$f":"IFERROR(AVERAGE(MULOK2!X20,SUMM2!AB20),\" \")","v":0},0,1]
[null,10,{"$f":"'Data Siswa'!D15","v":0},{"$f":"IFERROR(AVERAGE(PA!X21,SUMPA!AB21),\"\")","v":0},{"$f":"IFERROR(AVERAGE(PKN!X21,SUMPKN!AB21),\" \")","v":0},{"$f":"IFERROR(AVERAGE(BI!X21,SUMBI!AB21),\" \")","v":0},{"$f":"IFERROR(AVERAGE(MAT!X21,SUMMAT!AB21),\" \")","v":0},{"$f":"IFERROR(AVERAGE(IPAS!X21,SUMIPAS!AB21),\" \")","v":0},{"$f":"IFERROR(AVERAGE(MUSIK!X21,SUMMUSIK!AB21),\" \")","v":0},{"$f":"IFERROR(AVERAGE(TARI!X21,SUMTARI!AB21),\" \")","v":0},{"$f":"IFERROR(AVERAGE(KRIYA!X21,SUMKRIYA!AB21),\" \")","v":0},{"$f":"IFERROR(AVERAGE(TEATER!X21,SUMTEATER!AB21),\" \")","v":0},{"$f":"IFERROR(AVERAGE(PJOK!X21,SUMPJOK!AB21),\" \")","v":0},{"$f":"IFERROR(AVERAGE(BING!X21,SUMBING!AB21),\" \")","v":0},{"$f":"IFERROR(AVERAGE(MULOK1!X21,SUMM1!AB21),\" \")","v":0},{"$f":"IFERROR(AVERAGE(MULOK2!X21,SUMM2!AB21),\" \")","v":0},0,1]
[null,11,{"$f":"'Data Siswa'!D16","v":0},{"$f":"IFERROR(AVERAGE(PA!X22,SUMPA!AB22),\"\")","v":0},{"$f":"IFERROR(AVERAGE(PKN!X22,SUMPKN!AB22),\" \")","v":0},{"$f":"IFERROR(AVERAGE(BI!X22,SUMBI!AB22),\" \")","v":0},{"$f":"IFERROR(AVERAGE(MAT!X22,SUMMAT!AB22),\" \")","v":0},{"$f":"IFERROR(AVERAGE(IPAS!X22,SUMIPAS!AB22),\" \")","v":0},{"$f":"IFERROR(AVERAGE(MUSIK!X22,SUMMUSIK!AB22),\" \")","v":0},{"$f":"IFERROR(AVERAGE(TARI!X22,SUMTARI!AB22),\" \")","v":0},{"$f":"IFERROR(AVERAGE(KRIYA!X22,SUMKRIYA!AB22),\" \")","v":0},{"$f":"IFERROR(AVERAGE(TEATER!X22,SUMTEATER!AB22),\" \")","v":0},{"$f":"IFERROR(AVERAGE(PJOK!X22,SUMPJOK!AB22),\" \")","v":0},{"$f":"IFERROR(AVERAGE(BING!X22,SUMBING!AB22),\" \")","v":0},{"$f":"IFERROR(AVERAGE(MULOK1!X22,SUMM1!AB22),\" \")","v":0},{"$f":"IFERROR(AVERAGE(MULOK2!X22,SUMM2!AB22),\" \")","v":0},0,1]
[null,12,{"$f":"'Data Siswa'!D17","v":0},{"$f":"IFERROR(AVERAGE(PA!X23,SUMPA!AB23),\"\")","v":0},{"$f":"IFERROR(AVERAGE(PKN!X23,SUMPKN!AB23),\" \")","v":0},{"$f":"IFERROR(AVERAGE(BI!X23,SUMBI!AB23),\" \")","v":0},{"$f":"IFERROR(AVERAGE(MAT!X23,SUMMAT!AB23),\" \")","v":0},{"$f":"IFERROR(AVERAGE(IPAS!X23,SUMIPAS!AB23),\" \")","v":0},{"$f":"IFERROR(AVERAGE(MUSIK!X23,SUMMUSIK!AB23),\" \")","v":0},{"$f":"IFERROR(AVERAGE(TARI!X23,SUMTARI!AB23),\" \")","v":0},{"$f":"IFERROR(AVERAGE(KRIYA!X23,SUMKRIYA!AB23),\" \")","v":0},{"$f":"IFERROR(AVERAGE(TEATER!X23,SUMTEATER!AB23),\" \")","v":0},{"$f":"IFERROR(AVERAGE(PJOK!X23,SUMPJOK!AB23),\" \")","v":0},{"$f":"IFERROR(AVERAGE(BING!X23,SUMBING!AB23),\" \")","v":0},{"$f":"IFERROR(AVERAGE(MULOK1!X23,SUMM1!AB23),\" \")","v":0},{"$f":"IFERROR(AVERAGE(MULOK2!X23,SUMM2!AB23),\" \")","v":0},0,1]
[null,13,{"$f":"'Data Siswa'!D18","v":0},{"$f":"IFERROR(AVERAGE(PA!X24,SUMPA!AB24),\"\")","v":0},{"$f":"IFERROR(AVERAGE(PKN!X24,SUMPKN!AB24),\" \")","v":0},{"$f":"IFERROR(AVERAGE(BI!X24,SUMBI!AB24),\" \")","v":0},{"$f":"IFERROR(AVERAGE(MAT!X24,SUMMAT!AB24),\" \")","v":0},{"$f":"IFERROR(AVERAGE(IPAS!X24,SUMIPAS!AB24),\" \")","v":0},{"$f":"IFERROR(AVERAGE(MUSIK!X24,SUMMUSIK!AB24),\" \")","v":0},{"$f":"IFERROR(AVERAGE(TARI!X24,SUMTARI!AB24),\" \")","v":0},{"$f":"IFERROR(AVERAGE(KRIYA!X24,SUMKRIYA!AB24),\" \")","v":0},{"$f":"IFERROR(AVERAGE(TEATER!X24,SUMTEATER!AB24),\" \")","v":0},{"$f":"IFERROR(AVERAGE(PJOK!X24,SUMPJOK!AB24),\" \")","v":0},{"$f":"IFERROR(AVERAGE(BING!X24,SUMBING!AB24),\" \")","v":0},{"$f":"IFERROR(AVERAGE(MULOK1!X24,SUMM1!AB24),\" \")","v":0},{"$f":"IFERROR(AVERAGE(MULOK2!X24,SUMM2!AB24),\" \")","v":0},0,1]
[null,14,{"$f":"'Data Siswa'!D19","v":0},{"$f":"IFERROR(AVERAGE(PA!X25,SUMPA!AB25),\"\")","v":0},{"$f":"IFERROR(AVERAGE(PKN!X25,SUMPKN!AB25),\" \")","v":0},{"$f":"IFERROR(AVERAGE(BI!X25,SUMBI!AB25),\" \")","v":0},{"$f":"IFERROR(AVERAGE(MAT!X25,SUMMAT!AB25),\" \")","v":0},{"$f":"IFERROR(AVERAGE(IPAS!X25,SUMIPAS!AB25),\" \")","v":0},{"$f":"IFERROR(AVERAGE(MUSIK!X25,SUMMUSIK!AB25),\" \")","v":0},{"$f":"IFERROR(AVERAGE(TARI!X25,SUMTARI!AB25),\" \")","v":0},{"$f":"IFERROR(AVERAGE(KRIYA!X25,SUMKRIYA!AB25),\" \")","v":0},{"$f":"IFERROR(AVERAGE(TEATER!X25,SUMTEATER!AB25),\" \")","v":0},{"$f":"IFERROR(AVERAGE(PJOK!X25,SUMPJOK!AB25),\" \")","v":0},{"$f":"IFERROR(AVERAGE(BING!X25,SUMBING!AB25),\" \")","v":0},{"$f":"IFERROR(AVERAGE(MULOK1!X25,SUMM1!AB25),\" \")","v":0},{"$f":"IFERROR(AVERAGE(MULOK2!X25,SUMM2!AB25),\" \")","v":0},0,1]
[null,15,{"$f":"'Data Siswa'!D20","v":0},{"$f":"IFERROR(AVERAGE(PA!X26,SUMPA!AB26),\"\")","v":0},{"$f":"IFERROR(AVERAGE(PKN!X26,SUMPKN!AB26),\" \")","v":0},{"$f":"IFERROR(AVERAGE(BI!X26,SUMBI!AB26),\" \")","v":0},{"$f":"IFERROR(AVERAGE(MAT!X26,SUMMAT!AB26),\" \")","v":0},{"$f":"IFERROR(AVERAGE(IPAS!X26,SUMIPAS!AB26),\" \")","v":0},{"$f":"IFERROR(AVERAGE(MUSIK!X26,SUMMUSIK!AB26),\" \")","v":0},{"$f":"IFERROR(AVERAGE(TARI!X26,SUMTARI!AB26),\" \")","v":0},{"$f":"IFERROR(AVERAGE(KRIYA!X26,SUMKRIYA!AB26),\" \")","v":0},{"$f":"IFERROR(AVERAGE(TEATER!X26,SUMTEATER!AB26),\" \")","v":0},{"$f":"IFERROR(AVERAGE(PJOK!X26,SUMPJOK!AB26),\" \")","v":0},{"$f":"IFERROR(AVERAGE(BING!X26,SUMBING!AB26),\" \")","v":0},{"$f":"IFERROR(AVERAGE(MULOK1!X26,SUMM1!AB26),\" \")","v":0},{"$f":"IFERROR(AVERAGE(MULOK2!X26,SUMM2!AB26),\" \")","v":0},0,1]
[null,16,{"$f":"'Data Siswa'!D21","v":0},{"$f":"IFERROR(AVERAGE(PA!X27,SUMPA!AB27),\"\")","v":0},{"$f":"IFERROR(AVERAGE(PKN!X27,SUMPKN!AB27),\" \")","v":0},{"$f":"IFERROR(AVERAGE(BI!X27,SUMBI!AB27),\" \")","v":0},{"$f":"IFERROR(AVERAGE(MAT!X27,SUMMAT!AB27),\" \")","v":0},{"$f":"IFERROR(AVERAGE(IPAS!X27,SUMIPAS!AB27),\" \")","v":0},{"$f":"IFERROR(AVERAGE(MUSIK!X27,SUMMUSIK!AB27),\" \")","v":0},{"$f":"IFERROR(AVERAGE(TARI!X27,SUMTARI!AB27),\" \")","v":0},{"$f":"IFERROR(AVERAGE(KRIYA!X27,SUMKRIYA!AB27),\" \")","v":0},{"$f":"IFERROR(AVERAGE(TEATER!X27,SUMTEATER!AB27),\" \")","v":0},{"$f":"IFERROR(AVERAGE(PJOK!X27,SUMPJOK!AB27),\" \")","v":0},{"$f":"IFERROR(AVERAGE(BING!X27,SUMBING!AB27),\" \")","v":0},{"$f":"IFERROR(AVERAGE(MULOK1!X27,SUMM1!AB27),\" \")","v":0},{"$f":"IFERROR(AVERAGE(MULOK2!X27,SUMM2!AB27),\" \")","v":0},0,1]
[null,17,{"$f":"'Data Siswa'!D22","v":0},{"$f":"IFERROR(AVERAGE(PA!X28,SUMPA!AB28),\"\")","v":0},{"$f":"IFERROR(AVERAGE(PKN!X28,SUMPKN!AB28),\" \")","v":0},{"$f":"IFERROR(AVERAGE(BI!X28,SUMBI!AB28),\" \")","v":0},{"$f":"IFERROR(AVERAGE(MAT!X28,SUMMAT!AB28),\" \")","v":0},{"$f":"IFERROR(AVERAGE(IPAS!X28,SUMIPAS!AB28),\" \")","v":0},{"$f":"IFERROR(AVERAGE(MUSIK!X28,SUMMUSIK!AB28),\" \")","v":0},{"$f":"IFERROR(AVERAGE(TARI!X28,SUMTARI!AB28),\" \")","v":0},{"$f":"IFERROR(AVERAGE(KRIYA!X28,SUMKRIYA!AB28),\" \")","v":0},{"$f":"IFERROR(AVERAGE(TEATER!X28,SUMTEATER!AB28),\" \")","v":0},{"$f":"IFERROR(AVERAGE(PJOK!X28,SUMPJOK!AB28),\" \")","v":0},{"$f":"IFERROR(AVERAGE(BING!X28,SUMBING!AB28),\" \")","v":0},{"$f":"IFERROR(AVERAGE(MULOK1!X28,SUMM1!AB28),\" \")","v":0},{"$f":"IFERROR(AVERAGE(MULOK2!X28,SUMM2!AB28),\" \")","v":0},0,1]
[null,18,{"$f":"'Data Siswa'!D23","v":0},{"$f":"IFERROR(AVERAGE(PA!X29,SUMPA!AB29),\"\")","v":0},{"$f":"IFERROR(AVERAGE(PKN!X29,SUMPKN!AB29),\" \")","v":0},{"$f":"IFERROR(AVERAGE(BI!X29,SUMBI!AB29),\" \")","v":0},{"$f":"IFERROR(AVERAGE(MAT!X29,SUMMAT!AB29),\" \")","v":0},{"$f":"IFERROR(AVERAGE(IPAS!X29,SUMIPAS!AB29),\" \")","v":0},{"$f":"IFERROR(AVERAGE(MUSIK!X29,SUMMUSIK!AB29),\" \")","v":0},{"$f":"IFERROR(AVERAGE(TARI!X29,SUMTARI!AB29),\" \")","v":0},{"$f":"IFERROR(AVERAGE(KRIYA!X29,SUMKRIYA!AB29),\" \")","v":0},{"$f":"IFERROR(AVERAGE(TEATER!X29,SUMTEATER!AB29),\" \")","v":0},{"$f":"IFERROR(AVERAGE(PJOK!X29,SUMPJOK!AB29),\" \")","v":0},{"$f":"IFERROR(AVERAGE(BING!X29,SUMBING!AB29),\" \")","v":0},{"$f":"IFERROR(AVERAGE(MULOK1!X29,SUMM1!AB29),\" \")","v":0},{"$f":"IFERROR(AVERAGE(MULOK2!X29,SUMM2!AB29),\" \")","v":0},0,1]
[null,19,{"$f":"'Data Siswa'!D24","v":0},{"$f":"IFERROR(AVERAGE(PA!X30,SUMPA!AB30),\"\")","v":0},{"$f":"IFERROR(AVERAGE(PKN!X30,SUMPKN!AB30),\" \")","v":0},{"$f":"IFERROR(AVERAGE(BI!X30,SUMBI!AB30),\" \")","v":0},{"$f":"IFERROR(AVERAGE(MAT!X30,SUMMAT!AB30),\" \")","v":0},{"$f":"IFERROR(AVERAGE(IPAS!X30,SUMIPAS!AB30),\" \")","v":0},{"$f":"IFERROR(AVERAGE(MUSIK!X30,SUMMUSIK!AB30),\" \")","v":0},{"$f":"IFERROR(AVERAGE(TARI!X30,SUMTARI!AB30),\" \")","v":0},{"$f":"IFERROR(AVERAGE(KRIYA!X30,SUMKRIYA!AB30),\" \")","v":0},{"$f":"IFERROR(AVERAGE(TEATER!X30,SUMTEATER!AB30),\" \")","v":0},{"$f":"IFERROR(AVERAGE(PJOK!X30,SUMPJOK!AB30),\" \")","v":0},{"$f":"IFERROR(AVERAGE(BING!X30,SUMBING!AB30),\" \")","v":0},{"$f":"IFERROR(AVERAGE(MULOK1!X30,SUMM1!AB30),\" \")","v":0},{"$f":"IFERROR(AVERAGE(MULOK2!X30,SUMM2!AB30),\" \")","v":0},0,1]
[null,20,{"$f":"'Data Siswa'!D25","v":0},{"$f":"IFERROR(AVERAGE(PA!X31,SUMPA!AB31),\"\")","v":0},{"$f":"IFERROR(AVERAGE(PKN!X31,SUMPKN!AB31),\" \")","v":0},{"$f":"IFERROR(AVERAGE(BI!X31,SUMBI!AB31),\" \")","v":0},{"$f":"IFERROR(AVERAGE(MAT!X31,SUMMAT!AB31),\" \")","v":0},{"$f":"IFERROR(AVERAGE(IPAS!X31,SUMIPAS!AB31),\" \")","v":0},{"$f":"IFERROR(AVERAGE(MUSIK!X31,SUMMUSIK!AB31),\" \")","v":0},{"$f":"IFERROR(AVERAGE(TARI!X31,SUMTARI!AB31),\" \")","v":0},{"$f":"IFERROR(AVERAGE(KRIYA!X31,SUMKRIYA!AB31),\" \")","v":0},{"$f":"IFERROR(AVERAGE(TEATER!X31,SUMTEATER!AB31),\" \")","v":0},{"$f":"IFERROR(AVERAGE(PJOK!X31,SUMPJOK!AB31),\" \")","v":0},{"$f":"IFERROR(AVERAGE(BING!X31,SUMBING!AB31),\" \")","v":0},{"$f":"IFERROR(AVERAGE(MULOK1!X31,SUMM1!AB31),\" \")","v":0},{"$f":"IFERROR(AVERAGE(MULOK2!X31,SUMM2!AB31),\" \")","v":0},0,1]
[null,21,{"$f":"'Data Siswa'!D26","v":0},{"$f":"IFERROR(AVERAGE(PA!X32,SUMPA!AB32),\"\")","v":0},{"$f":"IFERROR(AVERAGE(PKN!X32,SUMPKN!AB32),\" \")","v":0},{"$f":"IFERROR(AVERAGE(BI!X32,SUMBI!AB32),\" \")","v":0},{"$f":"IFERROR(AVERAGE(MAT!X32,SUMMAT!AB32),\" \")","v":0},{"$f":"IFERROR(AVERAGE(IPAS!X32,SUMIPAS!AB32),\" \")","v":0},{"$f":"IFERROR(AVERAGE(MUSIK!X32,SUMMUSIK!AB32),\" \")","v":0},{"$f":"IFERROR(AVERAGE(TARI!X32,SUMTARI!AB32),\" \")","v":0},{"$f":"IFERROR(AVERAGE(KRIYA!X32,SUMKRIYA!AB32),\" \")","v":0},{"$f":"IFERROR(AVERAGE(TEATER!X32,SUMTEATER!AB32),\" \")","v":0},{"$f":"IFERROR(AVERAGE(PJOK!X32,SUMPJOK!AB32),\" \")","v":0},{"$f":"IFERROR(AVERAGE(BING!X32,SUMBING!AB32),\" \")","v":0},{"$f":"IFERROR(AVERAGE(MULOK1!X32,SUMM1!AB32),\" \")","v":0},{"$f":"IFERROR(AVERAGE(MULOK2!X32,SUMM2!AB32),\" \")","v":0},0,1]
[null,22,{"$f":"'Data Siswa'!D27","v":0},{"$f":"IFERROR(AVERAGE(PA!X33,SUMPA!AB33),\"\")","v":0},{"$f":"IFERROR(AVERAGE(PKN!X33,SUMPKN!AB33),\" \")","v":0},{"$f":"IFERROR(AVERAGE(BI!X33,SUMBI!AB33),\" \")","v":0},{"$f":"IFERROR(AVERAGE(MAT!X33,SUMMAT!AB33),\" \")","v":0},{"$f":"IFERROR(AVERAGE(IPAS!X33,SUMIPAS!AB33),\" \")","v":0},{"$f":"IFERROR(AVERAGE(MUSIK!X33,SUMMUSIK!AB33),\" \")","v":0},{"$f":"IFERROR(AVERAGE(TARI!X33,SUMTARI!AB33),\" \")","v":0},{"$f":"IFERROR(AVERAGE(KRIYA!X33,SUMKRIYA!AB33),\" \")","v":0},{"$f":"IFERROR(AVERAGE(TEATER!X33,SUMTEATER!AB33),\" \")","v":0},{"$f":"IFERROR(AVERAGE(PJOK!X33,SUMPJOK!AB33),\" \")","v":0},{"$f":"IFERROR(AVERAGE(BING!X33,SUMBING!AB33),\" \")","v":0},{"$f":"IFERROR(AVERAGE(MULOK1!X33,SUMM1!AB33),\" \")","v":0},{"$f":"IFERROR(AVERAGE(MULOK2!X33,SUMM2!AB33),\" \")","v":0},0,1]
[null,23,{"$f":"'Data Siswa'!D28","v":0},{"$f":"IFERROR(AVERAGE(PA!X34,SUMPA!AB34),\"\")","v":0},{"$f":"IFERROR(AVERAGE(PKN!X34,SUMPKN!AB34),\" \")","v":0},{"$f":"IFERROR(AVERAGE(BI!X34,SUMBI!AB34),\" \")","v":0},{"$f":"IFERROR(AVERAGE(MAT!X34,SUMMAT!AB34),\" \")","v":0},{"$f":"IFERROR(AVERAGE(IPAS!X34,SUMIPAS!AB34),\" \")","v":0},{"$f":"IFERROR(AVERAGE(MUSIK!X34,SUMMUSIK!AB34),\" \")","v":0},{"$f":"IFERROR(AVERAGE(TARI!X34,SUMTARI!AB34),\" \")","v":0},{"$f":"IFERROR(AVERAGE(KRIYA!X34,SUMKRIYA!AB34),\" \")","v":0},{"$f":"IFERROR(AVERAGE(TEATER!X34,SUMTEATER!AB34),\" \")","v":0},{"$f":"IFERROR(AVERAGE(PJOK!X34,SUMPJOK!AB34),\" \")","v":0},{"$f":"IFERROR(AVERAGE(BING!X34,SUMBING!AB34),\" \")","v":0},{"$f":"IFERROR(AVERAGE(MULOK1!X34,SUMM1!AB34),\" \")","v":0},{"$f":"IFERROR(AVERAGE(MULOK2!X34,SUMM2!AB34),\" \")","v":0},0,1]
[null,24,{"$f":"'Data Siswa'!D29","v":0},{"$f":"IFERROR(AVERAGE(PA!X35,SUMPA!AB35),\"\")","v":0},{"$f":"IFERROR(AVERAGE(PKN!X35,SUMPKN!AB35),\" \")","v":0},{"$f":"IFERROR(AVERAGE(BI!X35,SUMBI!AB35),\" \")","v":0},{"$f":"IFERROR(AVERAGE(MAT!X35,SUMMAT!AB35),\" \")","v":0},{"$f":"IFERROR(AVERAGE(IPAS!X35,SUMIPAS!AB35),\" \")","v":0},{"$f":"IFERROR(AVERAGE(MUSIK!X35,SUMMUSIK!AB35),\" \")","v":0},{"$f":"IFERROR(AVERAGE(TARI!X35,SUMTARI!AB35),\" \")","v":0},{"$f":"IFERROR(AVERAGE(KRIYA!X35,SUMKRIYA!AB35),\" \")","v":0},{"$f":"IFERROR(AVERAGE(TEATER!X35,SUMTEATER!AB35),\" \")","v":0},{"$f":"IFERROR(AVERAGE(PJOK!X35,SUMPJOK!AB35),\" \")","v":0},{"$f":"IFERROR(AVERAGE(BING!X35,SUMBING!AB35),\" \")","v":0},{"$f":"IFERROR(AVERAGE(MULOK1!X35,SUMM1!AB35),\" \")","v":0},{"$f":"IFERROR(AVERAGE(MULOK2!X35,SUMM2!AB35),\" \")","v":0},0,1]
[null,25,{"$f":"'Data Siswa'!D30","v":0},{"$f":"IFERROR(AVERAGE(PA!X36,SUMPA!AB36),\"\")","v":0},{"$f":"IFERROR(AVERAGE(PKN!X36,SUMPKN!AB36),\" \")","v":0},{"$f":"IFERROR(AVERAGE(BI!X36,SUMBI!AB36),\" \")","v":0},{"$f":"IFERROR(AVERAGE(MAT!X36,SUMMAT!AB36),\" \")","v":0},{"$f":"IFERROR(AVERAGE(IPAS!X36,SUMIPAS!AB36),\" \")","v":0},{"$f":"IFERROR(AVERAGE(MUSIK!X36,SUMMUSIK!AB36),\" \")","v":0},{"$f":"IFERROR(AVERAGE(TARI!X36,SUMTARI!AB36),\" \")","v":0},{"$f":"IFERROR(AVERAGE(KRIYA!X36,SUMKRIYA!AB36),\" \")","v":0},{"$f":"IFERROR(AVERAGE(TEATER!X36,SUMTEATER!AB36),\" \")","v":0},{"$f":"IFERROR(AVERAGE(PJOK!X36,SUMPJOK!AB36),\" \")","v":0},{"$f":"IFERROR(AVERAGE(BING!X36,SUMBING!AB36),\" \")","v":0},{"$f":"IFERROR(AVERAGE(MULOK1!X36,SUMM1!AB36),\" \")","v":0},{"$f":"IFERROR(AVERAGE(MULOK2!X36,SUMM2!AB36),\" \")","v":0},0,1]
[null,26,{"$f":"'Data Siswa'!D31","v":0},{"$f":"IFERROR(AVERAGE(PA!X37,SUMPA!AB37),\"\")","v":0},{"$f":"IFERROR(AVERAGE(PKN!X37,SUMPKN!AB37),\" \")","v":0},{"$f":"IFERROR(AVERAGE(BI!X37,SUMBI!AB37),\" \")","v":0},{"$f":"IFERROR(AVERAGE(MAT!X37,SUMMAT!AB37),\" \")","v":0},{"$f":"IFERROR(AVERAGE(IPAS!X37,SUMIPAS!AB37),\" \")","v":0},{"$f":"IFERROR(AVERAGE(MUSIK!X37,SUMMUSIK!AB37),\" \")","v":0},{"$f":"IFERROR(AVERAGE(TARI!X37,SUMTARI!AB37),\" \")","v":0},{"$f":"IFERROR(AVERAGE(KRIYA!X37,SUMKRIYA!AB37),\" \")","v":0},{"$f":"IFERROR(AVERAGE(TEATER!X37,SUMTEATER!AB37),\" \")","v":0},{"$f":"IFERROR(AVERAGE(PJOK!X37,SUMPJOK!AB37),\" \")","v":0},{"$f":"IFERROR(AVERAGE(BING!X37,SUMBING!AB37),\" \")","v":0},{"$f":"IFERROR(AVERAGE(MULOK1!X37,SUMM1!AB37),\" \")","v":0},{"$f":"IFERROR(AVERAGE(MULOK2!X37,SUMM2!AB37),\" \")","v":0},0,1]
[null,27,{"$f":"'Data Siswa'!D32","v":0},{"$f":"IFERROR(AVERAGE(PA!X38,SUMPA!AB38),\"\")","v":0},{"$f":"IFERROR(AVERAGE(PKN!X38,SUMPKN!AB38),\" \")","v":0},{"$f":"IFERROR(AVERAGE(BI!X38,SUMBI!AB38),\" \")","v":0},{"$f":"IFERROR(AVERAGE(MAT!X38,SUMMAT!AB38),\" \")","v":0},{"$f":"IFERROR(AVERAGE(IPAS!X38,SUMIPAS!AB38),\" \")","v":0},{"$f":"IFERROR(AVERAGE(MUSIK!X38,SUMMUSIK!AB38),\" \")","v":0},{"$f":"IFERROR(AVERAGE(TARI!X38,SUMTARI!AB38),\" \")","v":0},{"$f":"IFERROR(AVERAGE(KRIYA!X38,SUMKRIYA!AB38),\" \")","v":0},{"$f":"IFERROR(AVERAGE(TEATER!X38,SUMTEATER!AB38),\" \")","v":0},{"$f":"IFERROR(AVERAGE(PJOK!X38,SUMPJOK!AB38),\" \")","v":0},{"$f":"IFERROR(AVERAGE(BING!X38,SUMBING!AB38),\" \")","v":0},{"$f":"IFERROR(AVERAGE(MULOK1!X38,SUMM1!AB38),\" \")","v":0},{"$f":"IFERROR(AVERAGE(MULOK2!X38,SUMM2!AB38),\" \")","v":0},0,1]
[null,28,{"$f":"'Data Siswa'!D33","v":0},{"$f":"IFERROR(AVERAGE(PA!X39,SUMPA!AB39),\"\")","v":0},{"$f":"IFERROR(AVERAGE(PKN!X39,SUMPKN!AB39),\" \")","v":0},{"$f":"IFERROR(AVERAGE(BI!X39,SUMBI!AB39),\" \")","v":0},{"$f":"IFERROR(AVERAGE(MAT!X39,SUMMAT!AB39),\" \")","v":0},{"$f":"IFERROR(AVERAGE(IPAS!X39,SUMIPAS!AB39),\" \")","v":0},{"$f":"IFERROR(AVERAGE(MUSIK!X39,SUMMUSIK!AB39),\" \")","v":0},{"$f":"IFERROR(AVERAGE(TARI!X39,SUMTARI!AB39),\" \")","v":0},{"$f":"IFERROR(AVERAGE(KRIYA!X39,SUMKRIYA!AB39),\" \")","v":0},{"$f":"IFERROR(AVERAGE(TEATER!X39,SUMTEATER!AB39),\" \")","v":0},{"$f":"IFERROR(AVERAGE(PJOK!X39,SUMPJOK!AB39),\" \")","v":0},{"$f":"IFERROR(AVERAGE(BING!X39,SUMBING!AB39),\" \")","v":0},{"$f":"IFERROR(AVERAGE(MULOK1!X39,SUMM1!AB39),\" \")","v":0},{"$f":"IFERROR(AVERAGE(MULOK2!X39,SUMM2!AB39),\" \")","v":0},0,1]
[null,29,{"$f":"'Data Siswa'!D34","v":0},{"$f":"IFERROR(AVERAGE(PA!X40,SUMPA!AB40),\"\")","v":0},{"$f":"IFERROR(AVERAGE(PKN!X40,SUMPKN!AB40),\" \")","v":0},{"$f":"IFERROR(AVERAGE(BI!X40,SUMBI!AB40),\" \")","v":0},{"$f":"IFERROR(AVERAGE(MAT!X40,SUMMAT!AB40),\" \")","v":0},{"$f":"IFERROR(AVERAGE(IPAS!X40,SUMIPAS!AB40),\" \")","v":0},{"$f":"IFERROR(AVERAGE(MUSIK!X40,SUMMUSIK!AB40),\" \")","v":0},{"$f":"IFERROR(AVERAGE(TARI!X40,SUMTARI!AB40),\" \")","v":0},{"$f":"IFERROR(AVERAGE(KRIYA!X40,SUMKRIYA!AB40),\" \")","v":0},{"$f":"IFERROR(AVERAGE(TEATER!X40,SUMTEATER!AB40),\" \")","v":0},{"$f":"IFERROR(AVERAGE(PJOK!X40,SUMPJOK!AB40),\" \")","v":0},{"$f":"IFERROR(AVERAGE(BING!X40,SUMBING!AB40),\" \")","v":0},{"$f":"IFERROR(AVERAGE(MULOK1!X40,SUMM1!AB40),\" \")","v":0},{"$f":"IFERROR(AVERAGE(MULOK2!X40,SUMM2!AB40),\" \")","v":0},0,1]
[null,30,{"$f":"'Data Siswa'!D35","v":0},{"$f":"IFERROR(AVERAGE(PA!X41,SUMPA!AB41),\"\")","v":0},{"$f":"IFERROR(AVERAGE(PKN!X41,SUMPKN!AB41),\" \")","v":0},{"$f":"IFERROR(AVERAGE(BI!X41,SUMBI!AB41),\" \")","v":0},{"$f":"IFERROR(AVERAGE(MAT!X41,SUMMAT!AB41),\" \")","v":0},{"$f":"IFERROR(AVERAGE(IPAS!X41,SUMIPAS!AB41),\" \")","v":0},{"$f":"IFERROR(AVERAGE(MUSIK!X41,SUMMUSIK!AB41),\" \")","v":0},{"$f":"IFERROR(AVERAGE(TARI!X41,SUMTARI!AB41),\" \")","v":0},{"$f":"IFERROR(AVERAGE(KRIYA!X41,SUMKRIYA!AB41),\" \")","v":0},{"$f":"IFERROR(AVERAGE(TEATER!X41,SUMTEATER!AB41),\" \")","v":0},{"$f":"IFERROR(AVERAGE(PJOK!X41,SUMPJOK!AB41),\" \")","v":0},{"$f":"IFERROR(AVERAGE(BING!X41,SUMBING!AB41),\" \")","v":0},{"$f":"IFERROR(AVERAGE(MULOK1!X41,SUMM1!AB41),\" \")","v":0},{"$f":"IFERROR(AVERAGE(MULOK2!X41,SUMM2!AB41),\" \")","v":0},0,1]
[null,31,{"$f":"'Data Siswa'!D36","v":0},{"$f":"IFERROR(AVERAGE(PA!X42,SUMPA!AB42),\"\")","v":0},{"$f":"IFERROR(AVERAGE(PKN!X42,SUMPKN!AB42),\" \")","v":0},{"$f":"IFERROR(AVERAGE(BI!X42,SUMBI!AB42),\" \")","v":0},{"$f":"IFERROR(AVERAGE(MAT!X42,SUMMAT!AB42),\" \")","v":0},{"$f":"IFERROR(AVERAGE(IPAS!X42,SUMIPAS!AB42),\" \")","v":0},{"$f":"IFERROR(AVERAGE(MUSIK!X42,SUMMUSIK!AB42),\" \")","v":0},{"$f":"IFERROR(AVERAGE(TARI!X42,SUMTARI!AB42),\" \")","v":0},{"$f":"IFERROR(AVERAGE(KRIYA!X42,SUMKRIYA!AB42),\" \")","v":0},{"$f":"IFERROR(AVERAGE(TEATER!X42,SUMTEATER!AB42),\" \")","v":0},{"$f":"IFERROR(AVERAGE(PJOK!X42,SUMPJOK!AB42),\" \")","v":0},{"$f":"IFERROR(AVERAGE(BING!X42,SUMBING!AB42),\" \")","v":0},{"$f":"IFERROR(AVERAGE(MULOK1!X42,SUMM1!AB42),\" \")","v":0},{"$f":"IFERROR(AVERAGE(MULOK2!X42,SUMM2!AB42),\" \")","v":0},0,1]
[null,32,{"$f":"'Data Siswa'!D37","v":0},{"$f":"IFERROR(AVERAGE(PA!X43,SUMPA!AB43),\"\")","v":0},{"$f":"IFERROR(AVERAGE(PKN!X43,SUMPKN!AB43),\" \")","v":0},{"$f":"IFERROR(AVERAGE(BI!X43,SUMBI!AB43),\" \")","v":0},{"$f":"IFERROR(AVERAGE(MAT!X43,SUMMAT!AB43),\" \")","v":0},{"$f":"IFERROR(AVERAGE(IPAS!X43,SUMIPAS!AB43),\" \")","v":0},{"$f":"IFERROR(AVERAGE(MUSIK!X43,SUMMUSIK!AB43),\" \")","v":0},{"$f":"IFERROR(AVERAGE(TARI!X43,SUMTARI!AB43),\" \")","v":0},{"$f":"IFERROR(AVERAGE(KRIYA!X43,SUMKRIYA!AB43),\" \")","v":0},{"$f":"IFERROR(AVERAGE(TEATER!X43,SUMTEATER!AB43),\" \")","v":0},{"$f":"IFERROR(AVERAGE(PJOK!X43,SUMPJOK!AB43),\" \")","v":0},{"$f":"IFERROR(AVERAGE(BING!X43,SUMBING!AB43),\" \")","v":0},{"$f":"IFERROR(AVERAGE(MULOK1!X43,SUMM1!AB43),\" \")","v":0},{"$f":"IFERROR(AVERAGE(MULOK2!X43,SUMM2!AB43),\" \")","v":0},0,1]
[null,33,{"$f":"'Data Siswa'!D38","v":0},{"$f":"IFERROR(AVERAGE(PA!X44,SUMPA!AB44),\"\")","v":0},{"$f":"IFERROR(AVERAGE(PKN!X44,SUMPKN!AB44),\" \")","v":0},{"$f":"IFERROR(AVERAGE(BI!X44,SUMBI!AB44),\" \")","v":0},{"$f":"IFERROR(AVERAGE(MAT!X44,SUMMAT!AB44),\" \")","v":0},{"$f":"IFERROR(AVERAGE(IPAS!X44,SUMIPAS!AB44),\" \")","v":0},{"$f":"IFERROR(AVERAGE(MUSIK!X44,SUMMUSIK!AB44),\" \")","v":0},{"$f":"IFERROR(AVERAGE(TARI!X44,SUMTARI!AB44),\" \")","v":0},{"$f":"IFERROR(AVERAGE(KRIYA!X44,SUMKRIYA!AB44),\" \")","v":0},{"$f":"IFERROR(AVERAGE(TEATER!X44,SUMTEATER!AB44),\" \")","v":0},{"$f":"IFERROR(AVERAGE(PJOK!X44,SUMPJOK!AB44),\" \")","v":0},{"$f":"IFERROR(AVERAGE(BING!X44,SUMBING!AB44),\" \")","v":0},{"$f":"IFERROR(AVERAGE(MULOK1!X44,SUMM1!AB44),\" \")","v":0},{"$f":"IFERROR(AVERAGE(MULOK2!X44,SUMM2!AB44),\" \")","v":0},0,1]
[null,34,{"$f":"'Data Siswa'!D39","v":0},{"$f":"IFERROR(AVERAGE(PA!X45,SUMPA!AB45),\"\")","v":0},{"$f":"IFERROR(AVERAGE(PKN!X45,SUMPKN!AB45),\" \")","v":0},{"$f":"IFERROR(AVERAGE(BI!X45,SUMBI!AB45),\" \")","v":0},{"$f":"IFERROR(AVERAGE(MAT!X45,SUMMAT!AB45),\" \")","v":0},{"$f":"IFERROR(AVERAGE(IPAS!X45,SUMIPAS!AB45),\" \")","v":0},{"$f":"IFERROR(AVERAGE(MUSIK!X45,SUMMUSIK!AB45),\" \")","v":0},{"$f":"IFERROR(AVERAGE(TARI!X45,SUMTARI!AB45),\" \")","v":0},{"$f":"IFERROR(AVERAGE(KRIYA!X45,SUMKRIYA!AB45),\" \")","v":0},{"$f":"IFERROR(AVERAGE(TEATER!X45,SUMTEATER!AB45),\" \")","v":0},{"$f":"IFERROR(AVERAGE(PJOK!X45,SUMPJOK!AB45),\" \")","v":0},{"$f":"IFERROR(AVERAGE(BING!X45,SUMBING!AB45),\" \")","v":0},{"$f":"IFERROR(AVERAGE(MULOK1!X45,SUMM1!AB45),\" \")","v":0},{"$f":"IFERROR(AVERAGE(MULOK2!X45,SUMM2!AB45),\" \")","v":0},0,1]
[null,35,{"$f":"'Data Siswa'!D40","v":0},{"$f":"IFERROR(AVERAGE(PA!X46,SUMPA!AB46),\"\")","v":0},{"$f":"IFERROR(AVERAGE(PKN!X46,SUMPKN!AB46),\" \")","v":0},{"$f":"IFERROR(AVERAGE(BI!X46,SUMBI!AB46),\" \")","v":0},{"$f":"IFERROR(AVERAGE(MAT!X46,SUMMAT!AB46),\" \")","v":0},{"$f":"IFERROR(AVERAGE(IPAS!X46,SUMIPAS!AB46),\" \")","v":0},{"$f":"IFERROR(AVERAGE(MUSIK!X46,SUMMUSIK!AB46),\" \")","v":0},{"$f":"IFERROR(AVERAGE(TARI!X46,SUMTARI!AB46),\" \")","v":0},{"$f":"IFERROR(AVERAGE(KRIYA!X46,SUMKRIYA!AB46),\" \")","v":0},{"$f":"IFERROR(AVERAGE(TEATER!X46,SUMTEATER!AB46),\" \")","v":0},{"$f":"IFERROR(AVERAGE(PJOK!X46,SUMPJOK!AB46),\" \")","v":0},{"$f":"IFERROR(AVERAGE(BING!X46,SUMBING!AB46),\" \")","v":0},{"$f":"IFERROR(AVERAGE(MULOK1!X46,SUMM1!AB46),\" \")","v":0},{"$f":"IFERROR(AVERAGE(MULOK2!X46,SUMM2!AB46),\" \")","v":0},0,1]
[null,36,{"$f":"'Data Siswa'!D41","v":0},{"$f":"IFERROR(AVERAGE(PA!X47,SUMPA!AB47),\"\")","v":0},{"$f":"IFERROR(AVERAGE(PKN!X47,SUMPKN!AB47),\" \")","v":0},{"$f":"IFERROR(AVERAGE(BI!X47,SUMBI!AB47),\" \")","v":0},{"$f":"IFERROR(AVERAGE(MAT!X47,SUMMAT!AB47),\" \")","v":0},{"$f":"IFERROR(AVERAGE(IPAS!X47,SUMIPAS!AB47),\" \")","v":0},{"$f":"IFERROR(AVERAGE(MUSIK!X47,SUMMUSIK!AB47),\" \")","v":0},{"$f":"IFERROR(AVERAGE(TARI!X47,SUMTARI!AB47),\" \")","v":0},{"$f":"IFERROR(AVERAGE(KRIYA!X47,SUMKRIYA!AB47),\" \")","v":0},{"$f":"IFERROR(AVERAGE(TEATER!X47,SUMTEATER!AB47),\" \")","v":0},{"$f":"IFERROR(AVERAGE(PJOK!X47,SUMPJOK!AB47),\" \")","v":0},{"$f":"IFERROR(AVERAGE(BING!X47,SUMBING!AB47),\" \")","v":0},{"$f":"IFERROR(AVERAGE(MULOK1!X47,SUMM1!AB47),\" \")","v":0},{"$f":"IFERROR(AVERAGE(MULOK2!X47,SUMM2!AB47),\" \")","v":0},0,1]
[null,37,{"$f":"'Data Siswa'!D42","v":0},{"$f":"IFERROR(AVERAGE(PA!X48,SUMPA!AB48),\"\")","v":0},{"$f":"IFERROR(AVERAGE(PKN!X48,SUMPKN!AB48),\" \")","v":0},{"$f":"IFERROR(AVERAGE(BI!X48,SUMBI!AB48),\" \")","v":0},{"$f":"IFERROR(AVERAGE(MAT!X48,SUMMAT!AB48),\" \")","v":0},{"$f":"IFERROR(AVERAGE(IPAS!X48,SUMIPAS!AB48),\" \")","v":0},{"$f":"IFERROR(AVERAGE(MUSIK!X48,SUMMUSIK!AB48),\" \")","v":0},{"$f":"IFERROR(AVERAGE(TARI!X48,SUMTARI!AB48),\" \")","v":0},{"$f":"IFERROR(AVERAGE(KRIYA!X48,SUMKRIYA!AB48),\" \")","v":0},{"$f":"IFERROR(AVERAGE(TEATER!X48,SUMTEATER!AB48),\" \")","v":0},{"$f":"IFERROR(AVERAGE(PJOK!X48,SUMPJOK!AB48),\" \")","v":0},{"$f":"IFERROR(AVERAGE(BING!X48,SUMBING!AB48),\" \")","v":0},{"$f":"IFERROR(AVERAGE(MULOK1!X48,SUMM1!AB48),\" \")","v":0},{"$f":"IFERROR(AVERAGE(MULOK2!X48,SUMM2!AB48),\" \")","v":0},0,1]
[null,38,{"$f":"'Data Siswa'!D43","v":0},{"$f":"IFERROR(AVERAGE(PA!X49,SUMPA!AB49),\"\")","v":0},{"$f":"IFERROR(AVERAGE(PKN!X49,SUMPKN!AB49),\" \")","v":0},{"$f":"IFERROR(AVERAGE(BI!X49,SUMBI!AB49),\" \")","v":0},{"$f":"IFERROR(AVERAGE(MAT!X49,SUMMAT!AB49),\" \")","v":0},{"$f":"IFERROR(AVERAGE(IPAS!X49,SUMIPAS!AB49),\" \")","v":0},{"$f":"IFERROR(AVERAGE(MUSIK!X49,SUMMUSIK!AB49),\" \")","v":0},{"$f":"IFERROR(AVERAGE(TARI!X49,SUMTARI!AB49),\" \")","v":0},{"$f":"IFERROR(AVERAGE(KRIYA!X49,SUMKRIYA!AB49),\" \")","v":0},{"$f":"IFERROR(AVERAGE(TEATER!X49,SUMTEATER!AB49),\" \")","v":0},{"$f":"IFERROR(AVERAGE(PJOK!X49,SUMPJOK!AB49),\" \")","v":0},{"$f":"IFERROR(AVERAGE(BING!X49,SUMBING!AB49),\" \")","v":0},{"$f":"IFERROR(AVERAGE(MULOK1!X49,SUMM1!AB49),\" \")","v":0},{"$f":"IFERROR(AVERAGE(MULOK2!X49,SUMM2!AB49),\" \")","v":0},0,1]
[null,39,{"$f":"'Data Siswa'!D44","v":0},{"$f":"IFERROR(AVERAGE(PA!X50,SUMPA!AB50),\"\")","v":0},{"$f":"IFERROR(AVERAGE(PKN!X50,SUMPKN!AB50),\" \")","v":0},{"$f":"IFERROR(AVERAGE(BI!X50,SUMBI!AB50),\" \")","v":0},{"$f":"IFERROR(AVERAGE(MAT!X50,SUMMAT!AB50),\" \")","v":0},{"$f":"IFERROR(AVERAGE(IPAS!X50,SUMIPAS!AB50),\" \")","v":0},{"$f":"IFERROR(AVERAGE(MUSIK!X50,SUMMUSIK!AB50),\" \")","v":0},{"$f":"IFERROR(AVERAGE(TARI!X50,SUMTARI!AB50),\" \")","v":0},{"$f":"IFERROR(AVERAGE(KRIYA!X50,SUMKRIYA!AB50),\" \")","v":0},{"$f":"IFERROR(AVERAGE(TEATER!X50,SUMTEATER!AB50),\" \")","v":0},{"$f":"IFERROR(AVERAGE(PJOK!X50,SUMPJOK!AB50),\" \")","v":0},{"$f":"IFERROR(AVERAGE(BING!X50,SUMBING!AB50),\" \")","v":0},{"$f":"IFERROR(AVERAGE(MULOK1!X50,SUMM1!AB50),\" \")","v":0},{"$f":"IFERROR(AVERAGE(MULOK2!X50,SUMM2!AB50),\" \")","v":0},0,1]
[null,40,{"$f":"'Data Siswa'!D45","v":0},{"$f":"IFERROR(AVERAGE(PA!X51,SUMPA!AB51),\"\")","v":0},{"$f":"IFERROR(AVERAGE(PKN!X51,SUMPKN!AB51),\" \")","v":0},{"$f":"IFERROR(AVERAGE(BI!X51,SUMBI!AB51),\" \")","v":0},{"$f":"IFERROR(AVERAGE(MAT!X51,SUMMAT!AB51),\" \")","v":0},{"$f":"IFERROR(AVERAGE(IPAS!X51,SUMIPAS!AB51),\" \")","v":0},{"$f":"IFERROR(AVERAGE(MUSIK!X51,SUMMUSIK!AB51),\" \")","v":0},{"$f":"IFERROR(AVERAGE(TARI!X51,SUMTARI!AB51),\" \")","v":0},{"$f":"IFERROR(AVERAGE(KRIYA!X51,SUMKRIYA!AB51),\" \")","v":0},{"$f":"IFERROR(AVERAGE(TEATER!X51,SUMTEATER!AB51),\" \")","v":0},{"$f":"IFERROR(AVERAGE(PJOK!X51,SUMPJOK!AB51),\" \")","v":0},{"$f":"IFERROR(AVERAGE(BING!X51,SUMBING!AB51),\" \")","v":0},{"$f":"IFERROR(AVERAGE(MULOK1!X51,SUMM1!AB51),\" \")","v":0},{"$f":"IFERROR(AVERAGE(MULOK2!X51,SUMM2!AB51),\" \")","v":0},0,1]
[null,41,{"$f":"'Data Siswa'!D46","v":0},{"$f":"IFERROR(AVERAGE(PA!X52,SUMPA!AB52),\"\")","v":0},{"$f":"IFERROR(AVERAGE(PKN!X52,SUMPKN!AB52),\" \")","v":0},{"$f":"IFERROR(AVERAGE(BI!X52,SUMBI!AB52),\" \")","v":0},{"$f":"IFERROR(AVERAGE(MAT!X52,SUMMAT!AB52),\" \")","v":0},{"$f":"IFERROR(AVERAGE(IPAS!X52,SUMIPAS!AB52),\" \")","v":0},{"$f":"IFERROR(AVERAGE(MUSIK!X52,SUMMUSIK!AB52),\" \")","v":0},{"$f":"IFERROR(AVERAGE(TARI!X52,SUMTARI!AB52),\" \")","v":0},{"$f":"IFERROR(AVERAGE(KRIYA!X52,SUMKRIYA!AB52),\" \")","v":0},{"$f":"IFERROR(AVERAGE(TEATER!X52,SUMTEATER!AB52),\" \")","v":0},{"$f":"IFERROR(AVERAGE(PJOK!X52,SUMPJOK!AB52),\" \")","v":0},{"$f":"IFERROR(AVERAGE(BING!X52,SUMBING!AB52),\" \")","v":0},{"$f":"IFERROR(AVERAGE(MULOK1!X52,SUMM1!AB52),\" \")","v":0},{"$f":"IFERROR(AVERAGE(MULOK2!X52,SUMM2!AB52),\" \")","v":0},0,1]
[null,42,{"$f":"'Data Siswa'!D47","v":0},{"$f":"IFERROR(AVERAGE(PA!X53,SUMPA!AB53),\"\")","v":0},{"$f":"IFERROR(AVERAGE(PKN!X53,SUMPKN!AB53),\" \")","v":0},{"$f":"IFERROR(AVERAGE(BI!X53,SUMBI!AB53),\" \")","v":0},{"$f":"IFERROR(AVERAGE(MAT!X53,SUMMAT!AB53),\" \")","v":0},{"$f":"IFERROR(AVERAGE(IPAS!X53,SUMIPAS!AB53),\" \")","v":0},{"$f":"IFERROR(AVERAGE(MUSIK!X53,SUMMUSIK!AB53),\" \")","v":0},{"$f":"IFERROR(AVERAGE(TARI!X53,SUMTARI!AB53),\" \")","v":0},{"$f":"IFERROR(AVERAGE(KRIYA!X53,SUMKRIYA!AB53),\" \")","v":0},{"$f":"IFERROR(AVERAGE(TEATER!X53,SUMTEATER!AB53),\" \")","v":0},{"$f":"IFERROR(AVERAGE(PJOK!X53,SUMPJOK!AB53),\" \")","v":0},{"$f":"IFERROR(AVERAGE(BING!X53,SUMBING!AB53),\" \")","v":0},{"$f":"IFERROR(AVERAGE(MULOK1!X53,SUMM1!AB53),\" \")","v":0},{"$f":"IFERROR(AVERAGE(MULOK2!X53,SUMM2!AB53),\" \")","v":0},0,1]
[null,43,{"$f":"'Data Siswa'!D48","v":0},{"$f":"IFERROR(AVERAGE(PA!X54,SUMPA!AB54),\"\")","v":0},{"$f":"IFERROR(AVERAGE(PKN!X54,SUMPKN!AB54),\" \")","v":0},{"$f":"IFERROR(AVERAGE(BI!X54,SUMBI!AB54),\" \")","v":0},{"$f":"IFERROR(AVERAGE(MAT!X54,SUMMAT!AB54),\" \")","v":0},{"$f":"IFERROR(AVERAGE(IPAS!X54,SUMIPAS!AB54),\" \")","v":0},{"$f":"IFERROR(AVERAGE(MUSIK!X54,SUMMUSIK!AB54),\" \")","v":0},{"$f":"IFERROR(AVERAGE(TARI!X54,SUMTARI!AB54),\" \")","v":0},{"$f":"IFERROR(AVERAGE(KRIYA!X54,SUMKRIYA!AB54),\" \")","v":0},{"$f":"IFERROR(AVERAGE(TEATER!X54,SUMTEATER!AB54),\" \")","v":0},{"$f":"IFERROR(AVERAGE(PJOK!X54,SUMPJOK!AB54),\" \")","v":0},{"$f":"IFERROR(AVERAGE(BING!X54,SUMBING!AB54),\" \")","v":0},{"$f":"IFERROR(AVERAGE(MULOK1!X54,SUMM1!AB54),\" \")","v":0},{"$f":"IFERROR(AVERAGE(MULOK2!X54,SUMM2!AB54),\" \")","v":0},0,1]
[null,44,{"$f":"'Data Siswa'!D49","v":0},{"$f":"IFERROR(AVERAGE(PA!X55,SUMPA!AB55),\"\")","v":0},{"$f":"IFERROR(AVERAGE(PKN!X55,SUMPKN!AB55),\" \")","v":0},{"$f":"IFERROR(AVERAGE(BI!X55,SUMBI!AB55),\" \")","v":0},{"$f":"IFERROR(AVERAGE(MAT!X55,SUMMAT!AB55),\" \")","v":0},{"$f":"IFERROR(AVERAGE(IPAS!X55,SUMIPAS!AB55),\" \")","v":0},{"$f":"IFERROR(AVERAGE(MUSIK!X55,SUMMUSIK!AB55),\" \")","v":0},{"$f":"IFERROR(AVERAGE(TARI!X55,SUMTARI!AB55),\" \")","v":0},{"$f":"IFERROR(AVERAGE(KRIYA!X55,SUMKRIYA!AB55),\" \")","v":0},{"$f":"IFERROR(AVERAGE(TEATER!X55,SUMTEATER!AB55),\" \")","v":0},{"$f":"IFERROR(AVERAGE(PJOK!X55,SUMPJOK!AB55),\" \")","v":0},{"$f":"IFERROR(AVERAGE(BING!X55,SUMBING!AB55),\" \")","v":0},{"$f":"IFERROR(AVERAGE(MULOK1!X55,SUMM1!AB55),\" \")","v":0},{"$f":"IFERROR(AVERAGE(MULOK2!X55,SUMM2!AB55),\" \")","v":0},0,1]
[null,45,{"$f":"'Data Siswa'!D50","v":0},{"$f":"IFERROR(AVERAGE(PA!X56,SUMPA!AB56),\"\")","v":0},{"$f":"IFERROR(AVERAGE(PKN!X56,SUMPKN!AB56),\" \")","v":0},{"$f":"IFERROR(AVERAGE(BI!X56,SUMBI!AB56),\" \")","v":0},{"$f":"IFERROR(AVERAGE(MAT!X56,SUMMAT!AB56),\" \")","v":0},{"$f":"IFERROR(AVERAGE(IPAS!X56,SUMIPAS!AB56),\" \")","v":0},{"$f":"IFERROR(AVERAGE(MUSIK!X56,SUMMUSIK!AB56),\" \")","v":0},{"$f":"IFERROR(AVERAGE(TARI!X56,SUMTARI!AB56),\" \")","v":0},{"$f":"IFERROR(AVERAGE(KRIYA!X56,SUMKRIYA!AB56),\" \")","v":0},{"$f":"IFERROR(AVERAGE(TEATER!X56,SUMTEATER!AB56),\" \")","v":0},{"$f":"IFERROR(AVERAGE(PJOK!X56,SUMPJOK!AB56),\" \")","v":0},{"$f":"IFERROR(AVERAGE(BING!X56,SUMBING!AB56),\" \")","v":0},{"$f":"IFERROR(AVERAGE(MULOK1!X56,SUMM1!AB56),\" \")","v":0},{"$f":"IFERROR(AVERAGE(MULOK2!X56,SUMM2!AB56),\" \")","v":0},0,1]
[null,46,{"$f":"'Data Siswa'!D51","v":0},{"$f":"IFERROR(AVERAGE(PA!X57,SUMPA!AB57),\"\")","v":0},{"$f":"IFERROR(AVERAGE(PKN!X57,SUMPKN!AB57),\" \")","v":0},{"$f":"IFERROR(AVERAGE(BI!X57,SUMBI!AB57),\" \")","v":0},{"$f":"IFERROR(AVERAGE(MAT!X57,SUMMAT!AB57),\" \")","v":0},{"$f":"IFERROR(AVERAGE(IPAS!X57,SUMIPAS!AB57),\" \")","v":0},{"$f":"IFERROR(AVERAGE(MUSIK!X57,SUMMUSIK!AB57),\" \")","v":0},{"$f":"IFERROR(AVERAGE(TARI!X57,SUMTARI!AB57),\" \")","v":0},{"$f":"IFERROR(AVERAGE(KRIYA!X57,SUMKRIYA!AB57),\" \")","v":0},{"$f":"IFERROR(AVERAGE(TEATER!X57,SUMTEATER!AB57),\" \")","v":0},{"$f":"IFERROR(AVERAGE(PJOK!X57,SUMPJOK!AB57),\" \")","v":0},{"$f":"IFERROR(AVERAGE(BING!X57,SUMBING!AB57),\" \")","v":0},{"$f":"IFERROR(AVERAGE(MULOK1!X57,SUMM1!AB57),\" \")","v":0},{"$f":"IFERROR(AVERAGE(MULOK2!X57,SUMM2!AB57),\" \")","v":0},0,1]
[null,47,{"$f":"'Data Siswa'!D52","v":0},{"$f":"IFERROR(AVERAGE(PA!X58,SUMPA!AB58),\"\")","v":0},{"$f":"IFERROR(AVERAGE(PKN!X58,SUMPKN!AB58),\" \")","v":0},{"$f":"IFERROR(AVERAGE(BI!X58,SUMBI!AB58),\" \")","v":0},{"$f":"IFERROR(AVERAGE(MAT!X58,SUMMAT!AB58),\" \")","v":0},{"$f":"IFERROR(AVERAGE(IPAS!X58,SUMIPAS!AB58),\" \")","v":0},{"$f":"IFERROR(AVERAGE(MUSIK!X58,SUMMUSIK!AB58),\" \")","v":0},{"$f":"IFERROR(AVERAGE(TARI!X58,SUMTARI!AB58),\" \")","v":0},{"$f":"IFERROR(AVERAGE(KRIYA!X58,SUMKRIYA!AB58),\" \")","v":0},{"$f":"IFERROR(AVERAGE(TEATER!X58,SUMTEATER!AB58),\" \")","v":0},{"$f":"IFERROR(AVERAGE(PJOK!X58,SUMPJOK!AB58),\" \")","v":0},{"$f":"IFERROR(AVERAGE(BING!X58,SUMBING!AB58),\" \")","v":0},{"$f":"IFERROR(AVERAGE(MULOK1!X58,SUMM1!AB58),\" \")","v":0},{"$f":"IFERROR(AVERAGE(MULOK2!X58,SUMM2!AB58),\" \")","v":0},0,1]
[null,48,{"$f":"'Data Siswa'!D53","v":0},{"$f":"IFERROR(AVERAGE(PA!X59,SUMPA!AB59),\"\")","v":0},{"$f":"IFERROR(AVERAGE(PKN!X59,SUMPKN!AB59),\" \")","v":0},{"$f":"IFERROR(AVERAGE(BI!X59,SUMBI!AB59),\" \")","v":0},{"$f":"IFERROR(AVERAGE(MAT!X59,SUMMAT!AB59),\" \")","v":0},{"$f":"IFERROR(AVERAGE(IPAS!X59,SUMIPAS!AB59),\" \")","v":0},{"$f":"IFERROR(AVERAGE(MUSIK!X59,SUMMUSIK!AB59),\" \")","v":0},{"$f":"IFERROR(AVERAGE(TARI!X59,SUMTARI!AB59),\" \")","v":0},{"$f":"IFERROR(AVERAGE(KRIYA!X59,SUMKRIYA!AB59),\" \")","v":0},{"$f":"IFERROR(AVERAGE(TEATER!X59,SUMTEATER!AB59),\" \")","v":0},{"$f":"IFERROR(AVERAGE(PJOK!X59,SUMPJOK!AB59),\" \")","v":0},{"$f":"IFERROR(AVERAGE(BING!X59,SUMBING!AB59),\" \")","v":0},{"$f":"IFERROR(AVERAGE(MULOK1!X59,SUMM1!AB59),\" \")","v":0},{"$f":"IFERROR(AVERAGE(MULOK2!X59,SUMM2!AB59),\" \")","v":0},0,1]
[null,49,{"$f":"'Data Siswa'!D54","v":0},{"$f":"IFERROR(AVERAGE(PA!X60,SUMPA!AB60),\"\")","v":0},{"$f":"IFERROR(AVERAGE(PKN!X60,SUMPKN!AB60),\" \")","v":0},{"$f":"IFERROR(AVERAGE(BI!X60,SUMBI!AB60),\" \")","v":0},{"$f":"IFERROR(AVERAGE(MAT!X60,SUMMAT!AB60),\" \")","v":0},{"$f":"IFERROR(AVERAGE(IPAS!X60,SUMIPAS!AB60),\" \")","v":0},{"$f":"IFERROR(AVERAGE(MUSIK!X60,SUMMUSIK!AB60),\" \")","v":0},{"$f":"IFERROR(AVERAGE(TARI!X60,SUMTARI!AB60),\" \")","v":0},{"$f":"IFERROR(AVERAGE(KRIYA!X60,SUMKRIYA!AB60),\" \")","v":0},{"$f":"IFERROR(AVERAGE(TEATER!X60,SUMTEATER!AB60),\" \")","v":0},{"$f":"IFERROR(AVERAGE(PJOK!X60,SUMPJOK!AB60),\" \")","v":0},{"$f":"IFERROR(AVERAGE(BING!X60,SUMBING!AB60),\" \")","v":0},{"$f":"IFERROR(AVERAGE(MULOK1!X60,SUMM1!AB60),\" \")","v":0},{"$f":"IFERROR(AVERAGE(MULOK2!X60,SUMM2!AB60),\" \")","v":0},0,1]
[null,50,{"$f":"'Data Siswa'!D55","v":0},{"$f":"IFERROR(AVERAGE(PA!X61,SUMPA!AB61),\"\")","v":0},{"$f":"IFERROR(AVERAGE(PKN!X61,SUMPKN!AB61),\" \")","v":0},{"$f":"IFERROR(AVERAGE(BI!X61,SUMBI!AB61),\" \")","v":0},{"$f":"IFERROR(AVERAGE(MAT!X61,SUMMAT!AB61),\" \")","v":0},{"$f":"IFERROR(AVERAGE(IPAS!X61,SUMIPAS!AB61),\" \")","v":0},{"$f":"IFERROR(AVERAGE(MUSIK!X61,SUMMUSIK!AB61),\" \")","v":0},{"$f":"IFERROR(AVERAGE(TARI!X61,SUMTARI!AB61),\" \")","v":0},{"$f":"IFERROR(AVERAGE(KRIYA!X61,SUMKRIYA!AB61),\" \")","v":0},{"$f":"IFERROR(AVERAGE(TEATER!X61,SUMTEATER!AB61),\" \")","v":0},{"$f":"IFERROR(AVERAGE(PJOK!X61,SUMPJOK!AB61),\" \")","v":0},{"$f":"IFERROR(AVERAGE(BING!X61,SUMBING!AB61),\" \")","v":0},{"$f":"IFERROR(AVERAGE(MULOK1!X61,SUMM1!AB61),\" \")","v":0},{"$f":"IFERROR(AVERAGE(MULOK2!X61,SUMM2!AB61),\" \")","v":0},0,1]
[null,"RATA-RATA",null,{"$f":"AVERAGEIF(D10:D59,\">0\")","v":{"$error":"#DIV/0!"}},{"$error":"#DIV/0!"},{"$error":"#DIV/0!"},{"$error":"#DIV/0!"},{"$error":"#DIV/0!"},{"$error":"#DIV/0!"},{"$error":"#DIV/0!"},{"$error":"#DIV/0!"},{"$error":"#DIV/0!"},{"$error":"#DIV/0!"},{"$error":"#DIV/0!"},{"$error":"#DIV/0!"},{"$error":"#DIV/0!"},{"$error":"#DIV/0!"}]
[null,null,"min",{"$f":"MIN(D10:D59)","v":0},0,0,0,0,null,null,0,0,{"$f":"MIN(M10:M59)","v":0},{"$f":"MIN(N10:N59)","v":0},{"$f":"MIN(O10:O59)","v":0},{"$f":"MIN(P10:P59)","v":0}]
[null,null,"max",{"$f":"MAX(D10:D59)","v":0},0,0,0,0,null,null,0,0,{"$f":"MAX(M10:M59)","v":0},{"$f":"MAX(N10:N59)","v":0},{"$f":"MAX(O10:O59)","v":0},{"$f":"MAX(P10:P59)","v":0}]

{"sheet":"TP BING","index":36,"n_rows":28,"n_cols":10,"rows_kept":28,"cut":false,"hidden":false,"merged":[[2,0,2,5],[2,6,2,9]]}
[]
[]
["ALUR TUJUAN PEMBELAJARAN ",null,null,null,null,null,"LINGKUP MATERI"]
[]
[null,"Mata Pelajaran",null,null,{"$f":"\": \"&IDENTITAS!$G$16","v":": Bahasa Inggris *"},null,null,"Mata Pelajaran",null,{"$f":"\": \"&IDENTITAS!$G$16","v":": Bahasa Inggris *"}]
[null,"Semester",null,null,{"$f":"\": \"&IDENTITAS!$D$21","v":": "},null,null,"Semester",null,{"$f":"\": \"&IDENTITAS!$D$21","v":": "}]
[]
[null,null,null,"No","Tujuan Pembelajaran",null,null,null,"No","Lingkup Materi"]
[null,null,null,1,null,null,null,null,1]
[null,null,null,2,null,null,null,null,2]
[null,null,null,3,null,null,null,null,3]
[null,null,null,4,null,null,null,null,4]
[null,null,null,5,null,null,null,null,5]
[null,null,null,6,null,null,null,null,6]
[null,null,null,7,null,null,null,null,"Catatan: Tuliskan lingkup materi pelajaran yang anda ajarkan. Contoh: Siklus Air"]
[null,null,null,8]
[null,null,null,9]
[null,null,null,10]
[null,null,null,11]
[null,null,null,12]
[null,null,null,13]
[null,null,null,14]
[null,null,null,15]
[null,null,null,16]
[null,null,null,17]
[null,null,null,18]
[null,null,null,19]
[null,null,null,20]

{"sheet":"BING","index":37,"n_rows":62,"n_cols":31,"rows_kept":62,"cut":false,"hidden":false,"merged":[[9,25,9,27],[9,28,9,30],[61,1,61,2],[2,0,2,23],[7,1,10,1],[7,2,10,2],[7,3,7,22],[7,23,10,23],[8,3,8,22]]}
[]
[]
["DAFTAR NILAI ASESMEN FORMATIF"]
[]
[null,null,"Mata Pelajaran",":","Bahasa Inggris *"]
[]
[]
[null,"No","NAMA SISWA","Bahasa Inggris *",null,null,null,null,null,null,null,null,null,null,null,null,null,null,null,null,null,null,null,"NILAI RAPOR"]
[null,null,null,"ASESMEN FORMATIF"]
[null,null,null,"TP 1","TP 2","TP 3","TP 4","TP 5","TP 6","TP 7","TP 8","TP 9","TP 10","TP 11","TP 12","TP 13","TP 14","TP 15","TP 16","TP 17","TP 18","TP 19","TP 20"]
[null,null,null,{"$f":"'TP BING'!E9","v":0},{"$f":"'TP BING'!E10","v":0},{"$f":"'TP BING'!E11","v":0},{"$f":"'TP BING'!E12","v":0},{"$f":"'TP BING'!E13","v":0},{"$f":"'TP BING'!E14","v":0},{"$f":"'TP BING'!E15","v":0},{"$f":"'TP BING'!E16","v":0},{"$f":"'TP BING'!E17","v":0},{"$f":"'TP BING'!E18","v":0},{"$f":"'TP BING'!E19","v":0},{"$f":"'TP BING'!E20","v":0},{"$f":"'TP BING'!E21","v":0},{"$f":"'TP BING'!E22","v":0},{"$f":"'TP BING'!E23","v":0},{"$f":"'TP BING'!E24","v":0},{"$f":"'TP BING'!E25","v":0},{"$f":"'TP BING'!E26","v":0},{"$f":"'TP BING'!E27","v":0},{"$f":"'TP BING'!E28","v":0},null,null,"TP","MAX","DESKRIPSI","TP","MIN","DESKRIPSI"]
[null,1,{"$f":"'Data Siswa'!D6","v":0},null,null,null,null,null,null,null,null,null,null,null,null,null,null,null,null,null,null,null,null,{"$f":"IFERROR(AVERAGE(D12:W12),0)","v":0},null,{"$f":"INDEX($D$11:$W$11,MATCH(AA12,D12:W12,0))","v":{"$error":"#N/A"}},{"$f":"MAX(D12:W12)","v":0},{"$f":"C12&\" sangat menguasai dalam \"&Z12","v":{"$error":"#N/A"}},{"$f":"INDEX($D$11:$W$11,MATCH(AD12,D12:W12,0))","v":{"$error":"#N/A"}},{"$f":"MIN(D12:W12)","v":0},{"$f":"C12&\" perlu bimbingan dalam \"&AC12","v":{"$error":"#N/A"}}]
[null,2,{"$f":"'Data Siswa'!D7","v":0},null,null,null,null,null,null,null,null,null,null,null,null,null,null,null,null,null,null,null,null,0,null,{"$f":"INDEX($D$11:$W$11,MATCH(AA13,D13:W13,0))","v":{"$error":"#N/A"}},{"$f":"MAX(D13:W13)","v":0},{"$f":"C13&\" sangat menguasai dalam \"&Z13","v":{"$error":"#N/A"}},{"$f":"INDEX($D$11:$W$11,MATCH(AD13,D13:W13,0))","v":{"$error":"#N/A"}},{"$f":"MIN(D13:W13)","v":0},{"$f":"C13&\" perlu bimbingan dalam \"&AC13","v":{"$error":"#N/A"}}]
[null,3,{"$f":"'Data Siswa'!D8","v":0},null,null,null,null,null,null,null,null,null,null,null,null,null,null,null,null,null,null,null,null,0,null,{"$error":"#N/A"},0,{"$error":"#N/A"},{"$error":"#N/A"},0,{"$error":"#N/A"}]
[null,4,{"$f":"'Data Siswa'!D9","v":0},null,null,null,null,null,null,null,null,null,null,null,null,null,null,null,null,null,null,null,null,0,null,{"$error":"#N/A"},0,{"$error":"#N/A"},{"$error":"#N/A"},0,{"$error":"#N/A"}]
[null,5,{"$f":"'Data Siswa'!D10","v":0},null,null,null,null,null,null,null,null,null,null,null,null,null,null,null,null,null,null,null,null,0,null,{"$error":"#N/A"},0,{"$error":"#N/A"},{"$error":"#N/A"},0,{"$error":"#N/A"}]
[null,6,{"$f":"'Data Siswa'!D11","v":0},null,null,null,null,null,null,null,null,null,null,null,null,null,null,null,null,null,null,null,null,0,null,{"$error":"#N/A"},0,{"$error":"#N/A"},{"$error":"#N/A"},0,{"$error":"#N/A"}]
[null,7,{"$f":"'Data Siswa'!D12","v":0},null,null,null,null,null,null,null,null,null,null,null,null,null,null,null,null,null,null,null,null,0,null,{"$error":"#N/A"},0,{"$error":"#N/A"},{"$error":"#N/A"},0,{"$error":"#N/A"}]
[null,8,{"$f":"'Data Siswa'!D13","v":0},null,null,null,null,null,null,null,null,null,null,null,null,null,null,null,null,null,null,null,null,0,null,{"$error":"#N/A"},0,{"$error":"#N/A"},{"$error":"#N/A"},0,{"$error":"#N/A"}]
[null,9,{"$f":"'Data Siswa'!D14","v":0},null,null,null,null,null,null,null,null,null,null,null,null,null,null,null,null,null,null,null,null,0,null,{"$error":"#N/A"},0,{"$error":"#N/A"},{"$error":"#N/A"},0,{"$error":"#N/A"}]
[null,10,{"$f":"'Data Siswa'!D15","v":0},null,null,null,null,null,null,null,null,null,null,null,null,null,null,null,null,null,null,null,null,0,null,{"$error":"#N/A"},0,{"$error":"#N/A"},{"$error":"#N/A"},0,{"$error":"#N/A"}]
[null,11,{"$f":"'Data Siswa'!D16","v":0},null,null,null,null,null,null,null,null,null,null,null,null,null,null,null,null,null,null,null,null,0,null,{"$error":"#N/A"},0,{"$error":"#N/A"},{"$error":"#N/A"},0,{"$error":"#N/A"}]
[null,12,{"$f":"'Data Siswa'!D17","v":0},null,null,null,null,null,null,null,null,null,null,null,null,null,null,null,null,null,null,null,null,0,null,{"$error":"#N/A"},0,{"$error":"#N/A"},{"$error":"#N/A"},0,{"$error":"#N/A"}]
[null,13,{"$f":"'Data Siswa'!D18","v":0},null,null,null,null,null,null,null,null,null,null,null,null,null,null,null,null,null,null,null,null,0,null,{"$error":"#N/A"},0,{"$error":"#N/A"},{"$error":"#N/A"},0,{"$error":"#N/A"}]
[null,14,{"$f":"'Data Siswa'!D19","v":0},null,null,null,null,null,null,null,null,null,null,null,null,null,null,null,null,null,null,null,null,0,null,{"$error":"#N/A"},0,{"$error":"#N/A"},{"$error":"#N/A"},0,{"$error":"#N/A"}]
[null,15,{"$f":"'Data Siswa'!D20","v":0},null,null,null,null,null,null,null,null,null,null,null,null,null,null,null,null,null,null,null,null,0,null,{"$error":"#N/A"},0,{"$error":"#N/A"},{"$error":"#N/A"},0,{"$error":"#N/A"}]
[null,16,{"$f":"'Data Siswa'!D21","v":0},null,null,null,null,null,null,null,null,null,null,null,null,null,null,null,null,null,null,null,null,0,null,{"$error":"#N/A"},0,{"$error":"#N/A"},{"$error":"#N/A"},0,{"$error":"#N/A"}]
[null,17,{"$f":"'Data Siswa'!D22","v":0},null,null,null,null,null,null,null,null,null,null,null,null,null,null,null,null,null,null,null,null,0,null,{"$error":"#N/A"},0,{"$error":"#N/A"},{"$error":"#N/A"},0,{"$error":"#N/A"}]
[null,18,{"$f":"'Data Siswa'!D23","v":0},null,null,null,null,null,null,null,null,null,null,null,null,null,null,null,null,null,null,null,null,0,null,{"$error":"#N/A"},0,{"$error":"#N/A"},{"$error":"#N/A"},0,{"$error":"#N/A"}]
[null,19,{"$f":"'Data Siswa'!D24","v":0},null,null,null,null,null,null,null,null,null,null,null,null,null,null,null,null,null,null,null,null,0,null,{"$error":"#N/A"},0,{"$error":"#N/A"},{"$error":"#N/A"},0,{"$error":"#N/A"}]
[null,20,{"$f":"'Data Siswa'!D25","v":0},null,null,null,null,null,null,null,null,null,null,null,null,null,null,null,null,null,null,null,null,0,null,{"$error":"#N/A"},0,{"$error":"#N/A"},{"$error":"#N/A"},0,{"$error":"#N/A"}]
[null,21,{"$f":"'Data Siswa'!D26","v":0},null,null,null,null,null,null,null,null,null,null,null,null,null,null,null,null,null,null,null,null,0,null,{"$error":"#N/A"},0,{"$error":"#N/A"},{"$error":"#N/A"},0,{"$error":"#N/A"}]
[null,22,{"$f":"'Data Siswa'!D27","v":0},null,null,null,null,null,null,null,null,null,null,null,null,null,null,null,null,null,null,null,null,0,null,{"$error":"#N/A"},0,{"$error":"#N/A"},{"$error":"#N/A"},0,{"$error":"#N/A"}]
[null,23,{"$f":"'Data Siswa'!D28","v":0},null,null,null,null,null,null,null,null,null,null,null,null,null,null,null,null,null,null,null,null,0,null,{"$error":"#N/A"},0,{"$error":"#N/A"},{"$error":"#N/A"},0,{"$error":"#N/A"}]
[null,24,{"$f":"'Data Siswa'!D29","v":0},null,null,null,null,null,null,null,null,null,null,null,null,null,null,null,null,null,null,null,null,0,null,{"$error":"#N/A"},0,{"$error":"#N/A"},{"$error":"#N/A"},0,{"$error":"#N/A"}]
[null,25,{"$f":"'Data Siswa'!D30","v":0},null,null,null,null,null,null,null,null,null,null,null,null,null,null,null,null,null,null,null,null,0,null,{"$error":"#N/A"},0,{"$error":"#N/A"},{"$error":"#N/A"},0,{"$error":"#N/A"}]
[null,26,{"$f":"'Data Siswa'!D31","v":0},null,null,null,null,null,null,null,null,null,null,null,null,null,null,null,null,null,null,null,null,0,null,{"$error":"#N/A"},0,{"$error":"#N/A"},{"$error":"#N/A"},0,{"$error":"#N/A"}]
[null,27,{"$f":"'Data Siswa'!D32","v":0},null,null,null,null,null,null,null,null,null,null,null,null,null,null,null,null,null,null,null,null,0,null,{"$error":"#N/A"},0,{"$error":"#N/A"},{"$error":"#N/A"},0,{"$error":"#N/A"}]
[null,28,{"$f":"'Data Siswa'!D33","v":0},null,null,null,null,null,null,null,null,null,null,null,null,null,null,null,null,null,null,null,null,0,null,{"$error":"#N/A"},0,{"$error":"#N/A"},{"$error":"#N/A"},0,{"$error":"#N/A"}]
[null,29,{"$f":"'Data Siswa'!D34","v":0},null,null,null,null,null,null,null,null,null,null,null,null,null,null,null,null,null,null,null,null,0,null,{"$error":"#N/A"},0,{"$error":"#N/A"},{"$error":"#N/A"},0,{"$error":"#N/A"}]
[null,30,{"$f":"'Data Siswa'!D35","v":0},null,null,null,null,null,null,null,null,null,null,null,null,null,null,null,null,null,null,null,null,0,null,{"$error":"#N/A"},0,{"$error":"#N/A"},{"$error":"#N/A"},0,{"$error":"#N/A"}]
[null,31,{"$f":"'Data Siswa'!D36","v":0},null,null,null,null,null,null,null,null,null,null,null,null,null,null,null,null,null,null,null,null,0,null,{"$error":"#N/A"},0,{"$error":"#N/A"},{"$error":"#N/A"},0,{"$error":"#N/A"}]
[null,32,{"$f":"'Data Siswa'!D37","v":0},null,null,null,null,null,null,null,null,null,null,null,null,null,null,null,null,null,null,null,null,0,null,{"$error":"#N/A"},0,{"$error":"#N/A"},{"$error":"#N/A"},0,{"$error":"#N/A"}]
[null,33,{"$f":"'Data Siswa'!D38","v":0},null,null,null,null,null,null,null,null,null,null,null,null,null,null,null,null,null,null,null,null,0,null,{"$error":"#N/A"},0,{"$error":"#N/A"},{"$error":"#N/A"},0,{"$error":"#N/A"}]
[null,34,{"$f":"'Data Siswa'!D39","v":0},null,null,null,null,null,null,null,null,null,null,null,null,null,null,null,null,null,null,null,null,0,null,{"$error":"#N/A"},0,{"$error":"#N/A"},{"$error":"#N/A"},0,{"$error":"#N/A"}]
[null,35,{"$f":"'Data Siswa'!D40","v":0},null,null,null,null,null,null,null,null,null,null,null,null,null,null,null,null,null,null,null,null,0,null,{"$error":"#N/A"},0,{"$error":"#N/A"},{"$error":"#N/A"},0,{"$error":"#N/A"}]
[null,36,{"$f":"'Data Siswa'!D41","v":0},null,null,null,null,null,null,null,null,null,null,null,null,null,null,null,null,null,null,null,null,0,null,{"$error":"#N/A"},0,{"$error":"#N/A"},{"$error":"#N/A"},0,{"$error":"#N/A"}]
[null,37,{"$f":"'Data Siswa'!D42","v":0},null,null,null,null,null,null,null,null,null,null,null,null,null,null,null,null,null,null,null,null,0,null,{"$error":"#N/A"},0,{"$error":"#N/A"},{"$error":"#N/A"},0,{"$error":"#N/A"}]
[null,38,{"$f":"'Data Siswa'!D43","v":0},null,null,null,null,null,null,null,null,null,null,null,null,null,null,null,null,null,null,null,null,0,null,{"$error":"#N/A"},0,{"$error":"#N/A"},{"$error":"#N/A"},0,{"$error":"#N/A"}]
[null,39,{"$f":"'Data Siswa'!D44","v":0},null,null,null,null,null,null,null,null,null,null,null,null,null,null,null,null,null,null,null,null,0,null,{"$error":"#N/A"},0,{"$error":"#N/A"},{"$error":"#N/A"},0,{"$error":"#N/A"}]
[null,40,{"$f":"'Data Siswa'!D45","v":0},null,null,null,null,null,null,null,null,null,null,null,null,null,null,null,null,null,null,null,null,0,null,{"$error":"#N/A"},0,{"$error":"#N/A"},{"$error":"#N/A"},0,{"$error":"#N/A"}]
[null,41,{"$f":"'Data Siswa'!D46","v":0},null,null,null,null,null,null,null,null,null,null,null,null,null,null,null,null,null,null,null,null,0,null,{"$error":"#N/A"},0,{"$error":"#N/A"},{"$error":"#N/A"},0,{"$error":"#N/A"}]
[null,42,{"$f":"'Data Siswa'!D47","v":0},null,null,null,null,null,null,null,null,null,null,null,null,null,null,null,null,null,null,null,null,0,null,{"$error":"#N/A"},0,{"$error":"#N/A"},{"$error":"#N/A"},0,{"$error":"#N/A"}]
[null,43,{"$f":"'Data Siswa'!D48","v":0},null,null,null,null,null,null,null,null,null,null,null,null,null,null,null,null,null,null,null,null,0,null,{"$error":"#N/A"},0,{"$error":"#N/A"},{"$error":"#N/A"},0,{"$error":"#N/A"}]
[null,44,{"$f":"'Data Siswa'!D49","v":0},null,null,null,null,null,null,null,null,null,null,null,null,null,null,null,null,null,null,null,null,0,null,{"$error":"#N/A"},0,{"$error":"#N/A"},{"$error":"#N/A"},0,{"$error":"#N/A"}]
[null,45,{"$f":"'Data Siswa'!D50","v":0},null,null,null,null,null,null,null,null,null,null,null,null,null,null,null,null,null,null,null,null,0,null,{"$error":"#N/A"},0,{"$error":"#N/A"},{"$error":"#N/A"},0,{"$error":"#N/A"}]
[null,46,{"$f":"'Data Siswa'!D51","v":0},null,null,null,null,null,null,null,null,null,null,null,null,null,null,null,null,null,null,null,null,0,null,{"$error":"#N/A"},0,{"$error":"#N/A"},{"$error":"#N/A"},0,{"$error":"#N/A"}]
[null,47,{"$f":"'Data Siswa'!D52","v":0},null,null,null,null,null,null,null,null,null,null,null,null,null,null,null,null,null,null,null,null,0,null,{"$error":"#N/A"},0,{"$error":"#N/A"},{"$error":"#N/A"},0,{"$error":"#N/A"}]
[null,48,{"$f":"'Data Siswa'!D53","v":0},null,null,null,null,null,null,null,null,null,null,null,null,null,null,null,null,null,null,null,null,0,null,{"$error":"#N/A"},0,{"$error":"#N/A"},{"$error":"#N/A"},0,{"$error":"#N/A"}]
[null,49,{"$f":"'Data Siswa'!D54","v":0},null,null,null,null,null,null,null,null,null,null,null,null,null,null,null,null,null,null,null,null,0,null,{"$error":"#N/A"},0,{"$error":"#N/A"},{"$error":"#N/A"},0,{"$error":"#N/A"}]
[null,50,{"$f":"'Data Siswa'!D55","v":0},null,null,null,null,null,null,null,null,null,null,null,null,null,null,null,null,null,null,null,null,0,null,{"$error":"#N/A"},0,{"$error":"#N/A"},{"$error":"#N/A"},0,{"$error":"#N/A"}]
[null,"RATA-RATA",null,{"$f":"IFERROR(AVERAGE(D12:D61),0)","v":0},{"$f":"IFERROR(AVERAGE(E12:E61),0)","v":0},0,0,0,0,0,0,0,0,0,0,0,0,0,0,0,0,0,0]

{"sheet":"SUMBING","index":38,"n_rows":62,"n_cols":35,"rows_kept":62,"cut":false,"hidden":false,"merged":[[9,29,9,31],[9,32,9,34],[61,1,61,2],[9,9,9,10],[9,11,9,12],[9,13,9,14],[9,15,9,16],[9,17,9,18],[9,19,9,20],[2,0,2,27],[7,1,10,1],[7,2,10,2],[7,3,7,26],[7,27,10,27],[8,3,8,14],[8,15,8,26],[9,3,9,4],[9,5,9,6],[9,7,9,8],[9,21,9,22],[9,23,9,24],[9,25,9,26]]}
[]
[]
["DAFTAR NILAI ASESMEN SUMATIF"]
[]
[null,null,"Mata Pelajaran",":",null,"Bahasa Inggris *"]
[]
[]
[null,"No","NAMA SISWA","Bahasa Inggris *",null,null,null,null,null,null,null,null,null,null,null,null,null,null,null,null,null,null,null,null,null,null,null,"NILAI RAPOR"]
[null,null,null,"ASESMEN SUMATIF  AKHIR MATERI",null,null,null,null,null,null,null,null,null,null,null,"ASESMEN SUMATIF AKHIR SEMESTER *"]
[null,null,null,{"$f":"'TP BING'!J9","v":0},null,{"$f":"'TP BING'!J10","v":0},null,{"$f":"'TP BING'!J11","v":0},null,{"$f":"'TP BING'!J12","v":0},null,{"$f":"'TP BING'!J13","v":0},null,{"$f":"'TP BING'!J14","v":0},null,{"$f":"'TP BING'!J9","v":0},null,{"$f":"'TP BING'!J10","v":0},null,{"$f":"'TP BING'!J11","v":0},null,{"$f":"'TP BING'!J12","v":0},null,{"$f":"'TP BING'!J13","v":0},null,{"$f":"'TP BING'!J14","v":0}]
[null,null,null,"Tes","Non Tes","Tes","Non Tes","Tes","Non Tes","Tes","Non Tes","Tes","Non Tes","Tes","Non Tes","Tes","Non Tes","Tes","Non Tes","Tes","Non Tes","Tes","Non Tes","Tes","Non Tes","Tes","Non Tes",null,null,"TP","MAX","DESKRIPSI","TP","MIN","DESKRIPSI"]
[null,1,{"$f":"'Data Siswa'!D6","v":0},null,null,null,null,null,null,null,null,null,null,null,null,null,null,null,null,null,null,null,null,null,null,null,null,{"$f":"IFERROR(AVERAGE(D12:AA12),0)","v":0},null,{"$f":"INDEX($D$11:$AA$11,MATCH(AE12,D12:AA12,0))","v":{"$error":"#N/A"}},{"$f":"MAX(D12:AA12)","v":0},{"$f":"C12&\" sangat menguasai dalam \"&AD12","v":{"$error":"#N/A"}},{"$f":"INDEX($D$11:$AA$11,MATCH(AH12,D12:AA12,0))","v":{"$error":"#N/A"}},{"$f":"MIN(D12:AA12)","v":0},{"$f":"C12&\" perlu bimbingan dalam \"&AG12","v":{"$error":"#N/A"}}]
[null,2,{"$f":"'Data Siswa'!D7","v":0},null,null,null,null,null,null,null,null,null,null,null,null,null,null,null,null,null,null,null,null,null,null,null,null,{"$f":"IFERROR(AVERAGE(D13:AA13),0)","v":0},null,{"$error":"#N/A"},0,{"$error":"#N/A"},{"$error":"#N/A"},0,{"$error":"#N/A"}]
[null,3,{"$f":"'Data Siswa'!D8","v":0},null,null,null,null,null,null,null,null,null,null,null,null,null,null,null,null,null,null,null,null,null,null,null,null,0,null,{"$error":"#N/A"},0,{"$error":"#N/A"},{"$error":"#N/A"},0,{"$error":"#N/A"}]
[null,4,{"$f":"'Data Siswa'!D9","v":0},null,null,null,null,null,null,null,null,null,null,null,null,null,null,null,null,null,null,null,null,null,null,null,null,0,null,{"$error":"#N/A"},0,{"$error":"#N/A"},{"$error":"#N/A"},0,{"$error":"#N/A"}]
[null,5,{"$f":"'Data Siswa'!D10","v":0},null,null,null,null,null,null,null,null,null,null,null,null,null,null,null,null,null,null,null,null,null,null,null,null,0,null,{"$error":"#N/A"},0,{"$error":"#N/A"},{"$error":"#N/A"},0,{"$error":"#N/A"}]
[null,6,{"$f":"'Data Siswa'!D11","v":0},null,null,null,null,null,null,null,null,null,null,null,null,null,null,null,null,null,null,null,null,null,null,null,null,{"$f":"IFERROR(AVERAGE(D17:AA17),0)","v":0},null,{"$error":"#N/A"},0,{"$error":"#N/A"},{"$error":"#N/A"},0,{"$error":"#N/A"}]
[null,7,{"$f":"'Data Siswa'!D12","v":0},null,null,null,null,null,null,null,null,null,null,null,null,null,null,null,null,null,null,null,null,null,null,null,null,0,null,{"$error":"#N/A"},0,{"$error":"#N/A"},{"$error":"#N/A"},0,{"$error":"#N/A"}]
[null,8,{"$f":"'Data Siswa'!D13","v":0},null,null,null,null,null,null,null,null,null,null,null,null,null,null,null,null,null,null,null,null,null,null,null,null,0,null,{"$error":"#N/A"},0,{"$error":"#N/A"},{"$error":"#N/A"},0,{"$error":"#N/A"}]
[null,9,{"$f":"'Data Siswa'!D14","v":0},null,null,null,null,null,null,null,null,null,null,null,null,null,null,null,null,null,null,null,null,null,null,null,null,0,null,{"$error":"#N/A"},0,{"$error":"#N/A"},{"$error":"#N/A"},0,{"$error":"#N/A"}]
[null,10,{"$f":"'Data Siswa'!D15","v":0},null,null,null,null,null,null,null,null,null,null,null,null,null,null,null,null,null,null,null,null,null,null,null,null,0,null,{"$error":"#N/A"},0,{"$error":"#N/A"},{"$error":"#N/A"},0,{"$error":"#N/A"}]
[null,11,{"$f":"'Data Siswa'!D16","v":0},null,null,null,null,null,null,null,null,null,null,null,null,null,null,null,null,null,null,null,null,null,null,null,null,0,null,{"$error":"#N/A"},0,{"$error":"#N/A"},{"$error":"#N/A"},0,{"$error":"#N/A"}]
[null,12,{"$f":"'Data Siswa'!D17","v":0},null,null,null,null,null,null,null,null,null,null,null,null,null,null,null,null,null,null,null,null,null,null,null,null,0,null,{"$error":"#N/A"},0,{"$error":"#N/A"},{"$error":"#N/A"},0,{"$error":"#N/A"}]
[null,13,{"$f":"'Data Siswa'!D18","v":0},null,null,null,null,null,null,null,null,null,null,null,null,null,null,null,null,null,null,null,null,null,null,null,null,0,null,{"$error":"#N/A"},0,{"$error":"#N/A"},{"$error":"#N/A"},0,{"$error":"#N/A"}]
[null,14,{"$f":"'Data Siswa'!D19","v":0},null,null,null,null,null,null,null,null,null,null,null,null,null,null,null,null,null,null,null,null,null,null,null,null,0,null,{"$error":"#N/A"},0,{"$error":"#N/A"},{"$error":"#N/A"},0,{"$error":"#N/A"}]
[null,15,{"$f":"'Data Siswa'!D20","v":0},null,null,null,null,null,null,null,null,null,null,null,null,null,null,null,null,null,null,null,null,null,null,null,null,0,null,{"$error":"#N/A"},0,{"$error":"#N/A"},{"$error":"#N/A"},0,{"$error":"#N/A"}]
[null,16,{"$f":"'Data Siswa'!D21","v":0},null,null,null,null,null,null,null,null,null,null,null,null,null,null,null,null,null,null,null,null,null,null,null,null,0,null,{"$error":"#N/A"},0,{"$error":"#N/A"},{"$error":"#N/A"},0,{"$error":"#N/A"}]
[null,17,{"$f":"'Data Siswa'!D22","v":0},null,null,null,null,null,null,null,null,null,null,null,null,null,null,null,null,null,null,null,null,null,null,null,null,0,null,{"$error":"#N/A"},0,{"$error":"#N/A"},{"$error":"#N/A"},0,{"$error":"#N/A"}]
[null,18,{"$f":"'Data Siswa'!D23","v":0},null,null,null,null,null,null,null,null,null,null,null,null,null,null,null,null,null,null,null,null,null,null,null,null,0,null,{"$error":"#N/A"},0,{"$error":"#N/A"},{"$error":"#N/A"},0,{"$error":"#N/A"}]
[null,19,{"$f":"'Data Siswa'!D24","v":0},null,null,null,null,null,null,null,null,null,null,null,null,null,null,null,null,null,null,null,null,null,null,null,null,0,null,{"$error":"#N/A"},0,{"$error":"#N/A"},{"$error":"#N/A"},0,{"$error":"#N/A"}]
[null,20,{"$f":"'Data Siswa'!D25","v":0},null,null,null,null,null,null,null,null,null,null,null,null,null,null,null,null,null,null,null,null,null,null,null,null,0,null,{"$error":"#N/A"},0,{"$error":"#N/A"},{"$error":"#N/A"},0,{"$error":"#N/A"}]
[null,21,{"$f":"'Data Siswa'!D26","v":0},null,null,null,null,null,null,null,null,null,null,null,null,null,null,null,null,null,null,null,null,null,null,null,null,0,null,{"$error":"#N/A"},0,{"$error":"#N/A"},{"$error":"#N/A"},0,{"$error":"#N/A"}]
[null,22,{"$f":"'Data Siswa'!D27","v":0},null,null,null,null,null,null,null,null,null,null,null,null,null,null,null,null,null,null,null,null,null,null,null,null,0,null,{"$error":"#N/A"},0,{"$error":"#N/A"},{"$error":"#N/A"},0,{"$error":"#N/A"}]
[null,23,{"$f":"'Data Siswa'!D28","v":0},null,null,null,null,null,null,null,null,null,null,null,null,null,null,null,null,null,null,null,null,null,null,null,null,0,null,{"$error":"#N/A"},0,{"$error":"#N/A"},{"$error":"#N/A"},0,{"$error":"#N/A"}]
[null,24,{"$f":"'Data Siswa'!D29","v":0},null,null,null,null,null,null,null,null,null,null,null,null,null,null,null,null,null,null,null,null,null,null,null,null,0,null,{"$error":"#N/A"},0,{"$error":"#N/A"},{"$error":"#N/A"},0,{"$error":"#N/A"}]
[null,25,{"$f":"'Data Siswa'!D30","v":0},null,null,null,null,null,null,null,null,null,null,null,null,null,null,null,null,null,null,null,null,null,null,null,null,0,null,{"$error":"#N/A"},0,{"$error":"#N/A"},{"$error":"#N/A"},0,{"$error":"#N/A"}]
[null,26,{"$f":"'Data Siswa'!D31","v":0},null,null,null,null,null,null,null,null,null,null,null,null,null,null,null,null,null,null,null,null,null,null,null,null,0,null,{"$error":"#N/A"},0,{"$error":"#N/A"},{"$error":"#N/A"},0,{"$error":"#N/A"}]
[null,27,{"$f":"'Data Siswa'!D32","v":0},null,null,null,null,null,null,null,null,null,null,null,null,null,null,null,null,null,null,null,null,null,null,null,null,0,null,{"$error":"#N/A"},0,{"$error":"#N/A"},{"$error":"#N/A"},0,{"$error":"#N/A"}]
[null,28,{"$f":"'Data Siswa'!D33","v":0},null,null,null,null,null,null,null,null,null,null,null,null,null,null,null,null,null,null,null,null,null,null,null,null,0,null,{"$error":"#N/A"},0,{"$error":"#N/A"},{"$error":"#N/A"},0,{"$error":"#N/A"}]
[null,29,{"$f":"'Data Siswa'!D34","v":0},null,null,null,null,null,null,null,null,null,null,null,null,null,null,null,null,null,null,null,null,null,null,null,null,0,null,{"$error":"#N/A"},0,{"$error":"#N/A"},{"$error":"#N/A"},0,{"$error":"#N/A"}]
[null,30,{"$f":"'Data Siswa'!D35","v":0},null,null,null,null,null,null,null,null,null,null,null,null,null,null,null,null,null,null,null,null,null,null,null,null,0,null,{"$error":"#N/A"},0,{"$error":"#N/A"},{"$error":"#N/A"},0,{"$error":"#N/A"}]
[null,31,{"$f":"'Data Siswa'!D36","v":0},null,null,null,null,null,null,null,null,null,null,null,null,null,null,null,null,null,null,null,null,null,null,null,null,0,null,{"$error":"#N/A"},0,{"$error":"#N/A"},{"$error":"#N/A"},0,{"$error":"#N/A"}]
[null,32,{"$f":"'Data Siswa'!D37","v":0},null,null,null,null,null,null,null,null,null,null,null,null,null,null,null,null,null,null,null,null,null,null,null,null,0,null,{"$error":"#N/A"},0,{"$error":"#N/A"},{"$error":"#N/A"},0,{"$error":"#N/A"}]
[null,33,{"$f":"'Data Siswa'!D38","v":0},null,null,null,null,null,null,null,null,null,null,null,null,null,null,null,null,null,null,null,null,null,null,null,null,0,null,{"$error":"#N/A"},0,{"$f":"C44&\" sangat menguasai dalam \"&AD44","v":{"$error":"#N/A"}},{"$error":"#N/A"},0,{"$f":"C44&\" perlu bimbingan dalam \"&AG44","v":{"$error":"#N/A"}}]
[null,34,{"$f":"'Data Siswa'!D39","v":0},null,null,null,null,null,null,null,null,null,null,null,null,null,null,null,null,null,null,null,null,null,null,null,null,0,null,{"$error":"#N/A"},0,{"$error":"#N/A"},{"$error":"#N/A"},0,{"$error":"#N/A"}]
[null,35,{"$f":"'Data Siswa'!D40","v":0},null,null,null,null,null,null,null,null,null,null,null,null,null,null,null,null,null,null,null,null,null,null,null,null,0,null,{"$error":"#N/A"},0,{"$error":"#N/A"},{"$error":"#N/A"},0,{"$error":"#N/A"}]
[null,36,{"$f":"'Data Siswa'!D41","v":0},null,null,null,null,null,null,null,null,null,null,null,null,null,null,null,null,null,null,null,null,null,null,null,null,0,null,{"$error":"#N/A"},0,{"$error":"#N/A"},{"$error":"#N/A"},0,{"$error":"#N/A"}]
[null,37,{"$f":"'Data Siswa'!D42","v":0},null,null,null,null,null,null,null,null,null,null,null,null,null,null,null,null,null,null,null,null,null,null,null,null,0,null,{"$error":"#N/A"},0,{"$error":"#N/A"},{"$error":"#N/A"},0,{"$error":"#N/A"}]
[null,38,{"$f":"'Data Siswa'!D43","v":0},null,null,null,null,null,null,null,null,null,null,null,null,null,null,null,null,null,null,null,null,null,null,null,null,0,null,{"$error":"#N/A"},0,{"$error":"#N/A"},{"$error":"#N/A"},0,{"$error":"#N/A"}]
[null,39,{"$f":"'Data Siswa'!D44","v":0},null,null,null,null,null,null,null,null,null,null,null,null,null,null,null,null,null,null,null,null,null,null,null,null,0,null,{"$error":"#N/A"},0,{"$error":"#N/A"},{"$error":"#N/A"},0,{"$error":"#N/A"}]
[null,40,{"$f":"'Data Siswa'!D45","v":0},null,null,null,null,null,null,null,null,null,null,null,null,null,null,null,null,null,null,null,null,null,null,null,null,0,null,{"$error":"#N/A"},0,{"$error":"#N/A"},{"$error":"#N/A"},0,{"$error":"#N/A"}]
[null,41,{"$f":"'Data Siswa'!D46","v":0},null,null,null,null,null,null,null,null,null,null,null,null,null,null,null,null,null,null,null,null,null,null,null,null,0,null,{"$error":"#N/A"},0,{"$error":"#N/A"},{"$error":"#N/A"},0,{"$error":"#N/A"}]
[null,42,{"$f":"'Data Siswa'!D47","v":0},null,null,null,null,null,null,null,null,null,null,null,null,null,null,null,null,null,null,null,null,null,null,null,null,0,null,{"$error":"#N/A"},0,{"$error":"#N/A"},{"$error":"#N/A"},0,{"$error":"#N/A"}]
[null,43,{"$f":"'Data Siswa'!D48","v":0},null,null,null,null,null,null,null,null,null,null,null,null,null,null,null,null,null,null,null,null,null,null,null,null,0,null,{"$error":"#N/A"},0,{"$error":"#N/A"},{"$error":"#N/A"},0,{"$error":"#N/A"}]
[null,44,{"$f":"'Data Siswa'!D49","v":0},null,null,null,null,null,null,null,null,null,null,null,null,null,null,null,null,null,null,null,null,null,null,null,null,0,null,{"$error":"#N/A"},0,{"$error":"#N/A"},{"$error":"#N/A"},0,{"$error":"#N/A"}]
[null,45,{"$f":"'Data Siswa'!D50","v":0},null,null,null,null,null,null,null,null,null,null,null,null,null,null,null,null,null,null,null,null,null,null,null,null,0,null,{"$error":"#N/A"},0,{"$error":"#N/A"},{"$error":"#N/A"},0,{"$error":"#N/A"}]
[null,46,{"$f":"'Data Siswa'!D51","v":0},null,null,null,null,null,null,null,null,null,null,null,null,null,null,null,null,null,null,null,null,null,null,null,null,0,null,{"$error":"#N/A"},0,{"$error":"#N/A"},{"$error":"#N/A"},0,{"$error":"#N/A"}]
[null,47,{"$f":"'Data Siswa'!D52","v":0},null,null,null,null,null,null,null,null,null,null,null,null,null,null,null,null,null,null,null,null,null,null,null,null,{"$f":"IFERROR(AVERAGE(D58:AA58),0)","v":0},null,{"$error":"#N/A"},0,{"$error":"#N/A"},{"$error":"#N/A"},0,{"$error":"#N/A"}]
[null,48,{"$f":"'Data Siswa'!D53","v":0},null,null,null,null,null,null,null,null,null,null,null,null,null,null,null,null,null,null,null,null,null,null,null,null,0,null,{"$error":"#N/A"},0,{"$error":"#N/A"},{"$error":"#N/A"},0,{"$error":"#N/A"}]
[null,49,{"$f":"'Data Siswa'!D54","v":0},null,null,null,null,null,null,null,null,null,null,null,null,null,null,null,null,null,null,null,null,null,null,null,null,0,null,{"$error":"#N/A"},0,{"$error":"#N/A"},{"$error":"#N/A"},0,{"$error":"#N/A"}]
[null,50,{"$f":"'Data Siswa'!D55","v":0},null,null,null,null,null,null,null,null,null,null,null,null,null,null,null,null,null,null,null,null,null,null,null,null,0,null,{"$error":"#N/A"},0,{"$error":"#N/A"},{"$error":"#N/A"},0,{"$error":"#N/A"}]
[null,"RATA-RATA",null,{"$f":"IFERROR(AVERAGE(D12:D61),0)","v":0},{"$f":"IFERROR(AVERAGE(E12:E61),0)","v":0},0,0,0,0,0,0,0,0,0,0,0,0,0,0,0,0,0,0,0,0,0,0]

{"sheet":"TP MULOK1","index":39,"n_rows":28,"n_cols":10,"rows_kept":28,"cut":false,"hidden":false,"merged":[[2,0,2,5],[2,6,2,9]]}
[]
[]
["ALUR TUJUAN PEMBELAJARAN ",null,null,null,null,null,"LINGKUP MATERI"]
[]
[null,"Mata Pelajaran",null,null,{"$f":"\": \"&IDENTITAS!$G$21","v":": "},null,null,"Mata Pelajaran",null,{"$f":"\": \"&IDENTITAS!$G$21","v":": "}]
[null,"Semester",null,null,{"$f":"\": \"&IDENTITAS!$D$21","v":": "},null,null,"Semester",null,{"$f":"\": \"&IDENTITAS!$D$21","v":": "}]
[]
[null,null,null,"No","Tujuan Pembelajaran",null,null,null,"No","Lingkup Materi"]
[null,null,null,1,1,null,null,null,1]
[null,null,null,2,"A",null,null,null,2]
[null,null,null,3,3,null,null,null,3]
[null,null,null,4,4,null,null,null,4]
[null,null,null,5,5,null,null,null,5]
[null,null,null,6,6,null,null,null,6]
[null,null,null,7,"B",null,null,null,"Catatan: Tuliskan lingkup materi pelajaran yang anda ajarkan. Contoh: Siklus Air"]
[null,null,null,8,8]
[null,null,null,9,9]
[null,null,null,10,10]
[null,null,null,11,11]
[null,null,null,12,12]
[null,null,null,13,13]
[null,null,null,14,14]
[null,null,null,15,15]
[null,null,null,16,16]
[null,null,null,17,17]
[null,null,null,18,18]
[null,null,null,19,19]
[null,null,null,20,20]

{"sheet":"MULOK1","index":40,"n_rows":62,"n_cols":31,"rows_kept":62,"cut":false,"hidden":false,"merged":[[9,25,9,27],[9,28,9,30],[61,1,61,2],[2,0,2,23],[7,1,10,1],[7,2,10,2],[7,3,7,22],[7,23,10,23],[8,3,8,22]]}
[]
[]
["DAFTAR NILAI ASESMEN FORMATIF"]
[]
[null,null,"Mata Pelajaran",":",{"$f":"IDENTITAS!G21","v":0}]
[]
[]
[null,"No","NAMA SISWA",{"$f":"IDENTITAS!G21","v":0},null,null,null,null,null,null,null,null,null,null,null,null,null,null,null,null,null,null,null,"NILAI RAPOR"]
[null,null,null,"ASESMEN FORMATIF"]
[null,null,null,"TP 1","TP 2","TP 3","TP 4","TP 5","TP 6","TP 7","TP 8","TP 9","TP 10","TP 11","TP 12","TP 13","TP 14","TP 15","TP 16","TP 17","TP 18","TP 19","TP 20"]
[null,null,null,{"$f":"'TP MULOK1'!E9","v":1},{"$f":"'TP MULOK1'!E10","v":"A"},{"$f":"'TP MULOK1'!E11","v":3},{"$f":"'TP MULOK1'!E12","v":4},{"$f":"'TP MULOK1'!E13","v":5},{"$f":"'TP MULOK1'!E14","v":6},{"$f":"'TP MULOK1'!E15","v":"B"},{"$f":"'TP MULOK1'!E16","v":8},{"$f":"'TP MULOK1'!E17","v":9},{"$f":"'TP MULOK1'!E18","v":10},{"$f":"'TP MULOK1'!E19","v":11},{"$f":"'TP MULOK1'!E20","v":12},{"$f":"'TP MULOK1'!E21","v":13},{"$f":"'TP MULOK1'!E22","v":14},{"$f":"'TP MULOK1'!E23","v":15},{"$f":"'TP MULOK1'!E24","v":16},{"$f":"'TP MULOK1'!E25","v":17},{"$f":"'TP MULOK1'!E26","v":18},{"$f":"'TP MULOK1'!E27","v":19},{"$f":"'TP MULOK1'!E28","v":20},null,null,"TP","MAX","DESKRIPSI","TP","MIN","DESKRIPSI"]
[null,1,{"$f":"'Data Siswa'!D6","v":0},null,null,null,null,null,null,null,null,null,null,null,null,null,null,null,null,null,null,null,null,{"$f":"IFERROR(AVERAGE(D12:W12),0)","v":0},null,{"$f":"INDEX($D$11:$W$11,MATCH(AA12,D12:W12,0))","v":{"$error":"#N/A"}},{"$f":"MAX(D12:W12)","v":0},{"$f":"C12&\" sangat menguasai dalam \"&Z12","v":{"$error":"#N/A"}},{"$f":"INDEX($D$11:$W$11,MATCH(AD12,D12:W12,0))","v":{"$error":"#N/A"}},{"$f":"MIN(D12:W12)","v":0},{"$f":"C12&\" perlu bimbingan dalam \"&AC12","v":{"$error":"#N/A"}}]
[null,2,{"$f":"'Data Siswa'!D7","v":0},null,null,null,null,null,null,null,null,null,null,null,null,null,null,null,null,null,null,null,null,0,null,{"$f":"INDEX($D$11:$W$11,MATCH(AA13,D13:W13,0))","v":{"$error":"#N/A"}},{"$f":"MAX(D13:W13)","v":0},{"$f":"C13&\" sangat menguasai dalam \"&Z13","v":{"$error":"#N/A"}},{"$f":"INDEX($D$11:$W$11,MATCH(AD13,D13:W13,0))","v":{"$error":"#N/A"}},{"$f":"MIN(D13:W13)","v":0},{"$f":"C13&\" perlu bimbingan dalam \"&AC13","v":{"$error":"#N/A"}}]
[null,3,{"$f":"'Data Siswa'!D8","v":0},null,null,null,null,null,null,null,null,null,null,null,null,null,null,null,null,null,null,null,null,0,null,{"$error":"#N/A"},0,{"$error":"#N/A"},{"$error":"#N/A"},0,{"$error":"#N/A"}]
[null,4,{"$f":"'Data Siswa'!D9","v":0},null,null,null,null,null,null,null,null,null,null,null,null,null,null,null,null,null,null,null,null,0,null,{"$error":"#N/A"},0,{"$error":"#N/A"},{"$error":"#N/A"},0,{"$error":"#N/A"}]
[null,5,{"$f":"'Data Siswa'!D10","v":0},null,null,null,null,null,null,null,null,null,null,null,null,null,null,null,null,null,null,null,null,0,null,{"$error":"#N/A"},0,{"$error":"#N/A"},{"$error":"#N/A"},0,{"$error":"#N/A"}]
[null,6,{"$f":"'Data Siswa'!D11","v":0},null,null,null,null,null,null,null,null,null,null,null,null,null,null,null,null,null,null,null,null,0,null,{"$error":"#N/A"},0,{"$error":"#N/A"},{"$error":"#N/A"},0,{"$error":"#N/A"}]
[null,7,{"$f":"'Data Siswa'!D12","v":0},null,null,null,null,null,null,null,null,null,null,null,null,null,null,null,null,null,null,null,null,0,null,{"$error":"#N/A"},0,{"$error":"#N/A"},{"$error":"#N/A"},0,{"$error":"#N/A"}]
[null,8,{"$f":"'Data Siswa'!D13","v":0},null,null,null,null,null,null,null,null,null,null,null,null,null,null,null,null,null,null,null,null,0,null,{"$error":"#N/A"},0,{"$error":"#N/A"},{"$error":"#N/A"},0,{"$error":"#N/A"}]
[null,9,{"$f":"'Data Siswa'!D14","v":0},null,null,null,null,null,null,null,null,null,null,null,null,null,null,null,null,null,null,null,null,0,null,{"$error":"#N/A"},0,{"$error":"#N/A"},{"$error":"#N/A"},0,{"$error":"#N/A"}]
[null,10,{"$f":"'Data Siswa'!D15","v":0},null,null,null,null,null,null,null,null,null,null,null,null,null,null,null,null,null,null,null,null,0,null,{"$error":"#N/A"},0,{"$error":"#N/A"},{"$error":"#N/A"},0,{"$error":"#N/A"}]
[null,11,{"$f":"'Data Siswa'!D16","v":0},null,null,null,null,null,null,null,null,null,null,null,null,null,null,null,null,null,null,null,null,0,null,{"$error":"#N/A"},0,{"$error":"#N/A"},{"$error":"#N/A"},0,{"$error":"#N/A"}]
[null,12,{"$f":"'Data Siswa'!D17","v":0},null,null,null,null,null,null,null,null,null,null,null,null,null,null,null,null,null,null,null,null,0,null,{"$error":"#N/A"},0,{"$error":"#N/A"},{"$error":"#N/A"},0,{"$error":"#N/A"}]
[null,13,{"$f":"'Data Siswa'!D18","v":0},null,null,null,null,null,null,null,null,null,null,null,null,null,null,null,null,null,null,null,null,0,null,{"$error":"#N/A"},0,{"$error":"#N/A"},{"$error":"#N/A"},0,{"$error":"#N/A"}]
[null,14,{"$f":"'Data Siswa'!D19","v":0},null,null,null,null,null,null,null,null,null,null,null,null,null,null,null,null,null,null,null,null,0,null,{"$error":"#N/A"},0,{"$error":"#N/A"},{"$error":"#N/A"},0,{"$error":"#N/A"}]
[null,15,{"$f":"'Data Siswa'!D20","v":0},null,null,null,null,null,null,null,null,null,null,null,null,null,null,null,null,null,null,null,null,0,null,{"$error":"#N/A"},0,{"$error":"#N/A"},{"$error":"#N/A"},0,{"$error":"#N/A"}]
[null,16,{"$f":"'Data Siswa'!D21","v":0},null,null,null,null,null,null,null,null,null,null,null,null,null,null,null,null,null,null,null,null,0,null,{"$error":"#N/A"},0,{"$error":"#N/A"},{"$error":"#N/A"},0,{"$error":"#N/A"}]
[null,17,{"$f":"'Data Siswa'!D22","v":0},null,null,null,null,null,null,null,null,null,null,null,null,null,null,null,null,null,null,null,null,0,null,{"$error":"#N/A"},0,{"$error":"#N/A"},{"$error":"#N/A"},0,{"$error":"#N/A"}]
[null,18,{"$f":"'Data Siswa'!D23","v":0},null,null,null,null,null,null,null,null,null,null,null,null,null,null,null,null,null,null,null,null,0,null,{"$error":"#N/A"},0,{"$error":"#N/A"},{"$error":"#N/A"},0,{"$error":"#N/A"}]
[null,19,{"$f":"'Data Siswa'!D24","v":0},null,null,null,null,null,null,null,null,null,null,null,null,null,null,null,null,null,null,null,null,0,null,{"$error":"#N/A"},0,{"$error":"#N/A"},{"$error":"#N/A"},0,{"$error":"#N/A"}]
[null,20,{"$f":"'Data Siswa'!D25","v":0},null,null,null,null,null,null,null,null,null,null,null,null,null,null,null,null,null,null,null,null,0,null,{"$error":"#N/A"},0,{"$error":"#N/A"},{"$error":"#N/A"},0,{"$error":"#N/A"}]
[null,21,{"$f":"'Data Siswa'!D26","v":0},null,null,null,null,null,null,null,null,null,null,null,null,null,null,null,null,null,null,null,null,0,null,{"$error":"#N/A"},0,{"$error":"#N/A"},{"$error":"#N/A"},0,{"$error":"#N/A"}]
[null,22,{"$f":"'Data Siswa'!D27","v":0},null,null,null,null,null,null,null,null,null,null,null,null,null,null,null,null,null,null,null,null,0,null,{"$error":"#N/A"},0,{"$error":"#N/A"},{"$error":"#N/A"},0,{"$error":"#N/A"}]
[null,23,{"$f":"'Data Siswa'!D28","v":0},null,null,null,null,null,null,null,null,null,null,null,null,null,null,null,null,null,null,null,null,0,null,{"$error":"#N/A"},0,{"$error":"#N/A"},{"$error":"#N/A"},0,{"$error":"#N/A"}]
[null,24,{"$f":"'Data Siswa'!D29","v":0},null,null,null,null,null,null,null,null,null,null,null,null,null,null,null,null,null,null,null,null,0,null,{"$error":"#N/A"},0,{"$error":"#N/A"},{"$error":"#N/A"},0,{"$error":"#N/A"}]
[null,25,{"$f":"'Data Siswa'!D30","v":0},null,null,null,null,null,null,null,null,null,null,null,null,null,null,null,null,null,null,null,null,0,null,{"$error":"#N/A"},0,{"$error":"#N/A"},{"$error":"#N/A"},0,{"$error":"#N/A"}]
[null,26,{"$f":"'Data Siswa'!D31","v":0},null,null,null,null,null,null,null,null,null,null,null,null,null,null,null,null,null,null,null,null,0,null,{"$error":"#N/A"},0,{"$error":"#N/A"},{"$error":"#N/A"},0,{"$error":"#N/A"}]
[null,27,{"$f":"'Data Siswa'!D32","v":0},null,null,null,null,null,null,null,null,null,null,null,null,null,null,null,null,null,null,null,null,0,null,{"$error":"#N/A"},0,{"$error":"#N/A"},{"$error":"#N/A"},0,{"$error":"#N/A"}]
[null,28,{"$f":"'Data Siswa'!D33","v":0},null,null,null,null,null,null,null,null,null,null,null,null,null,null,null,null,null,null,null,null,0,null,{"$error":"#N/A"},0,{"$error":"#N/A"},{"$error":"#N/A"},0,{"$error":"#N/A"}]
[null,29,{"$f":"'Data Siswa'!D34","v":0},null,null,null,null,null,null,null,null,null,null,null,null,null,null,null,null,null,null,null,null,0,null,{"$error":"#N/A"},0,{"$error":"#N/A"},{"$error":"#N/A"},0,{"$error":"#N/A"}]
[null,30,{"$f":"'Data Siswa'!D35","v":0},null,null,null,null,null,null,null,null,null,null,null,null,null,null,null,null,null,null,null,null,0,null,{"$error":"#N/A"},0,{"$error":"#N/A"},{"$error":"#N/A"},0,{"$error":"#N/A"}]
[null,31,{"$f":"'Data Siswa'!D36","v":0},null,null,null,null,null,null,null,null,null,null,null,null,null,null,null,null,null,null,null,null,0,null,{"$error":"#N/A"},0,{"$error":"#N/A"},{"$error":"#N/A"},0,{"$error":"#N/A"}]
[null,32,{"$f":"'Data Siswa'!D37","v":0},null,null,null,null,null,null,null,null,null,null,null,null,null,null,null,null,null,null,null,null,0,null,{"$error":"#N/A"},0,{"$error":"#N/A"},{"$error":"#N/A"},0,{"$error":"#N/A"}]
[null,33,{"$f":"'Data Siswa'!D38","v":0},null,null,null,null,null,null,null,null,null,null,null,null,null,null,null,null,null,null,null,null,0,null,{"$error":"#N/A"},0,{"$error":"#N/A"},{"$error":"#N/A"},0,{"$error":"#N/A"}]
[null,34,{"$f":"'Data Siswa'!D39","v":0},null,null,null,null,null,null,null,null,null,null,null,null,null,null,null,null,null,null,null,null,0,null,{"$error":"#N/A"},0,{"$error":"#N/A"},{"$error":"#N/A"},0,{"$error":"#N/A"}]
[null,35,{"$f":"'Data Siswa'!D40","v":0},null,null,null,null,null,null,null,null,null,null,null,null,null,null,null,null,null,null,null,null,0,null,{"$error":"#N/A"},0,{"$error":"#N/A"},{"$error":"#N/A"},0,{"$error":"#N/A"}]
[null,36,{"$f":"'Data Siswa'!D41","v":0},null,null,null,null,null,null,null,null,null,null,null,null,null,null,null,null,null,null,null,null,0,null,{"$error":"#N/A"},0,{"$error":"#N/A"},{"$error":"#N/A"},0,{"$error":"#N/A"}]
[null,37,{"$f":"'Data Siswa'!D42","v":0},null,null,null,null,null,null,null,null,null,null,null,null,null,null,null,null,null,null,null,null,0,null,{"$error":"#N/A"},0,{"$error":"#N/A"},{"$error":"#N/A"},0,{"$error":"#N/A"}]
[null,38,{"$f":"'Data Siswa'!D43","v":0},null,null,null,null,null,null,null,null,null,null,null,null,null,null,null,null,null,null,null,null,0,null,{"$error":"#N/A"},0,{"$error":"#N/A"},{"$error":"#N/A"},0,{"$error":"#N/A"}]
[null,39,{"$f":"'Data Siswa'!D44","v":0},null,null,null,null,null,null,null,null,null,null,null,null,null,null,null,null,null,null,null,null,0,null,{"$error":"#N/A"},0,{"$error":"#N/A"},{"$error":"#N/A"},0,{"$error":"#N/A"}]
[null,40,{"$f":"'Data Siswa'!D45","v":0},null,null,null,null,null,null,null,null,null,null,null,null,null,null,null,null,null,null,null,null,0,null,{"$error":"#N/A"},0,{"$error":"#N/A"},{"$error":"#N/A"},0,{"$error":"#N/A"}]
[null,41,{"$f":"'Data Siswa'!D46","v":0},null,null,null,null,null,null,null,null,null,null,null,null,null,null,null,null,null,null,null,null,0,null,{"$error":"#N/A"},0,{"$error":"#N/A"},{"$error":"#N/A"},0,{"$error":"#N/A"}]
[null,42,{"$f":"'Data Siswa'!D47","v":0},null,null,null,null,null,null,null,null,null,null,null,null,null,null,null,null,null,null,null,null,0,null,{"$error":"#N/A"},0,{"$error":"#N/A"},{"$error":"#N/A"},0,{"$error":"#N/A"}]
[null,43,{"$f":"'Data Siswa'!D48","v":0},null,null,null,null,null,null,null,null,null,null,null,null,null,null,null,null,null,null,null,null,0,null,{"$error":"#N/A"},0,{"$error":"#N/A"},{"$error":"#N/A"},0,{"$error":"#N/A"}]
[null,44,{"$f":"'Data Siswa'!D49","v":0},null,null,null,null,null,null,null,null,null,null,null,null,null,null,null,null,null,null,null,null,0,null,{"$error":"#N/A"},0,{"$error":"#N/A"},{"$error":"#N/A"},0,{"$error":"#N/A"}]
[null,45,{"$f":"'Data Siswa'!D50","v":0},null,null,null,null,null,null,null,null,null,null,null,null,null,null,null,null,null,null,null,null,0,null,{"$error":"#N/A"},0,{"$error":"#N/A"},{"$error":"#N/A"},0,{"$error":"#N/A"}]
[null,46,{"$f":"'Data Siswa'!D51","v":0},null,null,null,null,null,null,null,null,null,null,null,null,null,null,null,null,null,null,null,null,0,null,{"$error":"#N/A"},0,{"$error":"#N/A"},{"$error":"#N/A"},0,{"$error":"#N/A"}]
[null,47,{"$f":"'Data Siswa'!D52","v":0},null,null,null,null,null,null,null,null,null,null,null,null,null,null,null,null,null,null,null,null,0,null,{"$error":"#N/A"},0,{"$error":"#N/A"},{"$error":"#N/A"},0,{"$error":"#N/A"}]
[null,48,{"$f":"'Data Siswa'!D53","v":0},null,null,null,null,null,null,null,null,null,null,null,null,null,null,null,null,null,null,null,null,0,null,{"$error":"#N/A"},0,{"$error":"#N/A"},{"$error":"#N/A"},0,{"$error":"#N/A"}]
[null,49,{"$f":"'Data Siswa'!D54","v":0},null,null,null,null,null,null,null,null,null,null,null,null,null,null,null,null,null,null,null,null,0,null,{"$error":"#N/A"},0,{"$error":"#N/A"},{"$error":"#N/A"},0,{"$error":"#N/A"}]
[null,50,{"$f":"'Data Siswa'!D55","v":0},null,null,null,null,null,null,null,null,null,null,null,null,null,null,null,null,null,null,null,null,0,null,{"$error":"#N/A"},0,{"$error":"#N/A"},{"$error":"#N/A"},0,{"$error":"#N/A"}]
[null,"RATA-RATA",null,{"$f":"IFERROR(AVERAGE(D12:D61),0)","v":0},{"$f":"IFERROR(AVERAGE(E12:E61),0)","v":0},0,0,0,0,0,0,0,0,0,0,0,0,0,0,0,0,0,0]

{"sheet":"SUMM1","index":41,"n_rows":62,"n_cols":35,"rows_kept":62,"cut":false,"hidden":false,"merged":[[9,29,9,31],[9,32,9,34],[61,1,61,2],[9,9,9,10],[9,11,9,12],[9,13,9,14],[9,15,9,16],[9,17,9,18],[9,19,9,20],[2,0,2,27],[7,1,10,1],[7,2,10,2],[7,3,7,26],[7,27,10,27],[8,3,8,14],[8,15,8,26],[9,3,9,4],[9,5,9,6],[9,7,9,8],[9,21,9,22],[9,23,9,24],[9,25,9,26]]}
[]
[]
["DAFTAR NILAI ASESMEN SUMATIF"]
[]
[null,null,"Mata Pelajaran",":",null,{"$f":"IDENTITAS!G21","v":0}]
[]
[]
[null,"No","NAMA SISWA",{"$f":"IDENTITAS!G21","v":0},null,null,null,null,null,null,null,null,null,null,null,null,null,null,null,null,null,null,null,null,null,null,null,"NILAI RAPOR"]
[null,null,null,"ASESMEN SUMATIF  AKHIR MATERI",null,null,null,null,null,null,null,null,null,null,null,"ASESMEN SUMATIF AKHIR SEMESTER *"]
[null,null,null,{"$f":"'TP MULOK1'!J9","v":0},null,{"$f":"'TP MULOK1'!J10","v":0},null,{"$f":"'TP MULOK1'!J11","v":0},null,{"$f":"'TP MULOK1'!J12","v":0},null,{"$f":"'TP MULOK1'!J13","v":0},null,{"$f":"'TP MULOK1'!J14","v":0},null,{"$f":"'TP MULOK1'!J9","v":0},null,{"$f":"'TP MULOK1'!J10","v":0},null,{"$f":"'TP MULOK1'!J11","v":0},null,{"$f":"'TP MULOK1'!J12","v":0},null,{"$f":"'TP MULOK1'!J13","v":0},null,{"$f":"'TP MULOK1'!J14","v":0}]
[null,null,null,"Tes","Non Tes","Tes","Non Tes","Tes","Non Tes","Tes","Non Tes","Tes","Non Tes","Tes","Non Tes","Tes","Non Tes","Tes","Non Tes","Tes","Non Tes","Tes","Non Tes","Tes","Non Tes","Tes","Non Tes",null,null,"TP","MAX","DESKRIPSI","TP","MIN","DESKRIPSI"]
[null,1,{"$f":"'Data Siswa'!D6","v":0},null,null,null,null,null,null,null,null,null,null,null,null,null,null,null,null,null,null,null,null,null,null,null,null,{"$f":"IFERROR(AVERAGE(D12:AA12),0)","v":0},null,{"$f":"INDEX($D$11:$AA$11,MATCH(AE12,D12:AA12,0))","v":{"$error":"#N/A"}},{"$f":"MAX(D12:AA12)","v":0},{"$f":"C12&\" sangat menguasai dalam \"&AD12","v":{"$error":"#N/A"}},{"$f":"INDEX($D$11:$AA$11,MATCH(AH12,D12:AA12,0))","v":{"$error":"#N/A"}},{"$f":"MIN(D12:AA12)","v":0},{"$f":"C12&\" perlu bimbingan dalam \"&AG12","v":{"$error":"#N/A"}}]
[null,2,{"$f":"'Data Siswa'!D7","v":0},null,null,null,null,null,null,null,null,null,null,null,null,null,null,null,null,null,null,null,null,null,null,null,null,{"$f":"IFERROR(AVERAGE(D13:AA13),0)","v":0},null,{"$error":"#N/A"},0,{"$error":"#N/A"},{"$error":"#N/A"},0,{"$error":"#N/A"}]
[null,3,{"$f":"'Data Siswa'!D8","v":0},null,null,null,null,null,null,null,null,null,null,null,null,null,null,null,null,null,null,null,null,null,null,null,null,0,null,{"$error":"#N/A"},0,{"$error":"#N/A"},{"$error":"#N/A"},0,{"$error":"#N/A"}]
[null,4,{"$f":"'Data Siswa'!D9","v":0},null,null,null,null,null,null,null,null,null,null,null,null,null,null,null,null,null,null,null,null,null,null,null,null,0,null,{"$error":"#N/A"},0,{"$error":"#N/A"},{"$error":"#N/A"},0,{"$error":"#N/A"}]
[null,5,{"$f":"'Data Siswa'!D10","v":0},null,null,null,null,null,null,null,null,null,null,null,null,null,null,null,null,null,null,null,null,null,null,null,null,0,null,{"$error":"#N/A"},0,{"$error":"#N/A"},{"$error":"#N/A"},0,{"$error":"#N/A"}]
[null,6,{"$f":"'Data Siswa'!D11","v":0},null,null,null,null,null,null,null,null,null,null,null,null,null,null,null,null,null,null,null,null,null,null,null,null,{"$f":"IFERROR(AVERAGE(D17:AA17),0)","v":0},null,{"$error":"#N/A"},0,{"$error":"#N/A"},{"$error":"#N/A"},0,{"$error":"#N/A"}]
[null,7,{"$f":"'Data Siswa'!D12","v":0},null,null,null,null,null,null,null,null,null,null,null,null,null,null,null,null,null,null,null,null,null,null,null,null,0,null,{"$error":"#N/A"},0,{"$error":"#N/A"},{"$error":"#N/A"},0,{"$error":"#N/A"}]
[null,8,{"$f":"'Data Siswa'!D13","v":0},null,null,null,null,null,null,null,null,null,null,null,null,null,null,null,null,null,null,null,null,null,null,null,null,0,null,{"$error":"#N/A"},0,{"$error":"#N/A"},{"$error":"#N/A"},0,{"$error":"#N/A"}]
[null,9,{"$f":"'Data Siswa'!D14","v":0},null,null,null,null,null,null,null,null,null,null,null,null,null,null,null,null,null,null,null,null,null,null,null,null,0,null,{"$error":"#N/A"},0,{"$error":"#N/A"},{"$error":"#N/A"},0,{"$error":"#N/A"}]
[null,10,{"$f":"'Data Siswa'!D15","v":0},null,null,null,null,null,null,null,null,null,null,null,null,null,null,null,null,null,null,null,null,null,null,null,null,0,null,{"$error":"#N/A"},0,{"$error":"#N/A"},{"$error":"#N/A"},0,{"$error":"#N/A"}]
[null,11,{"$f":"'Data Siswa'!D16","v":0},null,null,null,null,null,null,null,null,null,null,null,null,null,null,null,null,null,null,null,null,null,null,null,null,0,null,{"$error":"#N/A"},0,{"$error":"#N/A"},{"$error":"#N/A"},0,{"$error":"#N/A"}]
[null,12,{"$f":"'Data Siswa'!D17","v":0},null,null,null,null,null,null,null,null,null,null,null,null,null,null,null,null,null,null,null,null,null,null,null,null,0,null,{"$error":"#N/A"},0,{"$error":"#N/A"},{"$error":"#N/A"},0,{"$error":"#N/A"}]
[null,13,{"$f":"'Data Siswa'!D18","v":0},null,null,null,null,null,null,null,null,null,null,null,null,null,null,null,null,null,null,null,null,null,null,null,null,0,null,{"$error":"#N/A"},0,{"$error":"#N/A"},{"$error":"#N/A"},0,{"$error":"#N/A"}]
[null,14,{"$f":"'Data Siswa'!D19","v":0},null,null,null,null,null,null,null,null,null,null,null,null,null,null,null,null,null,null,null,null,null,null,null,null,0,null,{"$error":"#N/A"},0,{"$error":"#N/A"},{"$error":"#N/A"},0,{"$error":"#N/A"}]
[null,15,{"$f":"'Data Siswa'!D20","v":0},null,null,null,null,null,null,null,null,null,null,null,null,null,null,null,null,null,null,null,null,null,null,null,null,0,null,{"$error":"#N/A"},0,{"$error":"#N/A"},{"$error":"#N/A"},0,{"$error":"#N/A"}]
[null,16,{"$f":"'Data Siswa'!D21","v":0},null,null,null,null,null,null,null,null,null,null,null,null,null,null,null,null,null,null,null,null,null,null,null,null,0,null,{"$error":"#N/A"},0,{"$error":"#N/A"},{"$error":"#N/A"},0,{"$error":"#N/A"}]
[null,17,{"$f":"'Data Siswa'!D22","v":0},null,null,null,null,null,null,null,null,null,null,null,null,null,null,null,null,null,null,null,null,null,null,null,null,0,null,{"$error":"#N/A"},0,{"$error":"#N/A"},{"$error":"#N/A"},0,{"$error":"#N/A"}]
[null,18,{"$f":"'Data Siswa'!D23","v":0},null,null,null,null,null,null,null,null,null,null,null,null,null,null,null,null,null,null,null,null,null,null,null,null,0,null,{"$error":"#N/A"},0,{"$error":"#N/A"},{"$error":"#N/A"},0,{"$error":"#N/A"}]
[null,19,{"$f":"'Data Siswa'!D24","v":0},null,null,null,null,null,null,null,null,null,null,null,null,null,null,null,null,null,null,null,null,null,null,null,null,0,null,{"$error":"#N/A"},0,{"$error":"#N/A"},{"$error":"#N/A"},0,{"$error":"#N/A"}]
[null,20,{"$f":"'Data Siswa'!D25","v":0},null,null,null,null,null,null,null,null,null,null,null,null,null,null,null,null,null,null,null,null,null,null,null,null,0,null,{"$error":"#N/A"},0,{"$error":"#N/A"},{"$error":"#N/A"},0,{"$error":"#N/A"}]
[null,21,{"$f":"'Data Siswa'!D26","v":0},null,null,null,null,null,null,null,null,null,null,null,null,null,null,null,null,null,null,null,null,null,null,null,null,0,null,{"$error":"#N/A"},0,{"$error":"#N/A"},{"$error":"#N/A"},0,{"$error":"#N/A"}]
[null,22,{"$f":"'Data Siswa'!D27","v":0},null,null,null,null,null,null,null,null,null,null,null,null,null,null,null,null,null,null,null,null,null,null,null,null,0,null,{"$error":"#N/A"},0,{"$error":"#N/A"},{"$error":"#N/A"},0,{"$error":"#N/A"}]
[null,23,{"$f":"'Data Siswa'!D28","v":0},null,null,null,null,null,null,null,null,null,null,null,null,null,null,null,null,null,null,null,null,null,null,null,null,0,null,{"$error":"#N/A"},0,{"$error":"#N/A"},{"$error":"#N/A"},0,{"$error":"#N/A"}]
[null,24,{"$f":"'Data Siswa'!D29","v":0},null,null,null,null,null,null,null,null,null,null,null,null,null,null,null,null,null,null,null,null,null,null,null,null,0,null,{"$error":"#N/A"},0,{"$error":"#N/A"},{"$error":"#N/A"},0,{"$error":"#N/A"}]
[null,25,{"$f":"'Data Siswa'!D30","v":0},null,null,null,null,null,null,null,null,null,null,null,null,null,null,null,null,null,null,null,null,null,null,null,null,0,null,{"$error":"#N/A"},0,{"$error":"#N/A"},{"$error":"#N/A"},0,{"$error":"#N/A"}]
[null,26,{"$f":"'Data Siswa'!D31","v":0},null,null,null,null,null,null,null,null,null,null,null,null,null,null,null,null,null,null,null,null,null,null,null,null,0,null,{"$error":"#N/A"},0,{"$error":"#N/A"},{"$error":"#N/A"},0,{"$error":"#N/A"}]
[null,27,{"$f":"'Data Siswa'!D32","v":0},null,null,null,null,null,null,null,null,null,null,null,null,null,null,null,null,null,null,null,null,null,null,null,null,0,null,{"$error":"#N/A"},0,{"$error":"#N/A"},{"$error":"#N/A"},0,{"$error":"#N/A"}]
[null,28,{"$f":"'Data Siswa'!D33","v":0},null,null,null,null,null,null,null,null,null,null,null,null,null,null,null,null,null,null,null,null,null,null,null,null,0,null,{"$error":"#N/A"},0,{"$error":"#N/A"},{"$error":"#N/A"},0,{"$error":"#N/A"}]
[null,29,{"$f":"'Data Siswa'!D34","v":0},null,null,null,null,null,null,null,null,null,null,null,null,null,null,null,null,null,null,null,null,null,null,null,null,0,null,{"$error":"#N/A"},0,{"$error":"#N/A"},{"$error":"#N/A"},0,{"$error":"#N/A"}]
[null,30,{"$f":"'Data Siswa'!D35","v":0},null,null,null,null,null,null,null,null,null,null,null,null,null,null,null,null,null,null,null,null,null,null,null,null,0,null,{"$error":"#N/A"},0,{"$error":"#N/A"},{"$error":"#N/A"},0,{"$error":"#N/A"}]
[null,31,{"$f":"'Data Siswa'!D36","v":0},null,null,null,null,null,null,null,null,null,null,null,null,null,null,null,null,null,null,null,null,null,null,null,null,0,null,{"$error":"#N/A"},0,{"$error":"#N/A"},{"$error":"#N/A"},0,{"$error":"#N/A"}]
[null,32,{"$f":"'Data Siswa'!D37","v":0},null,null,null,null,null,null,null,null,null,null,null,null,null,null,null,null,null,null,null,null,null,null,null,null,0,null,{"$error":"#N/A"},0,{"$error":"#N/A"},{"$error":"#N/A"},0,{"$error":"#N/A"}]
[null,33,{"$f":"'Data Siswa'!D38","v":0},null,null,null,null,null,null,null,null,null,null,null,null,null,null,null,null,null,null,null,null,null,null,null,null,0,null,{"$error":"#N/A"},0,{"$f":"C44&\" sangat menguasai dalam \"&AD44","v":{"$error":"#N/A"}},{"$error":"#N/A"},0,{"$f":"C44&\" perlu bimbingan dalam \"&AG44","v":{"$error":"#N/A"}}]
[null,34,{"$f":"'Data Siswa'!D39","v":0},null,null,null,null,null,null,null,null,null,null,null,null,null,null,null,null,null,null,null,null,null,null,null,null,0,null,{"$error":"#N/A"},0,{"$error":"#N/A"},{"$error":"#N/A"},0,{"$error":"#N/A"}]
[null,35,{"$f":"'Data Siswa'!D40","v":0},null,null,null,null,null,null,null,null,null,null,null,null,null,null,null,null,null,null,null,null,null,null,null,null,0,null,{"$error":"#N/A"},0,{"$error":"#N/A"},{"$error":"#N/A"},0,{"$error":"#N/A"}]
[null,36,{"$f":"'Data Siswa'!D41","v":0},null,null,null,null,null,null,null,null,null,null,null,null,null,null,null,null,null,null,null,null,null,null,null,null,0,null,{"$error":"#N/A"},0,{"$error":"#N/A"},{"$error":"#N/A"},0,{"$error":"#N/A"}]
[null,37,{"$f":"'Data Siswa'!D42","v":0},null,null,null,null,null,null,null,null,null,null,null,null,null,null,null,null,null,null,null,null,null,null,null,null,0,null,{"$error":"#N/A"},0,{"$error":"#N/A"},{"$error":"#N/A"},0,{"$error":"#N/A"}]
[null,38,{"$f":"'Data Siswa'!D43","v":0},null,null,null,null,null,null,null,null,null,null,null,null,null,null,null,null,null,null,null,null,null,null,null,null,0,null,{"$error":"#N/A"},0,{"$error":"#N/A"},{"$error":"#N/A"},0,{"$error":"#N/A"}]
[null,39,{"$f":"'Data Siswa'!D44","v":0},null,null,null,null,null,null,null,null,null,null,null,null,null,null,null,null,null,null,null,null,null,null,null,null,0,null,{"$error":"#N/A"},0,{"$error":"#N/A"},{"$error":"#N/A"},0,{"$error":"#N/A"}]
[null,40,{"$f":"'Data Siswa'!D45","v":0},null,null,null,null,null,null,null,null,null,null,null,null,null,null,null,null,null,null,null,null,null,null,null,null,0,null,{"$error":"#N/A"},0,{"$error":"#N/A"},{"$error":"#N/A"},0,{"$error":"#N/A"}]
[null,41,{"$f":"'Data Siswa'!D46","v":0},null,null,null,null,null,null,null,null,null,null,null,null,null,null,null,null,null,null,null,null,null,null,null,null,0,null,{"$error":"#N/A"},0,{"$error":"#N/A"},{"$error":"#N/A"},0,{"$error":"#N/A"}]
[null,42,{"$f":"'Data Siswa'!D47","v":0},null,null,null,null,null,null,null,null,null,null,null,null,null,null,null,null,null,null,null,null,null,null,null,null,0,null,{"$error":"#N/A"},0,{"$error":"#N/A"},{"$error":"#N/A"},0,{"$error":"#N/A"}]
[null,43,{"$f":"'Data Siswa'!D48","v":0},null,null,null,null,null,null,null,null,null,null,null,null,null,null,null,null,null,null,null,null,null,null,null,null,0,null,{"$error":"#N/A"},0,{"$error":"#N/A"},{"$error":"#N/A"},0,{"$error":"#N/A"}]
[null,44,{"$f":"'Data Siswa'!D49","v":0},null,null,null,null,null,null,null,null,null,null,null,null,null,null,null,null,null,null,null,null,null,null,null,null,0,null,{"$error":"#N/A"},0,{"$error":"#N/A"},{"$error":"#N/A"},0,{"$error":"#N/A"}]
[null,45,{"$f":"'Data Siswa'!D50","v":0},null,null,null,null,null,null,null,null,null,null,null,null,null,null,null,null,null,null,null,null,null,null,null,null,0,null,{"$error":"#N/A"},0,{"$error":"#N/A"},{"$error":"#N/A"},0,{"$error":"#N/A"}]
[null,46,{"$f":"'Data Siswa'!D51","v":0},null,null,null,null,null,null,null,null,null,null,null,null,null,null,null,null,null,null,null,null,null,null,null,null,0,null,{"$error":"#N/A"},0,{"$error":"#N/A"},{"$error":"#N/A"},0,{"$error":"#N/A"}]
[null,47,{"$f":"'Data Siswa'!D52","v":0},null,null,null,null,null,null,null,null,null,null,null,null,null,null,null,null,null,null,null,null,null,null,null,null,{"$f":"IFERROR(AVERAGE(D58:AA58),0)","v":0},null,{"$error":"#N/A"},0,{"$error":"#N/A"},{"$error":"#N/A"},0,{"$error":"#N/A"}]
[null,48,{"$f":"'Data Siswa'!D53","v":0},null,null,null,null,null,null,null,null,null,null,null,null,null,null,null,null,null,null,null,null,null,null,null,null,0,null,{"$error":"#N/A"},0,{"$error":"#N/A"},{"$error":"#N/A"},0,{"$error":"#N/A"}]
[null,49,{"$f":"'Data Siswa'!D54","v":0},null,null,null,null,null,null,null,null,null,null,null,null,null,null,null,null,null,null,null,null,null,null,null,null,0,null,{"$error":"#N/A"},0,{"$error":"#N/A"},{"$error":"#N/A"},0,{"$error":"#N/A"}]
[null,50,{"$f":"'Data Siswa'!D55","v":0},null,null,null,null,null,null,null,null,null,null,null,null,null,null,null,null,null,null,null,null,null,null,null,null,0,null,{"$error":"#N/A"},0,{"$error":"#N/A"},{"$error":"#N/A"},0,{"$error":"#N/A"}]
[null,"RATA-RATA",null,{"$f":"IFERROR(AVERAGE(D12:D61),0)","v":0},{"$f":"IFERROR(AVERAGE(E12:E61),0)","v":0},0,0,0,0,0,0,0,0,0,0,0,0,0,0,0,0,0,0,0,0,0,0]

{"sheet":"TP MULOK2","index":42,"n_rows":28,"n_cols":10,"rows_kept":28,"cut":false,"hidden":false,"merged":[[2,0,2,5],[2,6,2,9]]}
[]
[]
["ALUR TUJUAN PEMBELAJARAN ",null,null,null,null,null,"LINGKUP MATERI"]
[]
[null,"Mata Pelajaran",null,null,{"$f":"\": \"&IDENTITAS!$G$22","v":": "},null,null,"Mata Pelajaran",null,{"$f":"\": \"&IDENTITAS!$G$22","v":": "}]
[null,"Semester",null,null,{"$f":"\": \"&IDENTITAS!$D$21","v":": "},null,null,"Semester",null,{"$f":"\": \"&IDENTITAS!$D$21","v":": "}]
[]
[null,null,null,"No","Tujuan Pembelajaran",null,null,null,"No","Lingkup Materi"]
[null,null,null,1,null,null,null,null,1]
[null,null,null,2,null,null,null,null,2]
[null,null,null,3,null,null,null,null,3]
[null,null,null,4,null,null,null,null,4]
[null,null,null,5,null,null,null,null,5]
[null,null,null,6,null,null,null,null,6]
[null,null,null,7,null,null,null,null,"Catatan: Tuliskan lingkup materi pelajaran yang anda ajarkan. Contoh: Siklus Air"]
[null,null,null,8]
[null,null,null,9]
[null,null,null,10]
[null,null,null,11]
[null,null,null,12]
[null,null,null,13]
[null,null,null,14]
[null,null,null,15]
[null,null,null,16]
[null,null,null,17]
[null,null,null,18]
[null,null,null,19]
[null,null,null,20]

{"sheet":"MULOK2","index":43,"n_rows":62,"n_cols":31,"rows_kept":62,"cut":false,"hidden":false,"merged":[[9,25,9,27],[9,28,9,30],[61,1,61,2],[2,0,2,23],[7,1,10,1],[7,2,10,2],[7,3,7,22],[7,23,10,23],[8,3,8,22]]}
[]
[]
["DAFTAR NILAI ASESMEN FORMATIF"]
[]
[null,null,"Mata Pelajaran",":",{"$f":"IDENTITAS!G22","v":0}]
[]
[]
[null,"No","NAMA SISWA",{"$f":"IDENTITAS!G22","v":0},null,null,null,null,null,null,null,null,null,null,null,null,null,null,null,null,null,null,null,"NILAI RAPOR"]
[null,null,null,"ASESMEN FORMATIF"]
[null,null,null,"TP 1","TP 2","TP 3","TP 4","TP 5","TP 6","TP 7","TP 8","TP 9","TP 10","TP 11","TP 12","TP 13","TP 14","TP 15","TP 16","TP 17","TP 18","TP 19","TP 20"]
[null,null,null,{"$f":"'TP MULOK2'!E9","v":0},{"$f":"'TP MULOK2'!E10","v":0},{"$f":"'TP MULOK2'!E11","v":0},{"$f":"'TP MULOK2'!E12","v":0},{"$f":"'TP MULOK2'!E13","v":0},{"$f":"'TP MULOK2'!E14","v":0},{"$f":"'TP MULOK2'!E15","v":0},{"$f":"'TP MULOK2'!E16","v":0},{"$f":"'TP MULOK2'!E17","v":0},{"$f":"'TP MULOK2'!E18","v":0},{"$f":"'TP MULOK2'!E19","v":0},{"$f":"'TP MULOK2'!E20","v":0},{"$f":"'TP MULOK2'!E21","v":0},{"$f":"'TP MULOK2'!E22","v":0},{"$f":"'TP MULOK2'!E23","v":0},{"$f":"'TP MULOK2'!E24","v":0},{"$f":"'TP MULOK2'!E25","v":0},{"$f":"'TP MULOK2'!E26","v":0},{"$f":"'TP MULOK2'!E27","v":0},{"$f":"'TP MULOK2'!E28","v":0},null,null,"TP","MAX","DESKRIPSI","TP","MIN","DESKRIPSI"]
[null,1,{"$f":"'Data Siswa'!D6","v":0},null,null,null,null,null,null,null,null,null,null,null,null,null,null,null,null,null,null,null,null,{"$f":"IFERROR(AVERAGE(D12:W12),0)","v":0},null,{"$f":"INDEX($D$11:$W$11,MATCH(AA12,D12:W12,0))","v":{"$error":"#N/A"}},{"$f":"MAX(D12:W12)","v":0},{"$f":"C12&\" sangat menguasai dalam \"&Z12","v":{"$error":"#N/A"}},{"$f":"INDEX($D$11:$W$11,MATCH(AD12,D12:W12,0))","v":{"$error":"#N/A"}},{"$f":"MIN(D12:W12)","v":0},{"$f":"C12&\" perlu bimbingan dalam \"&AC12","v":{"$error":"#N/A"}}]
[null,2,{"$f":"'Data Siswa'!D7","v":0},null,null,null,null,null,null,null,null,null,null,null,null,null,null,null,null,null,null,null,null,0,null,{"$f":"INDEX($D$11:$W$11,MATCH(AA13,D13:W13,0))","v":{"$error":"#N/A"}},{"$f":"MAX(D13:W13)","v":0},{"$f":"C13&\" sangat menguasai dalam \"&Z13","v":{"$error":"#N/A"}},{"$f":"INDEX($D$11:$W$11,MATCH(AD13,D13:W13,0))","v":{"$error":"#N/A"}},{"$f":"MIN(D13:W13)","v":0},{"$f":"C13&\" perlu bimbingan dalam \"&AC13","v":{"$error":"#N/A"}}]
[null,3,{"$f":"'Data Siswa'!D8","v":0},null,null,null,null,null,null,null,null,null,null,null,null,null,null,null,null,null,null,null,null,0,null,{"$error":"#N/A"},0,{"$error":"#N/A"},{"$error":"#N/A"},0,{"$error":"#N/A"}]
[null,4,{"$f":"'Data Siswa'!D9","v":0},null,null,null,null,null,null,null,null,null,null,null,null,null,null,null,null,null,null,null,null,0,null,{"$error":"#N/A"},0,{"$error":"#N/A"},{"$error":"#N/A"},0,{"$error":"#N/A"}]
[null,5,{"$f":"'Data Siswa'!D10","v":0},null,null,null,null,null,null,null,null,null,null,null,null,null,null,null,null,null,null,null,null,0,null,{"$error":"#N/A"},0,{"$error":"#N/A"},{"$error":"#N/A"},0,{"$error":"#N/A"}]
[null,6,{"$f":"'Data Siswa'!D11","v":0},null,null,null,null,null,null,null,null,null,null,null,null,null,null,null,null,null,null,null,null,0,null,{"$error":"#N/A"},0,{"$error":"#N/A"},{"$error":"#N/A"},0,{"$error":"#N/A"}]
[null,7,{"$f":"'Data Siswa'!D12","v":0},null,null,null,null,null,null,null,null,null,null,null,null,null,null,null,null,null,null,null,null,0,null,{"$error":"#N/A"},0,{"$error":"#N/A"},{"$error":"#N/A"},0,{"$error":"#N/A"}]
[null,8,{"$f":"'Data Siswa'!D13","v":0},null,null,null,null,null,null,null,null,null,null,null,null,null,null,null,null,null,null,null,null,0,null,{"$error":"#N/A"},0,{"$error":"#N/A"},{"$error":"#N/A"},0,{"$error":"#N/A"}]
[null,9,{"$f":"'Data Siswa'!D14","v":0},null,null,null,null,null,null,null,null,null,null,null,null,null,null,null,null,null,null,null,null,0,null,{"$error":"#N/A"},0,{"$error":"#N/A"},{"$error":"#N/A"},0,{"$error":"#N/A"}]
[null,10,{"$f":"'Data Siswa'!D15","v":0},null,null,null,null,null,null,null,null,null,null,null,null,null,null,null,null,null,null,null,null,0,null,{"$error":"#N/A"},0,{"$error":"#N/A"},{"$error":"#N/A"},0,{"$error":"#N/A"}]
[null,11,{"$f":"'Data Siswa'!D16","v":0},null,null,null,null,null,null,null,null,null,null,null,null,null,null,null,null,null,null,null,null,0,null,{"$error":"#N/A"},0,{"$error":"#N/A"},{"$error":"#N/A"},0,{"$error":"#N/A"}]
[null,12,{"$f":"'Data Siswa'!D17","v":0},null,null,null,null,null,null,null,null,null,null,null,null,null,null,null,null,null,null,null,null,0,null,{"$error":"#N/A"},0,{"$error":"#N/A"},{"$error":"#N/A"},0,{"$error":"#N/A"}]
[null,13,{"$f":"'Data Siswa'!D18","v":0},null,null,null,null,null,null,null,null,null,null,null,null,null,null,null,null,null,null,null,null,0,null,{"$error":"#N/A"},0,{"$error":"#N/A"},{"$error":"#N/A"},0,{"$error":"#N/A"}]
[null,14,{"$f":"'Data Siswa'!D19","v":0},null,null,null,null,null,null,null,null,null,null,null,null,null,null,null,null,null,null,null,null,0,null,{"$error":"#N/A"},0,{"$error":"#N/A"},{"$error":"#N/A"},0,{"$error":"#N/A"}]
[null,15,{"$f":"'Data Siswa'!D20","v":0},null,null,null,null,null,null,null,null,null,null,null,null,null,null,null,null,null,null,null,null,0,null,{"$error":"#N/A"},0,{"$error":"#N/A"},{"$error":"#N/A"},0,{"$error":"#N/A"}]
[null,16,{"$f":"'Data Siswa'!D21","v":0},null,null,null,null,null,null,null,null,null,null,null,null,null,null,null,null,null,null,null,null,0,null,{"$error":"#N/A"},0,{"$error":"#N/A"},{"$error":"#N/A"},0,{"$error":"#N/A"}]
[null,17,{"$f":"'Data Siswa'!D22","v":0},null,null,null,null,null,null,null,null,null,null,null,null,null,null,null,null,null,null,null,null,0,null,{"$error":"#N/A"},0,{"$error":"#N/A"},{"$error":"#N/A"},0,{"$error":"#N/A"}]
[null,18,{"$f":"'Data Siswa'!D23","v":0},null,null,null,null,null,null,null,null,null,null,null,null,null,null,null,null,null,null,null,null,0,null,{"$error":"#N/A"},0,{"$error":"#N/A"},{"$error":"#N/A"},0,{"$error":"#N/A"}]
[null,19,{"$f":"'Data Siswa'!D24","v":0},null,null,null,null,null,null,null,null,null,null,null,null,null,null,null,null,null,null,null,null,0,null,{"$error":"#N/A"},0,{"$error":"#N/A"},{"$error":"#N/A"},0,{"$error":"#N/A"}]
[null,20,{"$f":"'Data Siswa'!D25","v":0},null,null,null,null,null,null,null,null,null,null,null,null,null,null,null,null,null,null,null,null,0,null,{"$error":"#N/A"},0,{"$error":"#N/A"},{"$error":"#N/A"},0,{"$error":"#N/A"}]
[null,21,{"$f":"'Data Siswa'!D26","v":0},null,null,null,null,null,null,null,null,null,null,null,null,null,null,null,null,null,null,null,null,0,null,{"$error":"#N/A"},0,{"$error":"#N/A"},{"$error":"#N/A"},0,{"$error":"#N/A"}]
[null,22,{"$f":"'Data Siswa'!D27","v":0},null,null,null,null,null,null,null,null,null,null,null,null,null,null,null,null,null,null,null,null,0,null,{"$error":"#N/A"},0,{"$error":"#N/A"},{"$error":"#N/A"},0,{"$error":"#N/A"}]
[null,23,{"$f":"'Data Siswa'!D28","v":0},null,null,null,null,null,null,null,null,null,null,null,null,null,null,null,null,null,null,null,null,0,null,{"$error":"#N/A"},0,{"$error":"#N/A"},{"$error":"#N/A"},0,{"$error":"#N/A"}]
[null,24,{"$f":"'Data Siswa'!D29","v":0},null,null,null,null,null,null,null,null,null,null,null,null,null,null,null,null,null,null,null,null,0,null,{"$error":"#N/A"},0,{"$error":"#N/A"},{"$error":"#N/A"},0,{"$error":"#N/A"}]
[null,25,{"$f":"'Data Siswa'!D30","v":0},null,null,null,null,null,null,null,null,null,null,null,null,null,null,null,null,null,null,null,null,0,null,{"$error":"#N/A"},0,{"$error":"#N/A"},{"$error":"#N/A"},0,{"$error":"#N/A"}]
[null,26,{"$f":"'Data Siswa'!D31","v":0},null,null,null,null,null,null,null,null,null,null,null,null,null,null,null,null,null,null,null,null,0,null,{"$error":"#N/A"},0,{"$error":"#N/A"},{"$error":"#N/A"},0,{"$error":"#N/A"}]
[null,27,{"$f":"'Data Siswa'!D32","v":0},null,null,null,null,null,null,null,null,null,null,null,null,null,null,null,null,null,null,null,null,0,null,{"$error":"#N/A"},0,{"$error":"#N/A"},{"$error":"#N/A"},0,{"$error":"#N/A"}]
[null,28,{"$f":"'Data Siswa'!D33","v":0},null,null,null,null,null,null,null,null,null,null,null,null,null,null,null,null,null,null,null,null,0,null,{"$error":"#N/A"},0,{"$error":"#N/A"},{"$error":"#N/A"},0,{"$error":"#N/A"}]
[null,29,{"$f":"'Data Siswa'!D34","v":0},null,null,null,null,null,null,null,null,null,null,null,null,null,null,null,null,null,null,null,null,0,null,{"$error":"#N/A"},0,{"$error":"#N/A"},{"$error":"#N/A"},0,{"$error":"#N/A"}]
[null,30,{"$f":"'Data Siswa'!D35","v":0},null,null,null,null,null,null,null,null,null,null,null,null,null,null,null,null,null,null,null,null,0,null,{"$error":"#N/A"},0,{"$error":"#N/A"},{"$error":"#N/A"},0,{"$error":"#N/A"}]
[null,31,{"$f":"'Data Siswa'!D36","v":0},null,null,null,null,null,null,null,null,null,null,null,null,null,null,null,null,null,null,null,null,0,null,{"$error":"#N/A"},0,{"$error":"#N/A"},{"$error":"#N/A"},0,{"$error":"#N/A"}]
[null,32,{"$f":"'Data Siswa'!D37","v":0},null,null,null,null,null,null,null,null,null,null,null,null,null,null,null,null,null,null,null,null,0,null,{"$error":"#N/A"},0,{"$error":"#N/A"},{"$error":"#N/A"},0,{"$error":"#N/A"}]
[null,33,{"$f":"'Data Siswa'!D38","v":0},null,null,null,null,null,null,null,null,null,null,null,null,null,null,null,null,null,null,null,null,0,null,{"$error":"#N/A"},0,{"$error":"#N/A"},{"$error":"#N/A"},0,{"$error":"#N/A"}]
[null,34,{"$f":"'Data Siswa'!D39","v":0},null,null,null,null,null,null,null,null,null,null,null,null,null,null,null,null,null,null,null,null,0,null,{"$error":"#N/A"},0,{"$error":"#N/A"},{"$error":"#N/A"},0,{"$error":"#N/A"}]
[null,35,{"$f":"'Data Siswa'!D40","v":0},null,null,null,null,null,null,null,null,null,null,null,null,null,null,null,null,null,null,null,null,0,null,{"$error":"#N/A"},0,{"$error":"#N/A"},{"$error":"#N/A"},0,{"$error":"#N/A"}]
[null,36,{"$f":"'Data Siswa'!D41","v":0},null,null,null,null,null,null,null,null,null,null,null,null,null,null,null,null,null,null,null,null,0,null,{"$error":"#N/A"},0,{"$error":"#N/A"},{"$error":"#N/A"},0,{"$error":"#N/A"}]
[null,37,{"$f":"'Data Siswa'!D42","v":0},null,null,null,null,null,null,null,null,null,null,null,null,null,null,null,null,null,null,null,null,0,null,{"$error":"#N/A"},0,{"$error":"#N/A"},{"$error":"#N/A"},0,{"$error":"#N/A"}]
[null,38,{"$f":"'Data Siswa'!D43","v":0},null,null,null,null,null,null,null,null,null,null,null,null,null,null,null,null,null,null,null,null,0,null,{"$error":"#N/A"},0,{"$error":"#N/A"},{"$error":"#N/A"},0,{"$error":"#N/A"}]
[null,39,{"$f":"'Data Siswa'!D44","v":0},null,null,null,null,null,null,null,null,null,null,null,null,null,null,null,null,null,null,null,null,0,null,{"$error":"#N/A"},0,{"$error":"#N/A"},{"$error":"#N/A"},0,{"$error":"#N/A"}]
[null,40,{"$f":"'Data Siswa'!D45","v":0},null,null,null,null,null,null,null,null,null,null,null,null,null,null,null,null,null,null,null,null,0,null,{"$error":"#N/A"},0,{"$error":"#N/A"},{"$error":"#N/A"},0,{"$error":"#N/A"}]
[null,41,{"$f":"'Data Siswa'!D46","v":0},null,null,null,null,null,null,null,null,null,null,null,null,null,null,null,null,null,null,null,null,0,null,{"$error":"#N/A"},0,{"$error":"#N/A"},{"$error":"#N/A"},0,{"$error":"#N/A"}]
[null,42,{"$f":"'Data Siswa'!D47","v":0},null,null,null,null,null,null,null,null,null,null,null,null,null,null,null,null,null,null,null,null,0,null,{"$error":"#N/A"},0,{"$error":"#N/A"},{"$error":"#N/A"},0,{"$error":"#N/A"}]
[null,43,{"$f":"'Data Siswa'!D48","v":0},null,null,null,null,null,null,null,null,null,null,null,null,null,null,null,null,null,null,null,null,0,null,{"$error":"#N/A"},0,{"$error":"#N/A"},{"$error":"#N/A"},0,{"$error":"#N/A"}]
[null,44,{"$f":"'Data Siswa'!D49","v":0},null,null,null,null,null,null,null,null,null,null,null,null,null,null,null,null,null,null,null,null,0,null,{"$error":"#N/A"},0,{"$error":"#N/A"},{"$error":"#N/A"},0,{"$error":"#N/A"}]
[null,45,{"$f":"'Data Siswa'!D50","v":0},null,null,null,null,null,null,null,null,null,null,null,null,null,null,null,null,null,null,null,null,0,null,{"$error":"#N/A"},0,{"$error":"#N/A"},{"$error":"#N/A"},0,{"$error":"#N/A"}]
[null,46,{"$f":"'Data Siswa'!D51","v":0},null,null,null,null,null,null,null,null,null,null,null,null,null,null,null,null,null,null,null,null,0,null,{"$error":"#N/A"},0,{"$error":"#N/A"},{"$error":"#N/A"},0,{"$error":"#N/A"}]
[null,47,{"$f":"'Data Siswa'!D52","v":0},null,null,null,null,null,null,null,null,null,null,null,null,null,null,null,null,null,null,null,null,0,null,{"$error":"#N/A"},0,{"$error":"#N/A"},{"$error":"#N/A"},0,{"$error":"#N/A"}]
[null,48,{"$f":"'Data Siswa'!D53","v":0},null,null,null,null,null,null,null,null,null,null,null,null,null,null,null,null,null,null,null,null,0,null,{"$error":"#N/A"},0,{"$error":"#N/A"},{"$error":"#N/A"},0,{"$error":"#N/A"}]
[null,49,{"$f":"'Data Siswa'!D54","v":0},null,null,null,null,null,null,null,null,null,null,null,null,null,null,null,null,null,null,null,null,0,null,{"$error":"#N/A"},0,{"$error":"#N/A"},{"$error":"#N/A"},0,{"$error":"#N/A"}]
[null,50,{"$f":"'Data Siswa'!D55","v":0},null,null,null,null,null,null,null,null,null,null,null,null,null,null,null,null,null,null,null,null,0,null,{"$error":"#N/A"},0,{"$error":"#N/A"},{"$error":"#N/A"},0,{"$error":"#N/A"}]
[null,"RATA-RATA",null,{"$f":"IFERROR(AVERAGE(D12:D61),0)","v":0},{"$f":"IFERROR(AVERAGE(E12:E61),0)","v":0},0,0,0,0,0,0,0,0,0,0,0,0,0,0,0,0,0,0]

{"sheet":"SUMM2","index":44,"n_rows":62,"n_cols":35,"rows_kept":62,"cut":false,"hidden":false,"merged":[[9,29,9,31],[9,32,9,34],[61,1,61,2],[9,9,9,10],[9,11,9,12],[9,13,9,14],[9,15,9,16],[9,17,9,18],[9,19,9,20],[2,0,2,27],[7,1,10,1],[7,2,10,2],[7,3,7,26],[7,27,10,27],[8,3,8,14],[8,15,8,26],[9,3,9,4],[9,5,9,6],[9,7,9,8],[9,21,9,22],[9,23,9,24],[9,25,9,26]]}
[]
[]
["DAFTAR NILAI ASESMEN SUMATIF"]
[]
[null,null,"Mata Pelajaran",":",null,{"$f":"IDENTITAS!G22","v":0}]
[]
[]
[null,"No","NAMA SISWA",{"$f":"IDENTITAS!G22","v":0},null,null,null,null,null,null,null,null,null,null,null,null,null,null,null,null,null,null,null,null,null,null,null,"NILAI RAPOR"]
[null,null,null,"ASESMEN SUMATIF  AKHIR MATERI",null,null,null,null,null,null,null,null,null,null,null,"ASESMEN SUMATIF AKHIR SEMESTER *"]
[null,null,null,{"$f":"'TP MULOK2'!J9","v":0},null,{"$f":"'TP MULOK2'!J10","v":0},null,{"$f":"'TP MULOK2'!J11","v":0},null,{"$f":"'TP MULOK2'!J12","v":0},null,{"$f":"'TP MULOK2'!J13","v":0},null,{"$f":"'TP MULOK2'!J14","v":0},null,{"$f":"'TP MULOK2'!J9","v":0},null,{"$f":"'TP MULOK2'!J10","v":0},null,{"$f":"'TP MULOK2'!J11","v":0},null,{"$f":"'TP MULOK2'!J12","v":0},null,{"$f":"'TP MULOK2'!J13","v":0},null,{"$f":"'TP MULOK2'!J14","v":0}]
[null,null,null,"Tes","Non Tes","Tes","Non Tes","Tes","Non Tes","Tes","Non Tes","Tes","Non Tes","Tes","Non Tes","Tes","Non Tes","Tes","Non Tes","Tes","Non Tes","Tes","Non Tes","Tes","Non Tes","Tes","Non Tes",null,null,"TP","MAX","DESKRIPSI","TP","MIN","DESKRIPSI"]
[null,1,{"$f":"'Data Siswa'!D6","v":0},null,null,null,null,null,null,null,null,null,null,null,null,null,null,null,null,null,null,null,null,null,null,null,null,{"$f":"IFERROR(AVERAGE(D12:AA12),0)","v":0},null,{"$f":"INDEX($D$11:$AA$11,MATCH(AE12,D12:AA12,0))","v":{"$error":"#N/A"}},{"$f":"MAX(D12:AA12)","v":0},{"$f":"C12&\" sangat menguasai dalam \"&AD12","v":{"$error":"#N/A"}},{"$f":"INDEX($D$11:$AA$11,MATCH(AH12,D12:AA12,0))","v":{"$error":"#N/A"}},{"$f":"MIN(D12:AA12)","v":0},{"$f":"C12&\" perlu bimbingan dalam \"&AG12","v":{"$error":"#N/A"}}]
[null,2,{"$f":"'Data Siswa'!D7","v":0},null,null,null,null,null,null,null,null,null,null,null,null,null,null,null,null,null,null,null,null,null,null,null,null,{"$f":"IFERROR(AVERAGE(D13:AA13),0)","v":0},null,{"$error":"#N/A"},0,{"$error":"#N/A"},{"$error":"#N/A"},0,{"$error":"#N/A"}]
[null,3,{"$f":"'Data Siswa'!D8","v":0},null,null,null,null,null,null,null,null,null,null,null,null,null,null,null,null,null,null,null,null,null,null,null,null,0,null,{"$error":"#N/A"},0,{"$error":"#N/A"},{"$error":"#N/A"},0,{"$error":"#N/A"}]
[null,4,{"$f":"'Data Siswa'!D9","v":0},null,null,null,null,null,null,null,null,null,null,null,null,null,null,null,null,null,null,null,null,null,null,null,null,0,null,{"$error":"#N/A"},0,{"$error":"#N/A"},{"$error":"#N/A"},0,{"$error":"#N/A"}]
[null,5,{"$f":"'Data Siswa'!D10","v":0},null,null,null,null,null,null,null,null,null,null,null,null,null,null,null,null,null,null,null,null,null,null,null,null,0,null,{"$error":"#N/A"},0,{"$error":"#N/A"},{"$error":"#N/A"},0,{"$error":"#N/A"}]
[null,6,{"$f":"'Data Siswa'!D11","v":0},null,null,null,null,null,null,null,null,null,null,null,null,null,null,null,null,null,null,null,null,null,null,null,null,{"$f":"IFERROR(AVERAGE(D17:AA17),0)","v":0},null,{"$error":"#N/A"},0,{"$error":"#N/A"},{"$error":"#N/A"},0,{"$error":"#N/A"}]
[null,7,{"$f":"'Data Siswa'!D12","v":0},null,null,null,null,null,null,null,null,null,null,null,null,null,null,null,null,null,null,null,null,null,null,null,null,0,null,{"$error":"#N/A"},0,{"$error":"#N/A"},{"$error":"#N/A"},0,{"$error":"#N/A"}]
[null,8,{"$f":"'Data Siswa'!D13","v":0},null,null,null,null,null,null,null,null,null,null,null,null,null,null,null,null,null,null,null,null,null,null,null,null,0,null,{"$error":"#N/A"},0,{"$error":"#N/A"},{"$error":"#N/A"},0,{"$error":"#N/A"}]
[null,9,{"$f":"'Data Siswa'!D14","v":0},null,null,null,null,null,null,null,null,null,null,null,null,null,null,null,null,null,null,null,null,null,null,null,null,0,null,{"$error":"#N/A"},0,{"$error":"#N/A"},{"$error":"#N/A"},0,{"$error":"#N/A"}]
[null,10,{"$f":"'Data Siswa'!D15","v":0},null,null,null,null,null,null,null,null,null,null,null,null,null,null,null,null,null,null,null,null,null,null,null,null,0,null,{"$error":"#N/A"},0,{"$error":"#N/A"},{"$error":"#N/A"},0,{"$error":"#N/A"}]
[null,11,{"$f":"'Data Siswa'!D16","v":0},null,null,null,null,null,null,null,null,null,null,null,null,null,null,null,null,null,null,null,null,null,null,null,null,0,null,{"$error":"#N/A"},0,{"$error":"#N/A"},{"$error":"#N/A"},0,{"$error":"#N/A"}]
[null,12,{"$f":"'Data Siswa'!D17","v":0},null,null,null,null,null,null,null,null,null,null,null,null,null,null,null,null,null,null,null,null,null,null,null,null,0,null,{"$error":"#N/A"},0,{"$error":"#N/A"},{"$error":"#N/A"},0,{"$error":"#N/A"}]
[null,13,{"$f":"'Data Siswa'!D18","v":0},null,null,null,null,null,null,null,null,null,null,null,null,null,null,null,null,null,null,null,null,null,null,null,null,0,null,{"$error":"#N/A"},0,{"$error":"#N/A"},{"$error":"#N/A"},0,{"$error":"#N/A"}]
[null,14,{"$f":"'Data Siswa'!D19","v":0},null,null,null,null,null,null,null,null,null,null,null,null,null,null,null,null,null,null,null,null,null,null,null,null,0,null,{"$error":"#N/A"},0,{"$error":"#N/A"},{"$error":"#N/A"},0,{"$error":"#N/A"}]
[null,15,{"$f":"'Data Siswa'!D20","v":0},null,null,null,null,null,null,null,null,null,null,null,null,null,null,null,null,null,null,null,null,null,null,null,null,0,null,{"$error":"#N/A"},0,{"$error":"#N/A"},{"$error":"#N/A"},0,{"$error":"#N/A"}]
[null,16,{"$f":"'Data Siswa'!D21","v":0},null,null,null,null,null,null,null,null,null,null,null,null,null,null,null,null,null,null,null,null,null,null,null,null,0,null,{"$error":"#N/A"},0,{"$error":"#N/A"},{"$error":"#N/A"},0,{"$error":"#N/A"}]
[null,17,{"$f":"'Data Siswa'!D22","v":0},null,null,null,null,null,null,null,null,null,null,null,null,null,null,null,null,null,null,null,null,null,null,null,null,0,null,{"$error":"#N/A"},0,{"$error":"#N/A"},{"$error":"#N/A"},0,{"$error":"#N/A"}]
[null,18,{"$f":"'Data Siswa'!D23","v":0},null,null,null,null,null,null,null,null,null,null,null,null,null,null,null,null,null,null,null,null,null,null,null,null,0,null,{"$error":"#N/A"},0,{"$error":"#N/A"},{"$error":"#N/A"},0,{"$error":"#N/A"}]
[null,19,{"$f":"'Data Siswa'!D24","v":0},null,null,null,null,null,null,null,null,null,null,null,null,null,null,null,null,null,null,null,null,null,null,null,null,0,null,{"$error":"#N/A"},0,{"$error":"#N/A"},{"$error":"#N/A"},0,{"$error":"#N/A"}]
[null,20,{"$f":"'Data Siswa'!D25","v":0},null,null,null,null,null,null,null,null,null,null,null,null,null,null,null,null,null,null,null,null,null,null,null,null,0,null,{"$error":"#N/A"},0,{"$error":"#N/A"},{"$error":"#N/A"},0,{"$error":"#N/A"}]
[null,21,{"$f":"'Data Siswa'!D26","v":0},null,null,null,null,null,null,null,null,null,null,null,null,null,null,null,null,null,null,null,null,null,null,null,null,0,null,{"$error":"#N/A"},0,{"$error":"#N/A"},{"$error":"#N/A"},0,{"$error":"#N/A"}]
[null,22,{"$f":"'Data Siswa'!D27","v":0},null,null,null,null,null,null,null,null,null,null,null,null,null,null,null,null,null,null,null,null,null,null,null,null,0,null,{"$error":"#N/A"},0,{"$error":"#N/A"},{"$error":"#N/A"},0,{"$error":"#N/A"}]
[null,23,{"$f":"'Data Siswa'!D28","v":0},null,null,null,null,null,null,null,null,null,null,null,null,null,null,null,null,null,null,null,null,null,null,null,null,0,null,{"$error":"#N/A"},0,{"$error":"#N/A"},{"$error":"#N/A"},0,{"$error":"#N/A"}]
[null,24,{"$f":"'Data Siswa'!D29","v":0},null,null,null,null,null,null,null,null,null,null,null,null,null,null,null,null,null,null,null,null,null,null,null,null,0,null,{"$error":"#N/A"},0,{"$error":"#N/A"},{"$error":"#N/A"},0,{"$error":"#N/A"}]
[null,25,{"$f":"'Data Siswa'!D30","v":0},null,null,null,null,null,null,null,null,null,null,null,null,null,null,null,null,null,null,null,null,null,null,null,null,0,null,{"$error":"#N/A"},0,{"$error":"#N/A"},{"$error":"#N/A"},0,{"$error":"#N/A"}]
[null,26,{"$f":"'Data Siswa'!D31","v":0},null,null,null,null,null,null,null,null,null,null,null,null,null,null,null,null,null,null,null,null,null,null,null,null,0,null,{"$error":"#N/A"},0,{"$error":"#N/A"},{"$error":"#N/A"},0,{"$error":"#N/A"}]
[null,27,{"$f":"'Data Siswa'!D32","v":0},null,null,null,null,null,null,null,null,null,null,null,null,null,null,null,null,null,null,null,null,null,null,null,null,0,null,{"$error":"#N/A"},0,{"$error":"#N/A"},{"$error":"#N/A"},0,{"$error":"#N/A"}]
[null,28,{"$f":"'Data Siswa'!D33","v":0},null,null,null,null,null,null,null,null,null,null,null,null,null,null,null,null,null,null,null,null,null,null,null,null,0,null,{"$error":"#N/A"},0,{"$error":"#N/A"},{"$error":"#N/A"},0,{"$error":"#N/A"}]
[null,29,{"$f":"'Data Siswa'!D34","v":0},null,null,null,null,null,null,null,null,null,null,null,null,null,null,null,null,null,null,null,null,null,null,null,null,0,null,{"$error":"#N/A"},0,{"$error":"#N/A"},{"$error":"#N/A"},0,{"$error":"#N/A"}]
[null,30,{"$f":"'Data Siswa'!D35","v":0},null,null,null,null,null,null,null,null,null,null,null,null,null,null,null,null,null,null,null,null,null,null,null,null,0,null,{"$error":"#N/A"},0,{"$error":"#N/A"},{"$error":"#N/A"},0,{"$error":"#N/A"}]
[null,31,{"$f":"'Data Siswa'!D36","v":0},null,null,null,null,null,null,null,null,null,null,null,null,null,null,null,null,null,null,null,null,null,null,null,null,0,null,{"$error":"#N/A"},0,{"$error":"#N/A"},{"$error":"#N/A"},0,{"$error":"#N/A"}]
[null,32,{"$f":"'Data Siswa'!D37","v":0},null,null,null,null,null,null,null,null,null,null,null,null,null,null,null,null,null,null,null,null,null,null,null,null,0,null,{"$error":"#N/A"},0,{"$error":"#N/A"},{"$error":"#N/A"},0,{"$error":"#N/A"}]
[null,33,{"$f":"'Data Siswa'!D38","v":0},null,null,null,null,null,null,null,null,null,null,null,null,null,null,null,null,null,null,null,null,null,null,null,null,0,null,{"$error":"#N/A"},0,{"$f":"C44&\" sangat menguasai dalam \"&AD44","v":{"$error":"#N/A"}},{"$error":"#N/A"},0,{"$f":"C44&\" perlu bimbingan dalam \"&AG44","v":{"$error":"#N/A"}}]
[null,34,{"$f":"'Data Siswa'!D39","v":0},null,null,null,null,null,null,null,null,null,null,null,null,null,null,null,null,null,null,null,null,null,null,null,null,0,null,{"$error":"#N/A"},0,{"$error":"#N/A"},{"$error":"#N/A"},0,{"$error":"#N/A"}]
[null,35,{"$f":"'Data Siswa'!D40","v":0},null,null,null,null,null,null,null,null,null,null,null,null,null,null,null,null,null,null,null,null,null,null,null,null,0,null,{"$error":"#N/A"},0,{"$error":"#N/A"},{"$error":"#N/A"},0,{"$error":"#N/A"}]
[null,36,{"$f":"'Data Siswa'!D41","v":0},null,null,null,null,null,null,null,null,null,null,null,null,null,null,null,null,null,null,null,null,null,null,null,null,0,null,{"$error":"#N/A"},0,{"$error":"#N/A"},{"$error":"#N/A"},0,{"$error":"#N/A"}]
[null,37,{"$f":"'Data Siswa'!D42","v":0},null,null,null,null,null,null,null,null,null,null,null,null,null,null,null,null,null,null,null,null,null,null,null,null,0,null,{"$error":"#N/A"},0,{"$error":"#N/A"},{"$error":"#N/A"},0,{"$error":"#N/A"}]
[null,38,{"$f":"'Data Siswa'!D43","v":0},null,null,null,null,null,null,null,null,null,null,null,null,null,null,null,null,null,null,null,null,null,null,null,null,0,null,{"$error":"#N/A"},0,{"$error":"#N/A"},{"$error":"#N/A"},0,{"$error":"#N/A"}]
[null,39,{"$f":"'Data Siswa'!D44","v":0},null,null,null,null,null,null,null,null,null,null,null,null,null,null,null,null,null,null,null,null,null,null,null,null,0,null,{"$error":"#N/A"},0,{"$error":"#N/A"},{"$error":"#N/A"},0,{"$error":"#N/A"}]
[null,40,{"$f":"'Data Siswa'!D45","v":0},null,null,null,null,null,null,null,null,null,null,null,null,null,null,null,null,null,null,null,null,null,null,null,null,0,null,{"$error":"#N/A"},0,{"$error":"#N/A"},{"$error":"#N/A"},0,{"$error":"#N/A"}]
[null,41,{"$f":"'Data Siswa'!D46","v":0},null,null,null,null,null,null,null,null,null,null,null,null,null,null,null,null,null,null,null,null,null,null,null,null,0,null,{"$error":"#N/A"},0,{"$error":"#N/A"},{"$error":"#N/A"},0,{"$error":"#N/A"}]
[null,42,{"$f":"'Data Siswa'!D47","v":0},null,null,null,null,null,null,null,null,null,null,null,null,null,null,null,null,null,null,null,null,null,null,null,null,0,null,{"$error":"#N/A"},0,{"$error":"#N/A"},{"$error":"#N/A"},0,{"$error":"#N/A"}]
[null,43,{"$f":"'Data Siswa'!D48","v":0},null,null,null,null,null,null,null,null,null,null,null,null,null,null,null,null,null,null,null,null,null,null,null,null,0,null,{"$error":"#N/A"},0,{"$error":"#N/A"},{"$error":"#N/A"},0,{"$error":"#N/A"}]
[null,44,{"$f":"'Data Siswa'!D49","v":0},null,null,null,null,null,null,null,null,null,null,null,null,null,null,null,null,null,null,null,null,null,null,null,null,0,null,{"$error":"#N/A"},0,{"$error":"#N/A"},{"$error":"#N/A"},0,{"$error":"#N/A"}]
[null,45,{"$f":"'Data Siswa'!D50","v":0},null,null,null,null,null,null,null,null,null,null,null,null,null,null,null,null,null,null,null,null,null,null,null,null,0,null,{"$error":"#N/A"},0,{"$error":"#N/A"},{"$error":"#N/A"},0,{"$error":"#N/A"}]
[null,46,{"$f":"'Data Siswa'!D51","v":0},null,null,null,null,null,null,null,null,null,null,null,null,null,null,null,null,null,null,null,null,null,null,null,null,0,null,{"$error":"#N/A"},0,{"$error":"#N/A"},{"$error":"#N/A"},0,{"$error":"#N/A"}]
[null,47,{"$f":"'Data Siswa'!D52","v":0},null,null,null,null,null,null,null,null,null,null,null,null,null,null,null,null,null,null,null,null,null,null,null,null,{"$f":"IFERROR(AVERAGE(D58:AA58),0)","v":0},null,{"$error":"#N/A"},0,{"$error":"#N/A"},{"$error":"#N/A"},0,{"$error":"#N/A"}]
[null,48,{"$f":"'Data Siswa'!D53","v":0},null,null,null,null,null,null,null,null,null,null,null,null,null,null,null,null,null,null,null,null,null,null,null,null,0,null,{"$error":"#N/A"},0,{"$error":"#N/A"},{"$error":"#N/A"},0,{"$error":"#N/A"}]
[null,49,{"$f":"'Data Siswa'!D54","v":0},null,null,null,null,null,null,null,null,null,null,null,null,null,null,null,null,null,null,null,null,null,null,null,null,0,null,{"$error":"#N/A"},0,{"$error":"#N/A"},{"$error":"#N/A"},0,{"$error":"#N/A"}]
[null,50,{"$f":"'Data Siswa'!D55","v":0},null,null,null,null,null,null,null,null,null,null,null,null,null,null,null,null,null,null,null,null,null,null,null,null,0,null,{"$error":"#N/A"},0,{"$error":"#N/A"},{"$error":"#N/A"},0,{"$error":"#N/A"}]
[null,"RATA-RATA",null,{"$f":"IFERROR(AVERAGE(D12:D61),0)","v":0},{"$f":"IFERROR(AVERAGE(E12:E61),0)","v":0},0,0,0,0,0,0,0,0,0,0,0,0,0,0,0,0,0,0,0,0,0,0]

{"sheet":"IDENTITAS","index":45,"n_rows":23,"n_cols":10,"rows_kept":23,"cut":false,"hidden":false,"merged":[[1,0,1,10],[18,8,18,10]]}
[]
["IDENTITAS SEKOLAH"]
[]
[null,"Nama Sekolah",":",null,null,"No","Mata Pelajaran",null,"No.","Ekstrakurikuler"]
[null,"NPSN",":",null,null,1,"Pendidikan Agama",null,1]
[null,"NSS",":",null,null,2,"Pendidikan Pancasila dan Kewarganegaraan",null,2]
[null,"Alamat Sekolah",":",null,null,3,"Bahasa Indonesia",null,3]
[null,"Kode Pos",":",null,null,4,"Matematika"]
[null,"Desa / Kelurahan",":",null,null,5,"Ilmu Pengetahuan Alam dan Sosial"]
[null,"Kecamatan",":",null,null,6,"Seni (Pilihan)",null,1,"Tuliskan Muatan Lokal yang"]
[null,"Kabupaten / Kota",":",null,null,"a","Seni Musik",null,null,"diselenggarakan oleh sekolah"]
[null,"Provinsi",":",null,null,"b","Seni Tari",null,2,"Tuliskan Ekstrakurikuler yang"]
[null,"Website",":",null,null,"c","Seni Rupa",null,null,"diselenggarakan oleh sekolah"]
[null,"E-mail",":",null,null,"d","Seni Teater",null,3,"Untuk pengisian NIP diawali "]
[null,"Nama Kepala Sekolah",":",null,null,7,"Pendidikan Jasmani dan Olahraga",null,null,"dengan tanda koma atas ( ' )"]
[null,"NIP",":",null,null,8,"Bahasa Inggris *",null,4,"Isilah pada kolom yang "]
[null,"Nama Guru Kelas",":",null,null,null,null,null,null,"berwarna putih saja"]
[null,"NIP",":"]
[null,"Kelas",":",null,null,null,null,null,"K E T E R A N G A N"]
[null,"Fase",":",null,null,"No","Muatan Lokal"]
[null,"Semester",":",null,null,1,null,null,null,"Kembali ke halaman awal"]
[null,"Tahun Pelajaran",":",null,null,2,null,null,null,"Kembali ke halaman sebelumnya"]
[null,"Tempat/Tanggal Rapor",":"]

{"sheet":"EKSTRA","index":46,"n_rows":55,"n_cols":14,"rows_kept":55,"cut":false,"hidden":false,"merged":[[1,5,3,5],[1,10,3,10],[1,6,3,6],[1,7,3,7],[1,8,3,8],[1,9,3,9],[1,0,3,0],[1,1,3,1],[1,2,3,2],[1,3,3,3],[1,4,3,4]]}
[]
["NO","NIS","NISN","NAMA PESERTA DIDIK","L/P",{"$f":"IDENTITAS!J5","v":0},{"$f":"\"Deskripsi \"&F2","v":"Deskripsi 0"},{"$f":"IDENTITAS!J6","v":0},{"$f":"\"Deskripsi \"&H2","v":"Deskripsi 0"},{"$f":"IDENTITAS!J7","v":0},{"$f":"\"Deskripsi \"&J2","v":"Deskripsi 0"}]
[]
[]
[1,2,3,4,5,6,7,8,9,10,11]
[1,{"$f":"'Data Siswa'!B6","v":0},{"$f":"'Data Siswa'!C6","v":0},{"$f":"'Data Siswa'!D6","v":0},{"$f":"'Data Siswa'!E6","v":0},null,null,null,null,null,null,null,null,"Keterangan"]
[2,{"$f":"'Data Siswa'!B7","v":0},{"$f":"'Data Siswa'!C7","v":0},{"$f":"'Data Siswa'!D7","v":0},{"$f":"'Data Siswa'!E7","v":0}]
[3,{"$f":"'Data Siswa'!B8","v":0},{"$f":"'Data Siswa'!C8","v":0},{"$f":"'Data Siswa'!D8","v":0},{"$f":"'Data Siswa'!E8","v":0},null,null,null,null,null,null,null,null,"Sangat Berkembang"]
[4,{"$f":"'Data Siswa'!B9","v":0},{"$f":"'Data Siswa'!C9","v":0},{"$f":"'Data Siswa'!D9","v":0},{"$f":"'Data Siswa'!E9","v":0},null,null,null,null,null,null,null,null,"Berkembang"]
[5,{"$f":"'Data Siswa'!B10","v":0},{"$f":"'Data Siswa'!C10","v":0},{"$f":"'Data Siswa'!D10","v":0},{"$f":"'Data Siswa'!E10","v":0},null,null,null,null,null,null,null,null,"Cukup Berkembang"]
[6,{"$f":"'Data Siswa'!B11","v":0},{"$f":"'Data Siswa'!C11","v":0},{"$f":"'Data Siswa'!D11","v":0},{"$f":"'Data Siswa'!E11","v":0},null,null,null,null,null,null,null,null,"Mulai Berkembang"]
[7,{"$f":"'Data Siswa'!B12","v":0},{"$f":"'Data Siswa'!C12","v":0},{"$f":"'Data Siswa'!D12","v":0},{"$f":"'Data Siswa'!E12","v":0}]
[8,{"$f":"'Data Siswa'!B13","v":0},{"$f":"'Data Siswa'!C13","v":0},{"$f":"'Data Siswa'!D13","v":0},{"$f":"'Data Siswa'!E13","v":0}]
[9,{"$f":"'Data Siswa'!B14","v":0},{"$f":"'Data Siswa'!C14","v":0},{"$f":"'Data Siswa'!D14","v":0},{"$f":"'Data Siswa'!E14","v":0}]
[10,{"$f":"'Data Siswa'!B15","v":0},{"$f":"'Data Siswa'!C15","v":0},{"$f":"'Data Siswa'!D15","v":0},{"$f":"'Data Siswa'!E15","v":0}]
[11,{"$f":"'Data Siswa'!B16","v":0},{"$f":"'Data Siswa'!C16","v":0},{"$f":"'Data Siswa'!D16","v":0},{"$f":"'Data Siswa'!E16","v":0}]
[12,{"$f":"'Data Siswa'!B17","v":0},{"$f":"'Data Siswa'!C17","v":0},{"$f":"'Data Siswa'!D17","v":0},{"$f":"'Data Siswa'!E17","v":0}]
[13,{"$f":"'Data Siswa'!B18","v":0},{"$f":"'Data Siswa'!C18","v":0},{"$f":"'Data Siswa'!D18","v":0},{"$f":"'Data Siswa'!E18","v":0}]
[14,{"$f":"'Data Siswa'!B19","v":0},{"$f":"'Data Siswa'!C19","v":0},{"$f":"'Data Siswa'!D19","v":0},{"$f":"'Data Siswa'!E19","v":0}]
[15,{"$f":"'Data Siswa'!B20","v":0},{"$f":"'Data Siswa'!C20","v":0},{"$f":"'Data Siswa'!D20","v":0},{"$f":"'Data Siswa'!E20","v":0}]
[16,{"$f":"'Data Siswa'!B21","v":0},{"$f":"'Data Siswa'!C21","v":0},{"$f":"'Data Siswa'!D21","v":0},{"$f":"'Data Siswa'!E21","v":0}]
[17,{"$f":"'Data Siswa'!B22","v":0},{"$f":"'Data Siswa'!C22","v":0},{"$f":"'Data Siswa'!D22","v":0},{"$f":"'Data Siswa'!E22","v":0}]
[18,{"$f":"'Data Siswa'!B23","v":0},{"$f":"'Data Siswa'!C23","v":0},{"$f":"'Data Siswa'!D23","v":0},{"$f":"'Data Siswa'!E23","v":0}]
[19,{"$f":"'Data Siswa'!B24","v":0},{"$f":"'Data Siswa'!C24","v":0},{"$f":"'Data Siswa'!D24","v":0},{"$f":"'Data Siswa'!E24","v":0}]
[20,{"$f":"'Data Siswa'!B25","v":0},{"$f":"'Data Siswa'!C25","v":0},{"$f":"'Data Siswa'!D25","v":0},{"$f":"'Data Siswa'!E25","v":0}]
[21,{"$f":"'Data Siswa'!B26","v":0},{"$f":"'Data Siswa'!C26","v":0},{"$f":"'Data Siswa'!D26","v":0},{"$f":"'Data Siswa'!E26","v":0}]
[22,{"$f":"'Data Siswa'!B27","v":0},{"$f":"'Data Siswa'!C27","v":0},{"$f":"'Data Siswa'!D27","v":0},{"$f":"'Data Siswa'!E27","v":0}]
[23,{"$f":"'Data Siswa'!B28","v":0},{"$f":"'Data Siswa'!C28","v":0},{"$f":"'Data Siswa'!D28","v":0},{"$f":"'Data Siswa'!E28","v":0}]
[24,{"$f":"'Data Siswa'!B29","v":0},{"$f":"'Data Siswa'!C29","v":0},{"$f":"'Data Siswa'!D29","v":0},{"$f":"'Data Siswa'!E29","v":0}]
[25,{"$f":"'Data Siswa'!B30","v":0},{"$f":"'Data Siswa'!C30","v":0},{"$f":"'Data Siswa'!D30","v":0},{"$f":"'Data Siswa'!E30","v":0}]
[26,{"$f":"'Data Siswa'!B31","v":0},{"$f":"'Data Siswa'!C31","v":0},{"$f":"'Data Siswa'!D31","v":0},{"$f":"'Data Siswa'!E31","v":0}]
[27,{"$f":"'Data Siswa'!B32","v":0},{"$f":"'Data Siswa'!C32","v":0},{"$f":"'Data Siswa'!D32","v":0},{"$f":"'Data Siswa'!E32","v":0}]
[28,{"$f":"'Data Siswa'!B33","v":0},{"$f":"'Data Siswa'!C33","v":0},{"$f":"'Data Siswa'!D33","v":0},{"$f":"'Data Siswa'!E33","v":0}]
[29,{"$f":"'Data Siswa'!B34","v":0},{"$f":"'Data Siswa'!C34","v":0},{"$f":"'Data Siswa'!D34","v":0},{"$f":"'Data Siswa'!E34","v":0}]
[30,{"$f":"'Data Siswa'!B35","v":0},{"$f":"'Data Siswa'!C35","v":0},{"$f":"'Data Siswa'!D35","v":0},{"$f":"'Data Siswa'!E35","v":0}]
[31,{"$f":"'Data Siswa'!B36","v":0},{"$f":"'Data Siswa'!C36","v":0},{"$f":"'Data Siswa'!D36","v":0},{"$f":"'Data Siswa'!E36","v":0}]
[32,{"$f":"'Data Siswa'!B37","v":0},{"$f":"'Data Siswa'!C37","v":0},{"$f":"'Data Siswa'!D37","v":0},{"$f":"'Data Siswa'!E37","v":0}]
[33,{"$f":"'Data Siswa'!B38","v":0},{"$f":"'Data Siswa'!C38","v":0},{"$f":"'Data Siswa'!D38","v":0},{"$f":"'Data Siswa'!E38","v":0}]
[34,{"$f":"'Data Siswa'!B39","v":0},{"$f":"'Data Siswa'!C39","v":0},{"$f":"'Data Siswa'!D39","v":0},{"$f":"'Data Siswa'!E39","v":0}]
[35,{"$f":"'Data Siswa'!B40","v":0},{"$f":"'Data Siswa'!C40","v":0},{"$f":"'Data Siswa'!D40","v":0},{"$f":"'Data Siswa'!E40","v":0}]
[36,{"$f":"'Data Siswa'!B41","v":0},{"$f":"'Data Siswa'!C41","v":0},{"$f":"'Data Siswa'!D41","v":0},{"$f":"'Data Siswa'!E41","v":0}]
[37,{"$f":"'Data Siswa'!B42","v":0},{"$f":"'Data Siswa'!C42","v":0},{"$f":"'Data Siswa'!D42","v":0},{"$f":"'Data Siswa'!E42","v":0}]
[38,{"$f":"'Data Siswa'!B43","v":0},{"$f":"'Data Siswa'!C43","v":0},{"$f":"'Data Siswa'!D43","v":0},{"$f":"'Data Siswa'!E43","v":0}]
[39,{"$f":"'Data Siswa'!B44","v":0},{"$f":"'Data Siswa'!C44","v":0},{"$f":"'Data Siswa'!D44","v":0},{"$f":"'Data Siswa'!E44","v":0}]
[40,{"$f":"'Data Siswa'!B45","v":0},{"$f":"'Data Siswa'!C45","v":0},{"$f":"'Data Siswa'!D45","v":0},{"$f":"'Data Siswa'!E45","v":0}]
[41,{"$f":"'Data Siswa'!B46","v":0},{"$f":"'Data Siswa'!C46","v":0},{"$f":"'Data Siswa'!D46","v":0},{"$f":"'Data Siswa'!E46","v":0}]
[42,{"$f":"'Data Siswa'!B47","v":0},{"$f":"'Data Siswa'!C47","v":0},{"$f":"'Data Siswa'!D47","v":0},{"$f":"'Data Siswa'!E47","v":0}]
[43,{"$f":"'Data Siswa'!B48","v":0},{"$f":"'Data Siswa'!C48","v":0},{"$f":"'Data Siswa'!D48","v":0},{"$f":"'Data Siswa'!E48","v":0}]
[44,{"$f":"'Data Siswa'!B49","v":0},{"$f":"'Data Siswa'!C49","v":0},{"$f":"'Data Siswa'!D49","v":0},{"$f":"'Data Siswa'!E49","v":0}]
[45,{"$f":"'Data Siswa'!B50","v":0},{"$f":"'Data Siswa'!C50","v":0},{"$f":"'Data Siswa'!D50","v":0},{"$f":"'Data Siswa'!E50","v":0}]
[46,{"$f":"'Data Siswa'!B51","v":0},{"$f":"'Data Siswa'!C51","v":0},{"$f":"'Data Siswa'!D51","v":0},{"$f":"'Data Siswa'!E51","v":0}]
[47,{"$f":"'Data Siswa'!B52","v":0},{"$f":"'Data Siswa'!C52","v":0},{"$f":"'Data Siswa'!D52","v":0},{"$f":"'Data Siswa'!E52","v":0}]
[48,{"$f":"'Data Siswa'!B53","v":0},{"$f":"'Data Siswa'!C53","v":0},{"$f":"'Data Siswa'!D53","v":0},{"$f":"'Data Siswa'!E53","v":0}]
[49,{"$f":"'Data Siswa'!B54","v":0},{"$f":"'Data Siswa'!C54","v":0},{"$f":"'Data Siswa'!D54","v":0},{"$f":"'Data Siswa'!E54","v":0}]
[50,{"$f":"'Data Siswa'!B55","v":0},{"$f":"'Data Siswa'!C55","v":0},{"$f":"'Data Siswa'!D55","v":0},{"$f":"'Data Siswa'!E55","v":0}]

{"sheet":"SAMPUL","index":47,"n_rows":104,"n_cols":11,"rows_kept":104,"cut":false,"hidden":false,"merged":[[42,2,42,8],[43,2,43,8],[64,2,64,8],[41,2,41,8],[69,6,69,8],[26,2,26,8],[28,2,28,8],[37,2,37,8],[38,2,38,8],[12,2,12,8],[13,2,13,8],[14,2,14,8],[15,2,15,8],[22,2,22,8],[24,2,24,8]]}
[]
[null,null,null,null,null,null,null,null,null,null,1]
[]
[]
[]
[]
[]
[]
[]
[]
[]
[]
[null,null,"R A P O R "]
[null,null,"PESERTA DIDIK"]
[null,null,"SEKOLAH DASAR"]
[null,null,"(SD)"]
[]
[]
[]
[]
[]
[]
[null,null,"Nama Peserta Didik :"]
[]
[null,null,{"$f":"VLOOKUP($K$2,'Data Siswa'!$A$6:$AP$55,4,FALSE)","v":0}]
[]
[null,null,"NISN / NIS"]
[]
[null,null,{"$f":"VLOOKUP($K$2,'Data Siswa'!$A$6:$AP$55,3,FALSE)&\" / \"&VLOOKUP($K$2,'Data Siswa'!$A$6:$AP$55,2,FALSE)","v":" / "}]
[]
[]
[]
[]
[]
[]
[]
[]
[null,null,"KEMENTERIAN PENDIDIKAN DAN KEBUDAYAAN"]
[null,null,"REPUBLIK INDONESIA"]
[]
[]
[null,null,"R A P O R"]
[null,null,"PESERTA DIDIK"]
[null,null,"SEKOLAH DASAR ( SD )"]
[]
[]
[]
[]
[null,null,null,"Nama Sekolah",null,{"$f":"\":  \"&IDENTITAS!D4","v":":  "}]
[null,null,null,"NPSN",null,{"$f":"\":  \"&IDENTITAS!D5","v":":  "}]
[null,null,null,"Alamat Sekolah",null,{"$f":"\":  \"&IDENTITAS!D7","v":":  "}]
[null,null,null,"Kode Pos",null,{"$f":"\":  \"&IDENTITAS!D8","v":":  "}]
[null,null,null,"Desa / Kelurahan",null,{"$f":"\":  \"&IDENTITAS!D9","v":":  "}]
[null,null,null,"Kecamatan",null,{"$f":"\":  \"&IDENTITAS!D10","v":":  "}]
[null,null,null,"Kabupaten / Kota",null,{"$f":"\":  \"&IDENTITAS!D11","v":":  "}]
[null,null,null,"Provinsi",null,{"$f":"\":  \"&IDENTITAS!D12","v":":  "}]
[null,null,null,"Website",null,{"$f":"\":  \"&IDENTITAS!D13","v":":  "}]
[null,null,null,"E-mail",null,{"$f":"\":  \"&IDENTITAS!D14","v":":  "}]
[]
[]
[]
[]
[]
[]
[null,null,"IDENTITAS PESERTA DIDIK"]
[]
[]
[null,null,null,"Nama Peserta Didik",null,{"$f":"\":  \"&VLOOKUP($K$2,'Data Siswa'!A6:AP55,4,FALSE)","v":":  "}]
[null,null,null,"NISN / NIS",null,{"$f":"\": \"&VLOOKUP($K$2,'Data Siswa'!$A$6:$AP$55,3,FALSE)&\" / \"&VLOOKUP($K$2,'Data Siswa'!A6:AP55,2,FALSE)","v":":  / "}]
[null,null,null,"Tempat, Tanggal Lahir",null,{"$f":"\":  \"&VLOOKUP($K$2,'Data Siswa'!$A$6:$AP$55,6,FALSE)&\" , \"","v":":   , "},{"$f":"VLOOKUP($K$2,'Data Siswa'!$A$6:$AP$55,7,FALSE)","v":"00:00:00"}]
[null,null,null,"Jenis Kelamin",null,{"$f":"\":  \"&IF(VLOOKUP($K$2,'Data Siswa'!$A$6:$AP$55,5,FALSE)=\"P\",\"Perempuan\",\"Laki-Laki\")","v":":  Laki-Laki"}]
[null,null,null,"Agama",null,{"$f":"\":  \"&VLOOKUP($K$2,'Data Siswa'!$A$6:$AP$55,8,FALSE)","v":":  "}]
[null,null,null,"Pendidikan sebelumnya",null,{"$f":"\":  \"&VLOOKUP($K$2,'Data Siswa'!$A$6:$AP$55,9,FALSE)","v":":  "}]
[null,null,null,"Alamat Peserta Didik",null,{"$f":"\":  \"&VLOOKUP($K$2,'Data Siswa'!$A$6:$AP$55,10,FALSE)","v":":  "}]
[]
[null,null,null,"Nama Orang Tua"]
[null,null,null,"Ayah",null,{"$f":"\":  \"&VLOOKUP($K$2,'Data Siswa'!$A$6:$AP$55,11,FALSE)","v":":  "}]
[null,null,null,"Ibu",null,{"$f":"\":  \"&VLOOKUP($K$2,'Data Siswa'!$A$6:$AP$55,12,FALSE)","v":":  "}]
[]
[null,null,null,"Pekerjaan Orang Tua"]
[null,null,null,"Ayah",null,{"$f":"\":  \"&VLOOKUP($K$2,'Data Siswa'!$A$6:$AP$55,13,FALSE)","v":":  "}]
[null,null,null,"Ibu",null,{"$f":"\":  \"&VLOOKUP($K$2,'Data Siswa'!$A$6:$AP$55,14,FALSE)","v":":  "}]
[]
[null,null,null,"Alamat Orang Tua"]
[null,null,null,"Jalan",null,{"$f":"\":  \"&VLOOKUP($K$2,'Data Siswa'!$A$6:$AP$55,15,FALSE)","v":":  "}]
[null,null,null,"Kelurahan/Desa",null,{"$f":"\":  \"&VLOOKUP($K$2,'Data Siswa'!$A$6:$AP$55,16,FALSE)","v":":  "}]
[null,null,null,"Kecamatan",null,{"$f":"\":  \"&VLOOKUP($K$2,'Data Siswa'!$A$6:$AP$55,17,FALSE)","v":":  "}]
[null,null,null,"Kabupaten / Kota",null,{"$f":"\":  \"&VLOOKUP($K$2,'Data Siswa'!$A$6:$AP$55,18,FALSE)","v":":  "}]
[null,null,null,"Provinsi",null,{"$f":"\":  \"&VLOOKUP($K$2,'Data Siswa'!$A$6:$AP$55,19,FALSE)","v":":  "}]
[]
[null,null,null,"Wali Peserta Didik"]
[null,null,null,"Nama",null,{"$f":"\":  \"&VLOOKUP($K$2,'Data Siswa'!$A$6:$AP$55,20,FALSE)","v":":  "}]
[null,null,null,"Pekerjaan",null,{"$f":"\":  \"&VLOOKUP($K$2,'Data Siswa'!$A$6:$AP$55,21,FALSE)","v":":  "}]
[null,null,null,"Alamat",null,{"$f":"\":  \"&VLOOKUP($K$2,'Data Siswa'!$A$6:$AP$55,22,FALSE)","v":":  "}]
[]
[]
[]
[null,null,null,null,null,null,null,{"$f":"IDENTITAS!D23","v":0}]
[null,null,null,null,null,null,null,"Kepala Sekolah,"]
[]
[]
[]
[null,null,null,null,null,null,null,{"$f":"IDENTITAS!D15","v":0}]
[null,null,null,null,null,null,null,{"$f":"\"NIP. \"&IDENTITAS!D16","v":"NIP. "}]

{"sheet":"Data Siswa","index":48,"n_rows":55,"n_cols":42,"rows_kept":55,"cut":false,"hidden":false,"merged":[[1,31,2,34],[1,35,2,37],[1,38,2,40],[1,41,2,41],[1,23,2,26],[1,27,2,28],[1,29,2,30],[1,0,3,0],[1,1,3,1],[1,2,3,2],[1,3,3,3],[1,4,3,4],[1,5,3,5],[1,19,2,22],[2,10,3,10],[2,11,3,11],[2,12,3,12],[2,13,3,13],[1,10,1,18],[2,14,2,18],[1,6,3,6],[1,7,3,7],[1,8,3,8],[1,9,3,9]]}
[]
["NO","NIS","NISN","NAMA PESERTA DIDIK","L/P","TEMPAT LAHIR","TANGGAL LAHIR","AGAMA","PENDIDIKAN SEBELUMNYA","ALAMAT PESERTA DIDIK","ORANG TUA",null,null,null,null,null,null,null,null,"WALI PESERTA DIDIK",null,null,null,"KEGIATAN EKTRAKURIKULER",null,null,null,"Tinggi Badan",null,"Berat Badan",null,"Kondisi Kesehatan",null,null,null,"Prestasi",null,null,"KEHADIRAN",null,null,"SARAN - SARAN"]
[null,null,null,null,null,null,null,null,null,null,"NAMA AYAH","NAMA IBU","PEKERJAAN AYAH","PEKERJAAN IBU","ALAMAT ORANG TUA"]
[null,null,null,null,null,null,null,null,null,null,null,null,null,null,"JALAN","KELURAHAN/  DESA","KECAMATAN","KAB./KOTA","PROPINSI","NAMA WALI","PEKERJAAN","ALAMAT WALI","NOMOR TELEPHON",{"$f":"IDENTITAS!J5","v":0},{"$f":"IDENTITAS!J6","v":0},{"$f":"IDENTITAS!J7","v":0},null,"Semester 1","Semester 2","Semester 1","Semester 2","Pendengaran","Penglihatan","Gigi","…","Kesenian","Olahraga","Sains","S","I","A","SARAN 1"]
[1,2,3,4,5,6,7,8,9,10,11,12,13,14,15,16,17,18,19,20,21,22,23,24,25,26,27,28,29,30,31,32,33,34,35,36,37,38,39,40,41,42]
[1]
[2]
[3,null,null,null,null,null,null,null,null,null,null,null,null,null,null,null,null,null,null,null,null,null,null,"-","-","-","-"]
[4,null,null,null,null,null,null,null,null,null,null,null,null,null,null,null,null,null,null,null,null,null,null,"-","-","-","-"]
[5,null,null,null,null,null,null,null,null,null,null,null,null,null,null,null,null,null,null,null,null,null,null,"-","-","-","-"]
[6,null,null,null,null,null,null,null,null,null,null,null,null,null,null,null,null,null,null,null,null,null,null,"-","-","-","-"]
[7,null,null,null,null,null,null,null,null,null,null,null,null,null,null,null,null,null,null,null,null,null,null,"-","-","-","-"]
[8,null,null,null,null,null,null,null,null,null,null,null,null,null,null,null,null,null,null,null,null,null,null,"-","-","-","-"]
[9,null,null,null,null,null,null,null,null,null,null,null,null,null,null,null,null,null,null,null,null,null,null,"-","-","-","-"]
[10,null,null,null,null,null,null,null,null,null,null,null,null,null,null,null,null,null,null,null,null,null,null,"-","-","-","-"]
[11,null,null,null,null,null,null,null,null,null,null,null,null,null,null,null,null,null,null,null,null,null,null,"-","-","-","-"]
[12,null,null,null,null,null,null,null,null,null,null,null,null,null,null,null,null,null,null,null,null,null,null,"-","-","-","-"]
[13,null,null,null,null,null,null,null,null,null,null,null,null,null,null,null,null,null,null,null,null,null,null,"-","-","-","-"]
[14,null,null,null,null,null,null,null,null,null,null,null,null,null,null,null,null,null,null,null,null,null,null,"-","-","-","-"]
[15,null,null,null,null,null,null,null,null,null,null,null,null,null,null,null,null,null,null,null,null,null,null,"-","-","-","-"]
[16,null,null,null,null,null,null,null,null,null,null,null,null,null,null,null,null,null,null,null,null,null,null,"-","-","-","-"]
[17,null,null,null,null,null,null,null,null,null,null,null,null,null,null,null,null,null,null,null,null,null,null,"-","-","-","-"]
[18,null,null,null,null,null,null,null,null,null,null,null,null,null,null,null,null,null,null,null,null,null,null,"-","-","-","-"]
[19,null,null,null,null,null,null,null,null,null,null,null,null,null,null,null,null,null,null,null,null,null,null,"-","-","-","-"]
[20,null,null,null,null,null,null,null,null,null,null,null,null,null,null,null,null,null,null,null,null,null,null,"-","-","-","-"]
[21,null,null,null,null,null,null,null,null,null,null,null,null,null,null,null,null,null,null,null,null,null,null,"-","-","-","-"]
[22,null,null,null,null,null,null,null,null,null,null,null,null,null,null,null,null,null,null,null,null,null,null,"-","-","-","-"]
[23,null,null,null,null,null,null,null,null,null,null,null,null,null,null,null,null,null,null,null,null,null,null,"-","-","-","-"]
[24,null,null,null,null,null,null,null,null,null,null,null,null,null,null,null,null,null,null,null,null,null,null,"-","-","-","-"]
[25,null,null,null,null,null,null,null,null,null,null,null,null,null,null,null,null,null,null,null,null,null,null,"-","-","-","-"]
[26,null,null,null,null,null,null,null,null,null,null,null,null,null,null,null,null,null,null,null,null,null,null,"-","-","-","-"]
[27,null,null,null,null,null,null,null,null,null,null,null,null,null,null,null,null,null,null,null,null,null,null,"-","-","-","-"]
[28,null,null,null,null,null,null,null,null,null,null,null,null,null,null,null,null,null,null,null,null,null,null,"-","-","-","-"]
[29,null,null,null,null,null,null,null,null,null,null,null,null,null,null,null,null,null,null,null,null,null,null,"-","-","-","-"]
[30,null,null,null,null,null,null,null,null,null,null,null,null,null,null,null,null,null,null,null,null,null,null,"-","-","-","-"]
[31,null,null,null,null,null,null,null,null,null,null,null,null,null,null,null,null,null,null,null,null,null,null,"-","-","-","-"]
[32,null,null,null,null,null,null,null,null,null,null,null,null,null,null,null,null,null,null,null,null,null,null,"-","-","-","-"]
[33,null,null,null,null,null,null,null,null,null,null,null,null,null,null,null,null,null,null,null,null,null,null,"-","-","-","-"]
[34,null,null,null,null,null,null,null,null,null,null,null,null,null,null,null,null,null,null,null,null,null,null,"-","-","-","-"]
[35,null,null,null,null,null,null,null,null,null,null,null,null,null,null,null,null,null,null,null,null,null,null,"-","-","-","-"]
[36,null,null,null,null,null,null,null,null,null,null,null,null,null,null,null,null,null,null,null,null,null,null,"-","-","-","-"]
[37,null,null,null,null,null,null,null,null,null,null,null,null,null,null,null,null,null,null,null,null,null,null,"-","-","-","-"]
[38,null,null,null,null,null,null,null,null,null,null,null,null,null,null,null,null,null,null,null,null,null,null,"-","-","-","-"]
[39,null,null,null,null,null,null,null,null,null,null,null,null,null,null,null,null,null,null,null,null,null,null,"-","-","-","-"]
[40,null,null,null,null,null,null,null,null,null,null,null,null,null,null,null,null,null,null,null,null,null,null,"-","-","-","-"]
[41,null,null,null,null,null,null,null,null,null,null,null,null,null,null,null,null,null,null,null,null,null,null,"-","-","-","-"]
[42,null,null,null,null,null,null,null,null,null,null,null,null,null,null,null,null,null,null,null,null,null,null,"-","-","-","-"]
[43,null,null,null,null,null,null,null,null,null,null,null,null,null,null,null,null,null,null,null,null,null,null,"-","-","-","-"]
[44,null,null,null,null,null,null,null,null,null,null,null,null,null,null,null,null,null,null,null,null,null,null,"-","-","-","-"]
[45,null,null,null,null,null,null,null,null,null,null,null,null,null,null,null,null,null,null,null,null,null,null,"-","-","-","-"]
[46,null,null,null,null,null,null,null,null,null,null,null,null,null,null,null,null,null,null,null,null,null,null,"-","-","-","-"]
[47,null,null,null,null,null,null,null,null,null,null,null,null,null,null,null,null,null,null,null,null,null,null,"-","-","-","-"]
[48,null,null,null,null,null,null,null,null,null,null,null,null,null,null,null,null,null,null,null,null,null,null,"-","-","-","-"]
[49,null,null,null,null,null,null,null,null,null,null,null,null,null,null,null,null,null,null,null,null,null,null,"-","-","-","-"]
[50,null,null,null,null,null,null,null,null,null,null,null,null,null,null,null,null,null,null,null,null,null,null,"-","-","-","-"]

{"sheet":"MUTASI","index":49,"n_rows":90,"n_cols":5,"rows_kept":90,"cut":false,"hidden":false,"merged":[[74,1,74,2],[77,0,77,2],[78,0,78,2],[81,0,81,2],[68,1,68,2],[69,1,69,2],[70,1,70,2],[71,1,71,2],[72,1,72,2],[73,1,73,2],[67,1,67,2],[52,1,52,2],[53,1,53,2],[54,1,54,2],[57,1,57,2],[58,1,58,2],[59,1,59,2],[60,1,60,2],[61,1,61,2],[62,1,62,2],[63,1,63,2],[64,1,64,2],[51,1,51,2],[35,0,35,1],[36,0,36,1],[37,0,37,1],[38,0,38,1],[39,0,39,1],[41,0,41,4],[45,1,45,4],[47,1,47,2],[48,1,48,2],[49,1,49,2],[50,1,50,2],[34,0,34,1],[23,0,23,1],[24,0,24,1],[25,0,25,1],[26,0,26,1],[27,0,27,1],[28,0,28,1],[29,0,29,1],[30,0,30,1],[31,0,31,1],[32,0,32,1],[33,0,33,1],[22,0,22,1],[11,0,11,1],[12,0,12,1],[13,0,13,1],[14,0,14,1],[15,0,15,1],[16,0,16,1],[17,0,17,1],[18,0,18,1],[19,0,19,1],[20,0,20,1],[21,0,21,1],[10,0,10,1],[1,0,1,4],[6,0,6,1],[7,0,7,1],[8,0,8,1],[9,0,9,1]]}
[]
["KETERANGAN PINDAH SEKOLAH"]
[]
[]
["Nama Peserta Didik : ………………………………………………………"]
[]
["Tanggal",null,"Kelas yang Ditinggalkan","Alasan","Tanda Tangan Kepala sekolah, Stempel Sekolah dan Tanda Tangan Orang Tua/Wali"]
[]
[null,null,null,null,"…………., ……………………………………."]
[null,null,null,null,"Kepala Sekolah"]
[]
[null,null,null,null,"____________________________"]
[null,null,null,null,"NIP."]
[]
[null,null,null,null,"Orang Tua/Wali"]
[]
[null,null,null,null,"____________________________"]
[]
[]
[null,null,null,null,"…………., ……………………………………."]
[null,null,null,null,"Kepala Sekolah"]
[]
[null,null,null,null,"____________________________"]
[null,null,null,null,"NIP."]
[]
[null,null,null,null,"Orang Tua/Wali"]
[]
[null,null,null,null,"____________________________"]
[]
[]
[null,null,null,null,"…………., ……………………………………."]
[null,null,null,null,"Kepala Sekolah"]
[]
[null,null,null,null,"____________________________"]
[null,null,null,null,"NIP."]
[]
[null,null,null,null,"Orang Tua/Wali"]
[]
[null,null,null,null,"____________________________"]
[]
[]
["KETERANGAN PINDAH SEKOLAH"]
[]
["Nama Peserta Didik : ………………………………………………………"]
[]
["No.","MASUK"]
[]
["1.","Nama Peserta Didik"]
[null,"Nomor Induk",null,null,"…………., ……………………………………."]
[null,"NISN",null,null,"Kepala Sekolah"]
[null,"Nama Sekolah"]
[null,"Masuk di Sekolah ini :"]
[null,"a. Tanggal",null,null,"____________________________"]
[null,"b. Di Kelas",null,null,"NIP."]
[null,"c. Tahun Pelajaran"]
[]
[]
["1.","Nama Peserta Didik"]
[null,"Nomor Induk",null,null,"…………., ……………………………………."]
[null,"NISN",null,null,"Kepala Sekolah"]
[null,"Nama Sekolah"]
[null,"Masuk di Sekolah ini :"]
[null,"a. Tanggal",null,null,"____________________________"]
[null,"b. Di Kelas",null,null,"NIP."]
[null,"c. Tahun Pelajaran"]
[]
[]
["1.","Nama Peserta Didik"]
[null,"Nomor Induk",null,null,"…………., ……………………………………."]
[null,"NISN",null,null,"Kepala Sekolah"]
[null,"Nama Sekolah"]
[null,"Masuk di Sekolah ini :"]
[null,"a. Tanggal",null,null,"____________________________"]
[null,"b. Di Kelas",null,null,"NIP."]
[null,"c. Tahun Pelajaran"]
[]
[]
["Mengetahui",null,null,null,"………………., ………………………………….."]
["Orang Tua/Wali",null,null,null,"Guru Kelas"]
[]
[]
["…………………………………………………..",null,null,null,"………………………………………………….."]
[null,null,null,null,"NIP………………………………………………"]
[]
[null,null,null,"Mengetahui"]
[null,null,null,"Kepala Sekolah"]
[]
[]
[null,null,null,"………………………………………………….."]
[null,null,null,"NIP………………………………………………"]

{"sheet":"INDUK","index":50,"n_rows":35,"n_cols":10,"rows_kept":35,"cut":false,"hidden":false,"merged":[[31,2,31,5],[26,3,26,5],[26,6,26,7],[27,3,27,5],[28,3,28,5],[29,3,29,5],[27,6,27,7],[28,6,28,7],[29,6,29,7],[24,3,24,6],[13,3,13,6],[14,3,14,6],[15,3,15,6],[16,3,16,6],[17,3,17,6],[18,3,18,6],[19,3,19,6],[20,3,20,6],[21,3,21,6],[22,2,22,7],[23,3,23,6],[1,0,1,8],[9,3,9,6],[10,3,10,6],[11,3,11,6],[12,3,12,6]]}
[]
["BUKU INDUK",null,null,null,null,null,null,null,null,1]
[]
[null,"Nama Peserta Didik",null,{"$f":"\": \"&VLOOKUP($J$2,'Data Siswa'!$A$6:$D$55,4,FALSE)","v":": "},null,null,"Kelas",null,{"$f":"\": \"&IDENTITAS!D19","v":": "}]
[null,"NISN",null,{"$f":"\": \"&VLOOKUP($J$2,'Data Siswa'!$A$6:$D$55,3,FALSE)","v":": "},null,null,"Fase",null,{"$f":"\": \"&IDENTITAS!D20","v":": "}]
[null,"Sekolah",null,{"$f":"\": \"&IDENTITAS!D4","v":": "},null,null,"Semester",null,{"$f":"\": \"&IDENTITAS!D21","v":": "}]
[null,"Alamat",null,{"$f":"\": \"&IDENTITAS!D7","v":": "},null,null,"Tahun Pelajaran",null,{"$f":"\": \"&IDENTITAS!D22","v":": "}]
[]
[]
[null,null,"No","Muatan Pelajaran",null,null,null,"Nilai"]
[null,null,1,"Pendidikan Agama",null,null,null,{"$f":"VLOOKUP($J$2,REKAPNA!$B$10:$P$59,3,FALSE)","v":0}]
[null,null,2,"Pendidikan Pancasila dan Kewarganegaraan",null,null,null,{"$f":"VLOOKUP($J$2,REKAPNA!$B$10:$P$59,4,FALSE)","v":0}]
[null,null,3,"Bahasa Indonesia",null,null,null,{"$f":"VLOOKUP($J$2,REKAPNA!$B$10:$P$59,5,FALSE)","v":0}]
[null,null,4,"Matematika",null,null,null,{"$f":"VLOOKUP($J$2,REKAPNA!$B$10:$P$59,6,FALSE)","v":0}]
[null,null,5,"IPAS",null,null,null,{"$f":"VLOOKUP($J$2,REKAPNA!$B$10:$P$59,7,FALSE)","v":0}]
[null,null,6,"Seni "]
[null,null,null,"Seni Musik",null,null,null,{"$f":"VLOOKUP($J$2,REKAPNA!$B$10:$P$59,8,FALSE)","v":0}]
[null,null,null,"Seni Tari",null,null,null,{"$f":"VLOOKUP($J$2,REKAPNA!$B$10:$P$59,9,FALSE)","v":0}]
[null,null,null,"Seni Rupa",null,null,null,{"$f":"VLOOKUP($J$2,REKAPNA!$B$10:$P$59,10,FALSE)","v":0}]
[null,null,null,"Seni Teater",null,null,null,{"$f":"VLOOKUP($J$2,REKAPNA!$B$10:$P$59,11,FALSE)","v":0}]
[null,null,7,"PJOK",null,null,null,{"$f":"VLOOKUP($J$2,REKAPNA!$B$10:$P$59,12,FALSE)","v":0}]
[null,null,8,"Bahasa Inggris *",null,null,null,{"$f":"VLOOKUP($J$2,REKAPNA!$B$10:$P$59,13,FALSE)","v":0}]
[null,null,"MUATAN LOKAL"]
[null,null,9,{"$f":"IDENTITAS!G21","v":0},null,null,null,{"$f":"VLOOKUP($J$2,REKAPNA!$B$10:$P$59,14,FALSE)","v":0}]
[null,null,10,{"$f":"IDENTITAS!G22","v":0},null,null,null,{"$f":"VLOOKUP($J$2,REKAPNA!$B$10:$P$59,15,FALSE)","v":0}]
[]
[null,null,"No","EKSTRAKURIKULER",null,null,"PREDIKAT"]
[null,null,1,{"$f":"IDENTITAS!J5","v":0},null,null,{"$f":"VLOOKUP($J$2,EKSTRA!$A$6:$K$55,6,FALSE)","v":0}]
[null,null,2,{"$f":"IDENTITAS!J6","v":0},null,null,{"$f":"VLOOKUP($J$2,EKSTRA!$A$6:$K$55,8,FALSE)","v":0}]
[null,null,3,{"$f":"IDENTITAS!J7","v":0},null,null,{"$f":"VLOOKUP($J$2,EKSTRA!$A$6:$K$55,10,FALSE)","v":0}]
[]
[null,null,"KETIDAKHADIRAN"]
[null,null,1,"Sakit",{"$f":"IFERROR(VLOOKUP($J$2,'Data Siswa'!$AM$6:$AO$55,1,FALSE),0)","v":0},"hari"]
[null,null,2,"Izin",{"$f":"IFERROR(VLOOKUP($J$2,'Data Siswa'!$AM$6:$AO$55,2,FALSE),0)","v":0},"hari"]
[null,null,3,"Tanpa Keterangan",{"$f":"IFERROR(VLOOKUP($J$2,'Data Siswa'!$AM$6:$AO$55,3,FALSE),0)","v":0},"hari"]